{"text_format":"1","workbook":"xlsx","n_sheets":4,"sheets":["Form","Balance","CMR","Data"],"not_rendered":{"charts":0,"images":1,"macros":1,"external_links":0,"defined_names":172,"comments":0,"pivot_tables":0},"unopened":[],"bounds":{"document_bytes":16777216,"sheet_cells":100000,"rows_first":2000,"rows_last":500,"rows_between":2000,"halvings":0,"cell_chars":16384,"cell_head_chars":4096},"cells_cut":0,"cells_raw":0,"read":"whole","date_system":"1900"}

{"sheet":"Form","index":0,"n_rows":24,"n_cols":18,"rows_kept":24,"cut":false,"hidden":false,"merged":[[28,12,28,13],[25,12,25,13],[27,12,27,13],[26,12,26,13],[17,13,18,15],[13,14,13,15],[2,13,2,14],[3,13,3,14],[6,14,6,15],[5,14,5,15],[2,9,2,12],[3,1,3,7],[3,9,3,12],[2,6,2,7],[2,1,2,5]]}
[null,{"$f":"IF(AND(TIGMODEL>\"\",TIG=\"\"),\"TIG with 4mm glass ONLY (Special order, contact CS)\",IF(AND(TIGMODEL>\"\",TIGBAL=1),\"TIG is NOT Available\",IF(TIG_NOTE>\"\",TIG_NOTE,\"\")))","v":""}]
[null,{"$f":"IF(AND(WSIZE>0,HSIZE>0),\"Only Available At\"&\"  \"&WSIZE&\" x \"&HSIZE&IF(HCONTROL=1,\" or \"&HSIZE2,\"\"),\"\")","v":""},null,null,null,null,null,"Select a Model",null,{"$f":"IF(SHATERROR=1,\"Adjust CMR to Increase Egress Height\",IF(SHAT_MIN_R=1,SHAT_MESSAGE,\"\"))","v":{"$error":"#N/A"}}]
[null,{"$f":"IF(Model_Select=\"Select Model\",\"\",\"(Model\"&\" \"&ModelNo&\")\")","v":""},null,null,null,null,"Select Model",null,null,{"$f":"\"Min. W:\"&\" \"&MINW","v":"Min. W: 0"},null,null,null,{"$f":"\"Max W:\"&\" \"&MAXW","v":"Max W: 0"}]
[null,{"$f":"Description","v":0},null,null,null,null,null,null,null,{"$f":"\"Min. H:\"&\" \"&MINH","v":"Min. H: 0"},null,null,null,{"$f":"\"Max H:\"&\" \"&MAXH","v":"Max H: 0"},null,{"$f":"\"Max UI:\"&\" \"&MAXUI","v":"Max UI: 0"}]
[null,{"$f":"IF(AND(W>0,H>0),(IF(ISERROR(VLOOKUP(1,Data!$A:$D,3,FALSE)),\"\",VLOOKUP(1,Data!$A:$D,3,FALSE))),\"\")","v":""},null,null,null,null,null,{"$f":"IF(AND(W>0,H>0),(IF(ISERROR(VLOOKUP(1,Data!$A:$D,4,FALSE)),\"\",VLOOKUP(1,Data!$A:$D,4,FALSE))),\"\")","v":""},null,null,null,null,null,"Exact Size",null,null,null,{"$f":"IF(AND(W>0,H>0),\"DP:\"&\" \"&DP,\"\")","v":""}]
[null,{"$f":"IF(AND(W>0,H>0),(IF(ISERROR(VLOOKUP(2,Data!$A:$D,3,FALSE)),\"\",VLOOKUP(2,Data!$A:$D,3,FALSE))),\"\")","v":""},null,null,null,null,null,{"$f":"IF(AND(W>0,H>0),(IF(ISERROR(VLOOKUP(2,Data!$A:$D,4,FALSE)),\"\",VLOOKUP(2,Data!$A:$D,4,FALSE))),\"\")","v":""},null,"Width:",null,null,78.5,{"$f":"IF(AND(RO=2,W>0),W-WCUTBACK,W)","v":0},{"$f":"IF(AND(W>0,WSIZE>0,W<>WSIZE),\"<< Width Not Available\",\"\")","v":""}]
[null,{"$f":"IF(AND(W>0,H>0),(IF(ISERROR(VLOOKUP(3,Data!$A:$D,3,FALSE)),\"\",VLOOKUP(3,Data!$A:$D,3,FALSE))),\"\")","v":""},null,null,null,null,null,{"$f":"IF(AND(W>0,H>0),(IF(ISERROR(VLOOKUP(3,Data!$A:$D,4,FALSE)),\"\",VLOOKUP(3,Data!$A:$D,4,FALSE))),\"\")","v":""},null,"Height:",null,null,null,{"$f":"IF(AND(RO=2,H>0),H-HCUTBACK,H)","v":0},{"$f":"IF(AND(H>0,HSIZE>0,HSIZE2>0,H<>HSIZE,H<>HSIZE2),\"<< Height Not Available\",\"\")","v":""}]
[null,{"$f":"IF(AND(W>0,H>0),(IF(ISERROR(VLOOKUP(4,Data!$A:$D,3,FALSE)),\"\",VLOOKUP(4,Data!$A:$D,3,FALSE))),\"\")","v":""},null,null,null,null,null,{"$f":"IF(AND(W>0,H>0),(IF(ISERROR(VLOOKUP(4,Data!$A:$D,4,FALSE)),\"\",VLOOKUP(4,Data!$A:$D,4,FALSE))),\"\")","v":""},null,{"$f":"IF(OR(ModelNo=\"S140\",ModelNo=\"S144\",ModelNo=\"S146\",ModelNo=\"S140 (HP)\",ModelNo=\"S144 (HP)\",ModelNo=\"S146 (HP)\"),\"Leg:\",\"\")","v":""},null,null,null,{"$f":"LEG_MESSAGE","v":""}]
[null,{"$f":"IF(AND(W>0,H>0),(IF(ISERROR(VLOOKUP(5,Data!$A:$D,3,FALSE)),\"\",VLOOKUP(5,Data!$A:$D,3,FALSE))),\"\")","v":""},null,null,null,null,null,{"$f":"IF(AND(W>0,H>0),(IF(ISERROR(VLOOKUP(5,Data!$A:$D,4,FALSE)),\"\",VLOOKUP(5,Data!$A:$D,4,FALSE))),\"\")","v":""},null,{"$f":"IF(BTYPE=\"Custom\",\"CMR:\",\"\")","v":""},null,null,null,{"$f":"IF(AND(W>0,H>0,BTYPE=\"Custom\",CMR=0),\"<< Enter CMR Location\",\"\")","v":""}]
[null,{"$f":"IF(AND(W>0,H>0),(IF(ISERROR(VLOOKUP(6,Data!$A:$D,3,FALSE)),\"\",VLOOKUP(6,Data!$A:$D,3,FALSE))),\"\")","v":""},null,null,null,null,null,{"$f":"IF(AND(W>0,H>0),(IF(ISERROR(VLOOKUP(6,Data!$A:$D,4,FALSE)),\"\",VLOOKUP(6,Data!$A:$D,4,FALSE))),\"\")","v":""},null,{"$f":"IF(SELECTEXT=\"Select Extrusion\",\"Ext.\",IF(SELECTEXT=\"Select Reinforcement\",\"Reinforce\",IF(SELECTEXT=\"Standard\",\"HP >>\",\"\")))","v":""},null,null,null,{"$f":"EXT_MESSAGE","v":""}]
[null,{"$f":"IF(AND(W>0,H>0),(IF(ISERROR(VLOOKUP(7,Data!$A:$D,3,FALSE)),\"\",VLOOKUP(7,Data!$A:$D,3,FALSE))),\"\")","v":""},null,null,null,null,null,{"$f":"IF(AND(W>0,H>0),(IF(ISERROR(VLOOKUP(7,Data!$A:$D,4,FALSE)),\"\",VLOOKUP(7,Data!$A:$D,4,FALSE))),\"\")","v":""},null,"Opening:",null,null,null,{"$f":"RO_OPTION","v":0}]
[null,{"$f":"IF(AND(W>0,H>0),(IF(ISERROR(VLOOKUP(8,Data!$A:$D,3,FALSE)),\"\",VLOOKUP(8,Data!$A:$D,3,FALSE))),\"\")","v":""},null,null,null,null,null,{"$f":"IF(AND(W>0,H>0),(IF(ISERROR(VLOOKUP(8,Data!$A:$D,4,FALSE)),\"\",VLOOKUP(8,Data!$A:$D,4,FALSE))),\"\")","v":""},null,"Type:"]
[null,{"$f":"IF(AND(W>0,H>0),(IF(ISERROR(VLOOKUP(9,Data!$A:$D,3,FALSE)),\"\",VLOOKUP(9,Data!$A:$D,3,FALSE))),\"\")","v":""},null,null,null,null,null,{"$f":"IF(AND(W>0,H>0),(IF(ISERROR(VLOOKUP(9,Data!$A:$D,4,FALSE)),\"\",VLOOKUP(9,Data!$A:$D,4,FALSE))),\"\")","v":""},null,"Screen:"]
[null,{"$f":"IF(AND(W>0,H>0),(IF(ISERROR(VLOOKUP(10,Data!$A:$D,3,FALSE)),\"\",VLOOKUP(10,Data!$A:$D,3,FALSE))),\"\")","v":""},null,null,null,null,null,{"$f":"IF(AND(W>0,H>0),(IF(ISERROR(VLOOKUP(10,Data!$A:$D,4,FALSE)),\"\",VLOOKUP(10,Data!$A:$D,4,FALSE))),\"\")","v":""},null,"Glass:",null,null,null,null,{"$f":"IF(AND(EXTTYPE=\"HP Package\",GT=\"S\"),\"<< Must Select DS\",\"\")","v":""}]
[]
[null,{"$f":"IF(AND(W>0,H>0),(IF(ISERROR(VLOOKUP(11,Data!$A:$D,3,FALSE)),\"\",VLOOKUP(11,Data!$A:$D,3,FALSE))),\"\")","v":""},null,null,null,null,null,{"$f":"IF(AND(W>0,H>0),(IF(ISERROR(VLOOKUP(11,Data!$A:$D,4,FALSE)),\"\",VLOOKUP(11,Data!$A:$D,4,FALSE))),\"\")","v":""}]
[null,{"$f":"IF(AND(W>0,H>0),(IF(ISERROR(VLOOKUP(12,Data!$A:$D,3,FALSE)),\"\",VLOOKUP(12,Data!$A:$D,3,FALSE))),\"\")","v":""},null,null,null,null,null,{"$f":"IF(AND(W>0,H>0),(IF(ISERROR(VLOOKUP(12,Data!$A:$D,4,FALSE)),\"\",VLOOKUP(12,Data!$A:$D,4,FALSE))),\"\")","v":""}]
[null,{"$f":"IF(AND(W>0,H>0),(IF(ISERROR(VLOOKUP(13,Data!$A:$D,3,FALSE)),\"\",VLOOKUP(13,Data!$A:$D,3,FALSE))),\"\")","v":""},null,null,null,null,null,{"$f":"IF(AND(W>0,H>0),(IF(ISERROR(VLOOKUP(13,Data!$A:$D,4,FALSE)),\"\",VLOOKUP(13,Data!$A:$D,4,FALSE))),\"\")","v":""},null,null,null,null,null,"A Designated AC Sash is Used to Replace BOTH Top and Bottom Sashes When AC is in the Window"]
[null,{"$f":"IF(AND(W>0,H>0),(IF(ISERROR(VLOOKUP(14,Data!$A:$D,3,FALSE)),\"\",VLOOKUP(14,Data!$A:$D,3,FALSE))),\"\")","v":""},null,null,null,null,null,{"$f":"IF(AND(W>0,H>0),(IF(ISERROR(VLOOKUP(14,Data!$A:$D,4,FALSE)),\"\",VLOOKUP(14,Data!$A:$D,4,FALSE))),\"\")","v":""}]
[null,{"$f":"IF(AND(W>0,H>0),(IF(ISERROR(VLOOKUP(15,Data!$A:$D,3,FALSE)),\"\",VLOOKUP(15,Data!$A:$D,3,FALSE))),\"\")","v":""},null,null,null,null,null,{"$f":"IF(AND(W>0,H>0),(IF(ISERROR(VLOOKUP(15,Data!$A:$D,4,FALSE)),\"\",VLOOKUP(15,Data!$A:$D,4,FALSE))),\"\")","v":""},null,"AC Width: ",null,null,null,{"$f":"IF(AND(W>0,H>0,ACWIDTH>0,ACHEIGHT>0,ACCMR>0,ACLINK=TRUE),ACCMR,IF(AND(W>0,H>0,ACWIDTH>0,ACSASHW>0,ACLINK=TRUE),ACSASHW,\"\"))","v":""},{"$f":"IF(AND(W>0,H>0,ACWIDTH>0,ACHEIGHT>0,ACCMR>0,ACLINK=TRUE),\"<< CMR\",IF(AND(W>0,H>0,ACWIDTH>0,ACSASHW>0,ACLINK=TRUE),\"<< AC Sash Width\",\"\"))","v":""}]
[null,{"$f":"IF(AND(W>0,H>0),(IF(ISERROR(VLOOKUP(16,Data!$A:$D,3,FALSE)),\"\",VLOOKUP(16,Data!$A:$D,3,FALSE))),\"\")","v":""},null,null,null,null,null,{"$f":"IF(AND(W>0,H>0),(IF(ISERROR(VLOOKUP(16,Data!$A:$D,4,FALSE)),\"\",VLOOKUP(16,Data!$A:$D,4,FALSE))),\"\")","v":""},null,"AC Height: ",null,null,null,{"$f":"IF(AND(W>0,H>0,ACHEIGHT>0,ACSASHH>0,ACLINK=TRUE),ACSASHH,\"\")","v":""},{"$f":"IF(AND(ACCMR>0,ACLINK=TRUE),\"\",IF(AND(W>0,H>0,ACHEIGHT>0,ACSASHH>0,ACLINK=TRUE),\"<< AC Sash Height\",\"\"))","v":""}]
[null,{"$f":"IF(AND(W>0,H>0),(IF(ISERROR(VLOOKUP(17,Data!$A:$D,3,FALSE)),\"\",VLOOKUP(17,Data!$A:$D,3,FALSE))),\"\")","v":""},null,null,null,null,null,{"$f":"IF(AND(W>0,H>0),(IF(ISERROR(VLOOKUP(17,Data!$A:$D,4,FALSE)),\"\",VLOOKUP(17,Data!$A:$D,4,FALSE))),\"\")","v":""},null,{"$f":"IF(ISERROR(TSW),\"\",IF(LIMIT1>\"\",LIMIT1&IF(LIMIT2>\"\",\" & \"&LIMIT2),\"\"))","v":""}]
[null,{"$f":"IF(AND(W>0,H>0),(IF(ISERROR(VLOOKUP(18,Data!$A:$D,3,FALSE)),\"\",VLOOKUP(18,Data!$A:$D,3,FALSE))),\"\")","v":""},null,null,null,null,null,{"$f":"IF(AND(W>0,H>0),(IF(ISERROR(VLOOKUP(18,Data!$A:$D,4,FALSE)),\"\",VLOOKUP(18,Data!$A:$D,4,FALSE))),\"\")","v":""}]
[null,{"$f":"IF(AND(W>0,H>0),(IF(ISERROR(VLOOKUP(19,Data!$A:$D,3,FALSE)),\"\",VLOOKUP(19,Data!$A:$D,3,FALSE))),\"\")","v":""},null,null,null,null,null,{"$f":"IF(AND(W>0,H>0),(IF(ISERROR(VLOOKUP(19,Data!$A:$D,4,FALSE)),\"\",VLOOKUP(19,Data!$A:$D,4,FALSE))),\"\")","v":""}]

{"sheet":"Balance","index":1,"n_rows":247,"n_cols":132,"rows_kept":247,"cut":false,"hidden":true,"merged":[[0,108,0,116],[1,24,1,25],[2,51,2,53],[0,41,0,45],[1,39,1,42],[1,44,1,47],[79,16,79,21],[1,1,1,3],[1,14,1,21],[1,108,1,111],[1,113,1,116],[1,5,1,7]]}
[null,null,null,null,null,null,null,null,null,null,null,null,null,null,null,null,null,null,null,null,null,null,null,null,null,null,null,null,null,null,null,null,null,null,null,null,null,null,null,null,null,"BLOCK & TACKLE BALANCE CHART",null,null,null,null,null,null,null,null,null,null,null,null,null,"Spiral Balance",null,null,null,null,null,null,null,null,null,null,null,null,null,null,null,null,null,null,null,null,null,null,null,null,null,null,null,null,null,null,null,null,null,null,null,null,null,null,null,null,null,null,null,null,null,null,null,null,null,null,null,null,"V-Series BLOCK & TACKLE BALANCE CHART"]
[null,"CFB",null,null,null,"Curve CFB",null,null,null,null,null,null,"Glass Strength",null,"Weight Calculation",null,null,null,null,null,null,null,null,null,"Egress Calculation",null,null,null,"* = Deduct 2.25 from a 36 x 60 (RO) Frame to adjust for Egress",null,null,null,null,null,null,null,null,null,null,"TOP SASH",null,null,null,null,"BOTTOM SASH",null,null,null,null,null,null,null,null,null,"Top Sash",{"$f":"IF(ISERROR(VLOOKUP((TRUNC(TOP_WGT)),$BD$7:$DB$41,TOPTUBELENGTH,FALSE)),\"N/A\",VLOOKUP((TRUNC(TOP_WGT)),$BD$7:$DB$41,TOPTUBELENGTH,FALSE))","v":"N/A"},{"$f":"TOPTUBELENGTH","v":{"$error":"#N/A"}},null,null,null,null,null,null,null,null,null,null,null,null,null,null,null,null,null,null,null,null,null,null,null,null,null,null,null,null,null,null,null,null,null,null,null,null,null,null,null,null,null,null,null,null,null,null,null,null,null,null,null,"TOP SASH",null,null,null,null,"BOTTOM SASH"]
[null,4,3,"BN",null,4,3,"RD",null,1,{"$f":"IF(M3>\"\",VLOOKUP(M3,GLASSLOOKUP,2,FALSE),\"\")","v":""},{"$f":"IF(M3>\"\",VLOOKUP(K3,WEIGHTCHART,2,FALSE),\"\")","v":""},{"$f":"GLASS1","v":""},null,"Model","CDIM","Bott. Sash Height","Bottom Sash Weight","Top Sash Weight","Bal. Loc.","Head + Sill + 4.5","Sill","EW",null,"# of Coils",{"$f":"IF(OR(ModelNo=\"3100\",ModelNo=\"i201\"),VLOOKUP(BTM_WGT,CURVE_W,3,FALSE),VLOOKUP(BTM_WGT,CFB_W,3,FALSE))","v":{"$error":"#N/A"}},null,null,"0100, 0700, 01HP, 07HP","Length","Weight/ft","Weight",null,"0601","Length","Weight/ft","Weight",null,null,"Sash Weight","Tube Length","Balance","Weight",null,"Sash Weight","Tube Length","Balance","Weight",null,null,null,"Tube Length",null,null,"Bott. Sash",{"$f":"IF(ISERROR(VLOOKUP((TRUNC(BTM_WGT)),$BD$7:$DB$41,BOTTUBELENGTH,FALSE)),\"N/A\",VLOOKUP((TRUNC(BTM_WGT)),$BD$7:$DB$41,BOTTUBELENGTH,FALSE))","v":"N/A"},{"$f":"BOTTUBELENGTH","v":{"$error":"#N/A"}},null,null,null,null,"  TUBE LENGTH ",null,null,null,null,null,null,null,null,null,null,null,null,null,null,null,"TUBE LENGTH ",null,null,null,null,null,null,null,null,null,null,null,null,null,null,null,null,null,"TUBE LENGTH ",null,null,null,null,null,null,null,null,null,null,null,null,"Sash Weight","Tube Length","Balance","Weight",null,"Sash Weight","Tube Length","Balance","Weight",null,null,null,null,"Caldwell Balance Chart"]
[null,{"$f":"B3+1","v":5},3,"BN",null,5,3,"RD",null,2,"","",{"$f":"GLASS2","v":""},null,{"$f":"ModelNo","v":"Select Model"},{"$f":"VLOOKUP(ModelNo,$O$5:$W$49,2,FALSE)","v":{"$error":"#N/A"}},{"$f":"VLOOKUP(ModelNo,$O$5:$W$49,3,FALSE)","v":{"$error":"#N/A"}},{"$f":"TRUNC(VLOOKUP(ModelNo,$O$5:$W$49,4,FALSE)+GRID)","v":{"$error":"#N/A"}},{"$f":"TRUNC(VLOOKUP(ModelNo,$O$5:$W$49,5,FALSE)+GRID)","v":{"$error":"#N/A"}},{"$f":"VLOOKUP(ModelNo,$O$5:$W$49,6,FALSE)","v":{"$error":"#N/A"}},{"$f":"VLOOKUP(ModelNo,$O$5:$W$49,7,FALSE)","v":{"$error":"#N/A"}},{"$f":"VLOOKUP(ModelNo,$O$5:$W$49,8,FALSE)","v":{"$error":"#N/A"}},{"$f":"VLOOKUP(ModelNo,$O$5:$W$49,9,FALSE)","v":{"$error":"#N/A"}},null,"Displacement",{"$f":"IF($Q$4>37.5,$Q$4-36,0)","v":{"$error":"#N/A"}},null,null,"Top Top Rail",0,0,{"$f":"AD4*AE4","v":0},null,"Top Top Rail",{"$f":"(Frame_Width-4.25)/12","v":-0.35416666666666669},0.36899999999999999,{"$f":"AI4*AJ4","v":-0.13068750000000001},null,null,{"$f":"TRUNC(TOP_WGT)","v":{"$error":"#N/A"}},{"$f":"$AN$9","v":0},"Number","Range",null,{"$f":"TRUNC(BTM_WGT)","v":{"$error":"#N/A"}},{"$f":"$AS$9","v":0},"Number","Range",null,null,null,"Model","Top","Bott",null,null,2,3,4,5,6,7,8,9,10,11,12,13,14,15,16,17,18,19,20,21,22,23,24,25,26,27,28,29,30,31,32,33,34,35,36,37,38,39,40,41,42,43,44,45,46,47,48,49,50,51,null,null,{"$f":"TRUNC(TOP_WGT)","v":{"$error":"#N/A"}},{"$f":"TOPTUBELENGTH","v":{"$error":"#N/A"}},"Number","Range",null,{"$f":"TRUNC(BTM_WGT)","v":{"$error":"#N/A"}},{"$f":"BOTTUBELENGTH","v":{"$error":"#N/A"}},"Number","Range",null,null,null,null,{"$f":"IF(OR(ModelNo=\"1700\",ModelNo=\"1720\",ModelNo=\"1730\"),1,IF(OR(ModelNo=\"1900\",ModelNo=\"1920\",ModelNo=\"1930\"),2,3))","v":3},{"$f":"IF(OR(ModelNo=\"1700\",ModelNo=\"1720\",ModelNo=\"1730\"),4,IF(OR(ModelNo=\"1900\",ModelNo=\"1920\",ModelNo=\"1930\"),5,6))","v":6},"Bott.","Top",null,1,4,2,5,3,6]
[null,6,3,"BN",null,6,3,"RD",null,3,"","",{"$f":"GLASS3","v":""},null,"0100",{"$f":"CMR!$E$11","v":0},{"$f":"CMR!$E$11+0.125","v":0.125},{"$f":"$AF$23","v":0},{"$f":"$AF$22","v":0},1.03125,3.0739999999999998,1.5369999999999999,3.0625,null,"Coil Loc. From CMR",{"$f":"(($Z$3-1)*1.58)+$Z$4+$T$4+1.5","v":{"$error":"#N/A"}},null,null,"Top Bottom Rail",0,0,{"$f":"AD5*AE5","v":0},null,"Top Bottom Rail",{"$f":"(Frame_Width-4.25)/12","v":-0.35416666666666669},0.36899999999999999,-0.13068750000000001,null,null,"Balance Size",{"$f":"IF(AND(AP5>0,AQ5>0),AP5,0)","v":{"$error":"#N/A"}},{"$f":"IF($AO$4<=6,6,0)","v":6},{"$f":"IF(AND(AP5=6,$AN$4>=2,$AN$4<=5),AP5&\"A\",0)","v":{"$error":"#N/A"}},null,"Balance Size",{"$f":"IF(AND(AU5>0,AV5>0),AU5,0)","v":{"$error":"#N/A"}},{"$f":"IF($AT$4<=6,6,0)","v":6},{"$f":"IF(AND(AU5=6,$AS$4>=2,$AS$4<=5),AU5&\"A\",0)","v":{"$error":"#N/A"}},null,null,null,"0100",null,{"$f":"(INT(INT(Frame_Height/2-0.25)/2)+0.5)*2","v":-1},null,"Sash Weight",null,null,null,null,null,null,null,null,null,null,null,null,null,null,null,null,null,null,null,null,null,null,null,null,null,null,null,null,null,null,null,null,null,null,null,null,null,null,null,null,null,null,null,null,null,null,null,null,null,null,null,null,"Balance Size",{"$f":"IF(AND(DG5>0,DH5>0),DG5,0)","v":{"$error":"#N/A"}},{"$f":"IF($DF$4<=8,8,0)","v":{"$error":"#N/A"}},{"$f":"IF(AND(DG5=8,$DE$4>=2,$DE$4<=6),DG5&\"A\",0)","v":{"$error":"#N/A"}},null,"Balance Size",{"$f":"IF(AND(DL5>0,DM5>0),DL5,0)","v":{"$error":"#N/A"}},{"$f":"IF($DK$4<=8,8,0)","v":{"$error":"#N/A"}},{"$f":"IF(AND(DL5=8,$DJ$4>=2,$DJ$4<=6),DL5&\"A\",0)","v":{"$error":"#N/A"}},null,null,null,null,{"$f":"HLOOKUP($DR$4,CALDWELL_LOOKUP,2,FALSE)","v":9},{"$f":"HLOOKUP($DS$4,CALDWELL_LOOKUP,2,FALSE)","v":9.9994999999999994},8,7,null,9.7665000000000006,10.766,9.2185000000000006,10.218,9,9.9994999999999994]
[null,7,4,"RD",null,7,4,"GR",null,4,"","",{"$f":"GLASS4","v":""},null,"01HP",{"$f":"CMR!$L$11","v":0},{"$f":"CMR!$L$11+0.125","v":0.125},{"$f":"$AF$23","v":0},{"$f":"$AF$22","v":0},1.03125,3.1680000000000001,1.631,3.0625,null,null,{"$f":"IF(OR(ModelNo=\"S140\",ModelNo=\"S144\",ModelNo=\"S146\",ModelNo=\"S140 (HP)\",ModelNo=\"S144 (HP)\",ModelNo=\"S146 (HP)\"),TRUNC((LEG-$Q$4-$U$4)*16+0.5)/16,TRUNC((Frame_Height-$Q$4-$U$4)*16+0.5)/16)","v":{"$error":"#N/A"}},{"$f":"TRUNC((CMR!$L$74-1.65625)*32+0.5)/32","v":-1.625},"<8001TopSashH","Top Stile",0,0,{"$f":"(AD6*AE6)/12","v":0},null,"Top Stile",{"$f":"(2*(CMR!$L$58-1.9375))/12","v":-0.32291666666666669},0.36899999999999999,-0.11915625000000001,null,null,{"$f":"VLOOKUP((MAX(AO5:AO229)),AO5:AQ229,3,FALSE)","v":{"$error":"#N/A"}},{"$error":"#N/A"},6,{"$f":"IF(AND(AP6=6,$AN$4>=6,$AN$4<=9),AP6&\"B\",0)","v":{"$error":"#N/A"}},null,{"$f":"VLOOKUP((MAX(AT5:AT229)),AT5:AV229,3,FALSE)","v":{"$error":"#N/A"}},{"$error":"#N/A"},6,{"$f":"IF(AND(AU6=6,$AS$4>=6,$AS$4<=9),AU6&\"B\",0)","v":{"$error":"#N/A"}},null,null,null,"02A0",null,null,null,null,null,null,null,null,null,null,null,null,null,null,null,null,null,null,null,null,null,null,null,null,null,null,null,null,null,null,null,null,null,null,null,null,null,null,null,null,null,null,null,null,null,null,null,null,null,null,null,null,null,null,null,null,{"$f":"VLOOKUP((MAX(DF5:DF229)),DF5:DH229,3,FALSE)","v":{"$error":"#N/A"}},{"$error":"#N/A"},{"$f":"IF($DF$4<=8,8,0)","v":{"$error":"#N/A"}},{"$f":"IF(AND(DG6=8,$DE$4>=7,$DE$4<=10),DG6&\"B\",0)","v":{"$error":"#N/A"}},null,{"$f":"VLOOKUP((MAX(DK5:DK229)),DK5:DM229,3,FALSE)","v":{"$error":"#N/A"}},{"$error":"#N/A"},{"$f":"IF($DK$4<=8,8,0)","v":{"$error":"#N/A"}},{"$f":"IF(AND(DL6=8,$DJ$4>=7,$DJ$4<=10),DL6&\"B\",0)","v":{"$error":"#N/A"}},null,null,null,null,{"$f":"HLOOKUP($DR$4,CALDWELL_LOOKUP,3,FALSE)","v":10},{"$f":"HLOOKUP($DS$4,CALDWELL_LOOKUP,3,FALSE)","v":10.999499999999999},9,8,null,10.766500000000001,11.766,10.218500000000001,11.218,10,10.999499999999999]
[null,8,4,"RD",null,8,4,"GR",null,5,"","",{"$f":"GLASS5","v":""},null,"0201",{"$f":"CMR!$E$27","v":0},{"$f":"CMR!$E$27-0.5625","v":-0.5625},{"$f":"$AF$45","v":0},{"$f":"$AF$44","v":0},1.3125,7.3125,1.75,4.4059999999999997,null,"Egress Height",{"$f":"IF($AA$7>0,$AA$7,IF(AND($Z$6<(TRUNC((P4-Z5-V4)*16+0.5)/16),$AA$7=0),$Z$6,TRUNC(($P$4-$Z$5-$V$4)*16+0.5)/16))","v":{"$error":"#N/A"}},{"$f":"IF(AND(CMR!L74<=CMR!L75,OR(ModelNo=\"8001\",ModelNo=\"R601\")),Frame_Height-Q4-7.3125,IF(AND(CMR!L74>CMR!L75,OR(ModelNo=\"8001\",ModelNo=\"R601\")),Frame_Height-AA6-7.3125,0))","v":0},null,"Top Rail Reinf.",0,0,0,null,"Top Rail Reinf.",{"$f":"(TRUNC(((Frame_Width-4.25)-6)/2)*2)/12","v":-0.83333333333333337},0.26400000000000001,-0.22000000000000003,null,null,null,{"$error":"#N/A"},6,{"$f":"IF(AND(AP7=6,$AN$4>=10,$AN$4<=12),AP7&\"C\",0)","v":{"$error":"#N/A"}},null,null,{"$error":"#N/A"},6,{"$f":"IF(AND(AU7=6,$AS$4>=10,$AS$4<=12),AU7&\"C\",0)","v":{"$error":"#N/A"}},null,null,null,"0201",{"$f":"IF(CMR!$E$26>=Frame_Height/2-0.07,(INT(INT((Frame_Height/2-4.875)+1)/2)-0.5)*2,(INT(INT((CMR!$E$26-4.181)+1)/2)-0.5)*2)","v":-5},{"$f":"IF(Frame_Height>63.6875,IF(Frame_Height<66.3125,30,(INT(INT((Frame_Height/2-0.875)+1)/2)-0.5)*2),(INT(INT((Frame_Height/2-0.875)+1)/2)-0.5)*2)","v":-1},null,6,null,null,null,null,null,null,null,null,null,null,"2R","2R","2R","2R","2R","2R","2R","2R","2R","2R","2R",null,null,null,null,null,null,null,null,null,null,null,null,null,null,null,null,null,null,null,null,null,null,null,null,null,null,null,null,null,null,null,null,{"$error":"#N/A"},{"$f":"IF($DF$4<=8,8,0)","v":{"$error":"#N/A"}},{"$f":"IF(AND(DG7=8,$DE$4>=11,$DE$4<=13),DG7&\"C\",0)","v":{"$error":"#N/A"}},null,null,{"$error":"#N/A"},{"$f":"IF($DK$4<=8,8,0)","v":{"$error":"#N/A"}},{"$f":"IF(AND(DL7=8,$DJ$4>=11,$DJ$4<=13),DL7&\"C\",0)","v":{"$error":"#N/A"}},null,null,null,null,{"$f":"HLOOKUP($DR$4,CALDWELL_LOOKUP,4,FALSE)","v":11},{"$f":"HLOOKUP($DS$4,CALDWELL_LOOKUP,4,FALSE)","v":12.999499999999999},10,9,null,11.766500000000001,13.766,11.218500000000001,13.218,11,12.999499999999999]
[null,9,5,"BU",null,9,5,"BR",null,6,"","",{"$f":"GLASS6","v":""},null,"L201",{"$f":"CMR!$E$27","v":0},{"$f":"CMR!$E$27-0.5625","v":-0.5625},{"$f":"$AF$45","v":0},{"$f":"$AF$44","v":0},1.3125,7.3125,1.75,4.4059999999999997,null,"Egress Width",{"$f":"Frame_Width-W4","v":{"$error":"#N/A"}},null,null,"Top Stile Reinf",0,0,0,null,"Top Stile Reinf",{"$f":"IF(CMR!$L$63>26.1875,((TRUNC((CMR!$L$59-10)/2)*2)/12)*2,0)","v":0},0.26400000000000001,0,null,null,"Top Tube length",{"$error":"#N/A"},6,{"$f":"IF(AND(AP8=6,$AN$4>=13,$AN$4<=15),AP8&\"D\",0)","v":{"$error":"#N/A"}},null,"Bott. Tube Length",{"$error":"#N/A"},6,{"$f":"IF(AND(AU8=6,$AS$4>=13,$AS$4<=15),AU8&\"D\",0)","v":{"$error":"#N/A"}},null,null,null,"0301",{"$f":"IF(CMR!$E$42>=Frame_Height/2-0.07,(INT(INT((Frame_Height/2-4.875)+1)/2)-0.5)*2,(INT(INT((CMR!$E$42-4.181)+1)/2)-0.5)*2)","v":-5},{"$f":"IF(Frame_Height>63.6875,IF(Frame_Height<66.3125,30,(INT(INT((Frame_Height/2-0.875)+1)/2)-0.5)*2),(INT(INT((Frame_Height/2-0.875)+1)/2)-0.5)*2)","v":-1},null,7,null,null,null,null,null,null,null,null,null,"2R","2R","2R","2R","2R","2R","2R","2R","2R","2R","2R","2R","2R","2R","2R","2R","2R","2R","2R","2R","2R","2R",null,null,null,null,null,null,null,null,null,null,null,null,null,null,null,null,null,null,null,null,null,null,{"$error":"#N/A"},{"$f":"IF(AND($DF$4<=10,$DF$4>8),10,0)","v":{"$error":"#N/A"}},{"$f":"IF(AND(DG8=10,$DE$4>=2,$DE$4<=6),DG8&\"A\",0)","v":{"$error":"#N/A"}},null,null,{"$error":"#N/A"},{"$f":"IF(AND($DK$4<=10,$DK$4>8),10,0)","v":{"$error":"#N/A"}},{"$f":"IF(AND(DL8=10,$DJ$4>=2,$DJ$4<=6),DL8&\"A\",0)","v":{"$error":"#N/A"}},null,null,null,null,{"$f":"HLOOKUP($DR$4,CALDWELL_LOOKUP,5,FALSE)","v":13},{"$f":"HLOOKUP($DS$4,CALDWELL_LOOKUP,5,FALSE)","v":14.999499999999999},12,10,null,13.766500000000002,15.766000000000002,13.218500000000002,15.218000000000002,13,14.999499999999999]
[null,10,5,"BU",null,10,5,"BR",null,7,"","",{"$f":"GLASS7","v":""},null,"02A0",{"$f":"CMR!$L$27","v":0},{"$f":"CMR!$L$27-0.75","v":-0.75},{"$f":"$AF$67","v":0},{"$f":"$AF$66","v":0},1.3125,7.3125,1.75,4.5,null,"Egress Area",{"$f":"IF(E301EH>0,ROUND(((E301EH*EW)/144),3),ROUND(((EH*EW)/144),3))","v":{"$error":"#N/A"}},null,null,"Top Glass",0,0,0,null,"Top Glass",{"$f":"(CMR!$L$61*CMR!$L$63)/144","v":0.15787760416666666},{"$f":"$L$12","v":""},{"$error":"#VALUE!"},null,null,{"$f":"IF(OR(ModelNo=\"8001\",ModelNo=\"R601\"),TOPTUBELENGTH,0)","v":0},{"$error":"#N/A"},6,{"$f":"IF(AND(AP9=6,$AN$4>=16,$AN$4<=20),AP9&\"E\",0)","v":{"$error":"#N/A"}},null,{"$f":"IF(OR(ModelNo=\"8001\",ModelNo=\"R601\"),BOTTUBELENGTH,0)","v":0},{"$error":"#N/A"},6,{"$f":"IF(AND(AU9=6,$AS$4>=16,$AS$4<=20),AU9&\"E\",0)","v":{"$error":"#N/A"}},null,null,null,"0401",{"$f":"IF(CMR!$E$58>=Frame_Height/2-0.07,(INT(INT((Frame_Height/2-4.0625)+1)/2)-0.5)*2,(INT(INT((CMR!$E$58-4.375)+1)/2)-0.5)*2)","v":-5},{"$f":"(INT(INT((Frame_Height/2-0.0625)+1)/2)-0.5)*2","v":-1},null,8,null,null,null,null,null,null,null,"2R","2R","2R","2R","2R","2R","2R","2R","2R","2R","2R","2R","2R","2R","2R","2R","2R","2R","2R","2R","2R","3R","3R","3R",null,null,null,null,null,null,null,null,null,null,null,null,null,null,null,null,null,null,null,null,null,null,{"$error":"#N/A"},{"$f":"IF(AND($DF$4<=10,$DF$4>8),10,0)","v":{"$error":"#N/A"}},{"$f":"IF(AND(DG9=10,$DE$4>=7,$DE$4<=10),DG9&\"B\",0)","v":{"$error":"#N/A"}},null,null,{"$error":"#N/A"},{"$f":"IF(AND($DK$4<=10,$DK$4>8),10,0)","v":{"$error":"#N/A"}},{"$f":"IF(AND(DL9=10,$DJ$4>=7,$DJ$4<=10),DL9&\"B\",0)","v":{"$error":"#N/A"}},null,null,null,null,{"$f":"HLOOKUP($DR$4,CALDWELL_LOOKUP,6,FALSE)","v":15.000000000000002},{"$f":"HLOOKUP($DS$4,CALDWELL_LOOKUP,6,FALSE)","v":16.999500000000001},14,12,null,15.766500000000001,17.766000000000002,15.218500000000001,17.218,15.000000000000002,16.999500000000001]
[null,11,6,"YW",null,11,6,"OR",null,8,"","",{"$f":"GLASS8","v":""},null,"0301",{"$f":"CMR!$E$43","v":0},{"$f":"CMR!$E$43-0.625","v":-0.625},{"$f":"$AF$89","v":0},{"$f":"$AF$88","v":0},1.3125,7.6181200000000002,2.0590600000000001,4.375,null,null,null,null,null,"Top Spacer",0,0,0,null,"Top Spacer",{"$f":"((CMR!$L$61*2)+(CMR!$L$63*2))/12","v":-1.6354166666666667},5.3600000000000002E-2,-8.7658333333333338E-2,null,null,null,{"$error":"#N/A"},6,{"$f":"IF(AND(AP10=6,$AN$4>=21,$AN$4<=24),\"Dbl.\"&AP10&\"C\",0)","v":{"$error":"#N/A"}},null,null,{"$error":"#N/A"},6,{"$f":"IF(AND(AU10=6,$AS$4>=21,$AS$4<=24),\"Dbl.\"&AU10&\"C\",0)","v":{"$error":"#N/A"}},null,null,null,"0501",{"$f":"IF(CMR!$L$42>=Frame_Height/2-0.07,(INT(INT((Frame_Height/2-4.75)+1)/2)-0.5)*2,(INT(INT((CMR!$L$42-4.75)+1)/2)-0.5)*2)","v":-5},{"$f":"(INT(INT((Frame_Height/2-0.75)+1)/2)-0.5)*2","v":-1},null,9,null,null,null,null,null,"2R","2R","2R","2R","2R","2R","2R","2R","2R","2R","2R","3R","3R","3R","3R","3R","3R","3R","3R","3R","3R","3R","3R","3R","3R","3R",null,null,null,null,null,null,null,null,null,null,null,null,null,null,null,null,null,null,null,null,null,null,{"$error":"#N/A"},{"$f":"IF(AND($DF$4<=10,$DF$4>8),10,0)","v":{"$error":"#N/A"}},{"$f":"IF(AND(DG10=10,$DE$4>=11,$DE$4<=13),DG10&\"C\",0)","v":{"$error":"#N/A"}},null,null,{"$error":"#N/A"},{"$f":"IF(AND($DK$4<=10,$DK$4>8),10,0)","v":{"$error":"#N/A"}},{"$f":"IF(AND(DL10=10,$DJ$4>=11,$DJ$4<=13),DL10&\"C\",0)","v":{"$error":"#N/A"}},null,null,null,null,{"$f":"HLOOKUP($DR$4,CALDWELL_LOOKUP,7,FALSE)","v":17},{"$f":"HLOOKUP($DS$4,CALDWELL_LOOKUP,7,FALSE)","v":18.999500000000001},16,14,null,17.766500000000001,19.766000000000002,17.218499999999999,19.218,17,18.999500000000001]
[null,12,6,"YW",null,12,6,"OR",null,null,null,null,1,null,"E301(3250)",{"$f":"CMR!$E$43","v":0},{"$f":"CMR!$E$43-0.625","v":-0.625},{"$f":"$AF$89","v":0},{"$f":"$AF$88","v":0},null,null,null,4.375,null,"E301(3250)",25.1875,null,null,"Top Hardware",0,0,0,null,"Top Hardware",1,0.2,0.2,null,null,null,{"$error":"#N/A"},6,{"$f":"IF(AND(AP11=6,$AN$4>=25,$AN$4<=30),\"Dbl.\"&AP11&\"D\",0)","v":{"$error":"#N/A"}},null,null,{"$error":"#N/A"},6,{"$f":"IF(AND(AU11=6,$AS$4>=25,$AS$4<=30),\"Dbl.\"&AU11&\"D\",0)","v":{"$error":"#N/A"}},null,null,null,"0601",{"$f":"IF(CMR!$L$58>=Frame_Height/2-0.07,(INT(INT((Frame_Height/2-4.75)+1)/2)-0.5)*2,(INT(INT((CMR!$L$58-4.75)+1)/2)-0.5)*2)","v":-5},{"$f":"(INT(INT((Frame_Height/2-0.75)+1)/2)-0.5)*2","v":-1},null,10,null,null,null,null,null,"2R","2R","2R","2R","2R","2R","2R","3R","3R","3R","3R","3R","3R","3R","3R","3R","3R","3R","3R","3R","3R","3R","3R","4R","4R","4R",null,null,null,null,null,null,null,null,null,null,null,null,null,null,null,null,null,null,null,null,null,null,{"$error":"#N/A"},{"$f":"IF(AND($DF$4<=10,$DF$4>8),10,0)","v":{"$error":"#N/A"}},{"$f":"IF(AND(DG11=10,$DE$4>=14,$DE$4<=16),DG11&\"D\",0)","v":{"$error":"#N/A"}},null,null,{"$error":"#N/A"},{"$f":"IF(AND($DK$4<=10,$DK$4>8),10,0)","v":{"$error":"#N/A"}},{"$f":"IF(AND(DL11=10,$DJ$4>=14,$DJ$4<=16),DL11&\"D\",0)","v":{"$error":"#N/A"}},null,null,null,null,{"$f":"HLOOKUP($DR$4,CALDWELL_LOOKUP,8,FALSE)","v":19},{"$f":"HLOOKUP($DS$4,CALDWELL_LOOKUP,8,FALSE)","v":20.999500000000001},18,16,null,19.766500000000001,21.766000000000002,19.218499999999999,21.218,19,20.999500000000001]
[null,13,7,"GN",null,13,7,"BU",null,null,null,{"$f":"VLOOKUP(Glass,J3:L10,3,FALSE)","v":""},{"$f":"VLOOKUP(Glass,J3:L10,2,FALSE)","v":""},null,"E301(3052)",{"$f":"CMR!$E$43","v":0},{"$f":"CMR!$E$43-0.625","v":-0.625},{"$f":"$AF$89","v":0},{"$f":"$AF$88","v":0},null,null,null,4.375,null,"E301(3052)",26.375,null,null,"Top Bead",0,0,0,null,"Top Handle Bead",{"$f":"(Frame_Width-5.912)/12","v":-0.49266666666666664},0.104,-5.1237333333333329E-2,null,null,null,{"$error":"#N/A"},6,{"$f":"IF(AND(AP12=6,$AN$4>=31,$AN$4<=40),\"Dbl.\"&AP12&\"E\",0)","v":{"$error":"#N/A"}},null,null,{"$error":"#N/A"},6,{"$f":"IF(AND(AU12=6,$AS$4>=31,$AS$4<=40),\"Dbl.\"&AU12&\"E\",0)","v":{"$error":"#N/A"}},null,null,null,"0700",null,{"$f":"(INT(INT(Frame_Height/2-0.25)/2)+0.5)*2","v":-1},null,11,null,null,null,null,null,"2R","2R","2R","2R","2R","3R","3R","3R","3R","3R","3R","3R","3R","3R","4R","4R","3R","3R","4R","4R","4R","4R","4R","4R","4R","4R",null,null,null,null,null,null,null,null,null,null,null,null,null,null,null,null,null,null,null,null,null,null,{"$error":"#N/A"},{"$f":"IF(AND($DF$4<=12,$DF$4>10),12,0)","v":{"$error":"#N/A"}},{"$f":"IF(AND(DG12=12,$DE$4>=3,$DE$4<=7),DG12&\"A\",0)","v":{"$error":"#N/A"}},null,null,{"$error":"#N/A"},{"$f":"IF(AND($DK$4<=12,$DK$4>10),12,0)","v":{"$error":"#N/A"}},{"$f":"IF(AND(DL12=12,$DJ$4>=3,$DJ$4<=7),DL12&\"A\",0)","v":{"$error":"#N/A"}},null,null,null,null,{"$f":"HLOOKUP($DR$4,CALDWELL_LOOKUP,9,FALSE)","v":21},{"$f":"HLOOKUP($DS$4,CALDWELL_LOOKUP,9,FALSE)","v":22.999500000000001},20,18,null,21.766500000000001,23.766000000000002,21.218499999999999,23.218,21,22.999500000000001]
[null,14,7,"GN",null,14,7,"BU",null,null,null,null,null,null,"E301(2862)",{"$f":"CMR!$E$43","v":0},{"$f":"CMR!$E$43-0.625","v":-0.625},{"$f":"$AF$89","v":0},{"$f":"$AF$88","v":0},null,null,null,4.375,null,"E301(2862)",32.3125,null,null,"Bottom Top Rail",{"$f":"(Frame_Width-2.3125)/12","v":-0.19270833333333334},0.24099999999999999,{"$f":"AD13*AE13","v":-4.6442708333333332E-2},null,"Top Bead",{"$f":"((Frame_Width-4.25)+((CMR!$L$58-4.74)*2))/12","v":-1.1441666666666668},7.3999999999999996E-2,-8.4668333333333332E-2,null,null,null,{"$error":"#N/A"},{"$f":"IF(AND($AO$4<=8,$AO$4>6),8,0)","v":0},{"$f":"IF(AND(AP13=8,$AN$4>=2,$AN$4<=6),AP13&\"A\",0)","v":{"$error":"#N/A"}},null,null,{"$error":"#N/A"},{"$f":"IF(AND($AT$4<=8,$AT$4>6),8,0)","v":0},{"$f":"IF(AND(AU13=8,$AS$4>=2,$AS$4<=6),AU13&\"A\",0)","v":{"$error":"#N/A"}},null,null,null,"01HP",null,{"$f":"(INT(INT(Frame_Height/2-0.25)/2)+0.5)*2","v":-1},null,12,null,null,null,null,null,"2R","2R","2R","2R","3R","3R","3R","3R","4R","4R","4R","4R","4R","4R","4R","4R","3R","4R","4R","4R","5R","5R","5R","5R","5R","5R","4R","4R","4R","4R","4R","4R","5R","5R","5R","5R","5R","5R","5R",null,null,null,null,null,null,null,null,null,{"$error":"#N/A"},{"$f":"IF(AND($DF$4<=12,$DF$4>10),12,0)","v":{"$error":"#N/A"}},{"$f":"IF(AND(DG13=12,$DE$4>=8,$DE$4<=10),DG13&\"B\",0)","v":{"$error":"#N/A"}},null,null,{"$error":"#N/A"},{"$f":"IF(AND($DK$4<=12,$DK$4>10),12,0)","v":{"$error":"#N/A"}},{"$f":"IF(AND(DL13=12,$DJ$4>=8,$DJ$4<=10),DL13&\"B\",0)","v":{"$error":"#N/A"}},null,null,null,null,{"$f":"HLOOKUP($DR$4,CALDWELL_LOOKUP,10,FALSE)","v":23},{"$f":"HLOOKUP($DS$4,CALDWELL_LOOKUP,10,FALSE)","v":24.999500000000001},22,20,null,23.766500000000001,25.766000000000002,23.218499999999999,25.218,23,24.999500000000001]
[null,15,8,"LG",null,15,8,"BK",null,null,null,null,"Extrusion",null,"0401",{"$f":"CMR!$E$59","v":0},{"$f":"CMR!$E$59","v":0},{"$f":"$AF$111","v":0},{"$f":"$AF$110","v":0},0.6875,7.5708700000000002,2.0078800000000001,4.375,null,null,{"$f":"IF(OR(ModelNo=\"E301(3250)\",ModelNo=\"E301(3052)\",ModelNo=\"E301(2862)\"),VLOOKUP(ModelNo,$Y$11:$Z$13,2,FALSE),0)","v":0},null,null,"Bottom Bottom Rail",{"$f":"(Frame_Width-2.3125)/12","v":-0.19270833333333334},0.25,-4.8177083333333336E-2,null,"Bottom Top Rail",{"$f":"(Frame_Width-3.25)/12","v":-0.27083333333333331},0.437,{"$f":"AI14*AJ14","v":-0.11835416666666666},null,null,null,{"$error":"#N/A"},0,{"$f":"IF(AND(AP14=8,$AN$4>=7,$AN$4<=10),AP14&\"B\",0)","v":{"$error":"#N/A"}},null,null,{"$error":"#N/A"},0,{"$f":"IF(AND(AU14=8,$AS$4>=7,$AS$4<=10),AU14&\"B\",0)","v":{"$error":"#N/A"}},null,null,null,"07HP",null,{"$f":"(INT(INT(Frame_Height/2-0.25)/2)+0.5)*2","v":-1},null,13,null,null,null,null,null,"2R","2R","2R","2R","3R","3R","3R","3R","4R","4R","4R","4R","4R","4R","5R","5R","4R","4R","4R","5R","5R","5R","5R","5R","5R","5R","4R","4R","4R","4R","4R","5R","5R","5R","5R","5R","5R","5R","5R",null,null,null,null,null,null,null,null,null,{"$error":"#N/A"},{"$f":"IF(AND($DF$4<=12,$DF$4>10),12,0)","v":{"$error":"#N/A"}},{"$f":"IF(AND(DG14=12,$DE$4>=11,$DE$4<=16),DG14&\"C\",0)","v":{"$error":"#N/A"}},null,null,{"$error":"#N/A"},{"$f":"IF(AND($DK$4<=12,$DK$4>10),12,0)","v":{"$error":"#N/A"}},{"$f":"IF(AND(DL14=12,$DJ$4>=11,$DJ$4<=16),DL14&\"C\",0)","v":{"$error":"#N/A"}},null,null,null,null,{"$f":"HLOOKUP($DR$4,CALDWELL_LOOKUP,11,FALSE)","v":25},{"$f":"HLOOKUP($DS$4,CALDWELL_LOOKUP,11,FALSE)","v":26.999500000000001},24,22,null,25.766500000000001,27.766000000000002,25.218499999999999,27.218,25,26.999500000000001]
[null,16,8,"LG",null,16,8,"BK",null,null,null,1,{"$f":"IF(EXT_1=0,\"\",EXT_1)","v":""},null,"0501",{"$f":"CMR!$L$43","v":0},{"$f":"CMR!$L$43-1.3125","v":-1.3125},{"$f":"$AF$135","v":0},{"$f":"$AF$134","v":0},1.875,8.75,2.6890000000000001,5.375,null,null,null,null,null,"Bottom Stile",{"$f":"((CMR!$E$11+0.125)*2)/12","v":2.0833333333333332E-2},0.23,4.7916666666666663E-3,null,"Bottom Bottom Rail",{"$f":"(Frame_Width-3.25)/12","v":-0.27083333333333331},0.437,-0.11835416666666666,null,null,null,{"$error":"#N/A"},0,{"$f":"IF(AND(AP15=8,$AN$4>=11,$AN$4<=13),AP15&\"C\",0)","v":{"$error":"#N/A"}},null,null,{"$error":"#N/A"},0,{"$f":"IF(AND(AU15=8,$AS$4>=11,$AS$4<=13),AU15&\"C\",0)","v":{"$error":"#N/A"}},null,null,null,"0901",{"$f":"IF(CMR!$E$74>=Frame_Height/2-0.07,(INT(INT((Frame_Height/2-3.625)+1)/2)-0.5)*2,(INT(INT((CMR!$E$74-3.625)+1)/2)-0.5)*2)","v":-5},{"$f":"(INT(INT((Frame_Height/2-0.625)+1)/2)-0.5)*2","v":-1},null,14,null,null,null,null,null,"2R","2R","2R","2R","3R","3R","3R","4R","4R","4R","4R","4R","5R","5R","5R","5R","4R","4R","5R","5R","5R","6R","6R","6R","6R","6R","4R","5R","5R","5R","5R","5R","5R","5R","5R","5R","6R","6R","6R","6R","6R",null,null,null,null,null,null,null,{"$error":"#N/A"},{"$f":"IF(AND($DF$4<=12,$DF$4>10),12,0)","v":{"$error":"#N/A"}},{"$f":"IF(AND(DG15=12,$DE$4>=17,$DE$4<=18),DG15&\"D\",0)","v":{"$error":"#N/A"}},null,null,{"$error":"#N/A"},{"$f":"IF(AND($DK$4<=12,$DK$4>10),12,0)","v":{"$error":"#N/A"}},{"$f":"IF(AND(DL15=12,$DJ$4>=17,$DJ$4<=18),DL15&\"D\",0)","v":{"$error":"#N/A"}},null,null,null,null,{"$f":"HLOOKUP($DR$4,CALDWELL_LOOKUP,12,FALSE)","v":27},{"$f":"HLOOKUP($DS$4,CALDWELL_LOOKUP,12,FALSE)","v":28.999500000000001},26,24,null,27.766500000000001,29.766000000000002,27.218499999999999,29.218,27,28.999500000000001]
[null,17,9,"NAT",null,17,9,"NAT",null,null,null,2,{"$f":"IF(EXT_2=0,\"\",EXT_2)","v":""},12.5,"B501",{"$f":"CMR!$L$43","v":0},{"$f":"CMR!$L$43-1.3125","v":-1.3125},{"$f":"$AF$135","v":0},{"$f":"$AF$134","v":0},1.875,8.75,2.6890000000000001,5.375,null,"V100",{"$f":"Frame_Height-(CMR!$L$99-0.844)-3.64625","v":-2.8022500000000004},null,null,"Bottom Rail Reinf.",{"$f":"(TRUNC(((AD13*12)-6)/2)*2)/12","v":-0.66666666666666663},0.32800000000000001,-0.21866666666666668,null,"Bottom Stile",{"$f":"(2*(CMR!$L$59-0.9375))/12","v":-0.15625},0.437,-6.8281250000000002E-2,null,null,null,{"$error":"#N/A"},0,{"$f":"IF(AND(AP16=8,$AN$4>=14,$AN$4<=15),AP16&\"D\",0)","v":{"$error":"#N/A"}},null,null,{"$error":"#N/A"},0,{"$f":"IF(AND(AU16=8,$AS$4>=14,$AS$4<=15),AU16&\"D\",0)","v":{"$error":"#N/A"}},null,null,null,"09A1",{"$f":"IF(CMR!$E$74>=Frame_Height/2-0.07,(INT(INT((Frame_Height/2-3.625)+1)/2)-0.5)*2,(INT(INT((CMR!$E$74-3.625)+1)/2)-0.5)*2)","v":-5},{"$f":"(INT(INT((Frame_Height/2-0.625)+1)/2)-0.5)*2","v":-1},null,15,null,null,null,null,null,"2R","2R","2R","2R","3R","4R","4R","4R","5R","5R","5R","5R","5R","5R","6R","6R","5R","5R","5R","6R","6R","6R","6R","6R","6R","6R","4R","5R","5R","5R","5R","5R","5R","5R","5R","6R","6R","6R","6R","6R","6R",null,null,null,null,null,null,null,{"$error":"#N/A"},{"$f":"IF(AND($DF$4<=12,$DF$4>10),12,0)","v":{"$error":"#N/A"}},{"$f":"IF(AND(DG16=12,$DE$4>=19,$DE$4<=21),DG16&\"E\",0)","v":{"$error":"#N/A"}},null,null,{"$error":"#N/A"},{"$f":"IF(AND($DK$4<=12,$DK$4>10),12,0)","v":{"$error":"#N/A"}},{"$f":"IF(AND(DL16=12,$DJ$4>=19,$DJ$4<=21),DL16&\"E\",0)","v":{"$error":"#N/A"}},null,null,null,null,{"$f":"HLOOKUP($DR$4,CALDWELL_LOOKUP,13,FALSE)","v":29},{"$f":"HLOOKUP($DS$4,CALDWELL_LOOKUP,13,FALSE)","v":30.999500000000001},28,26,null,29.766499999999997,31.765999999999998,29.218499999999995,31.217999999999996,29,30.999500000000001]
[null,18,9,"NAT",null,18,9,"NAT",null,null,null,3,{"$f":"IF(EXT_3=0,\"\",EXT_3)","v":""},13,"U501",{"$f":"CMR!$L$43","v":0},{"$f":"CMR!$L$43-1.3125","v":-1.3125},{"$f":"$AF$135","v":0},{"$f":"$AF$134","v":0},1.875,8.75,2.6890000000000001,5.375,null,"V101",{"$f":"Frame_Height-(CMR!$L$115-0.3125)-4.948","v":-4.6355000000000004},null,null,"Bottom Stile Reinf.",{"$f":"IF(OR(CMR!$E$16>=28.5,ModelNo=\"01HP\",ModelNo=\"07HP\",ModelNo=\"S140 (HP)\",ModelNo=\"S144 (HP)\",ModelNo=\"S146 (HP)\"),(((CMR!$E$11-1.625)/2)*2)/12,0)","v":0},0.23799999999999999,0,null,"Bottom Rail Reinf.",{"$f":"(TRUNC(((Frame_Width-3.25)-6)/2)*2)/12","v":-0.66666666666666663},0.43440000000000001,-0.28959999999999997,null,null,null,{"$error":"#N/A"},0,{"$f":"IF(AND(AP17=8,$AN$4>=16,$AN$4<=18),AP17&\"E\",0)","v":{"$error":"#N/A"}},null,null,{"$error":"#N/A"},0,{"$f":"IF(AND(AU17=8,$AS$4>=16,$AS$4<=18),AU17&\"E\",0)","v":{"$error":"#N/A"}},null,null,null,"09B1",{"$f":"IF(CMR!$E$74>=Frame_Height/2-0.07,(INT(INT((Frame_Height/2-3.625)+1)/2)-0.5)*2,(INT(INT((CMR!$E$74-3.625)+1)/2)-0.5)*2)","v":-5},{"$f":"(INT(INT((Frame_Height/2-0.625)+1)/2)-0.5)*2","v":-1},null,16,null,null,null,null,null,"2R","2R","2R","2R","3R","4R","4R","4R","5R","5R","5R","5R","6R","6R","6R","6R","5R","5R","6R","6R","6R","6R","7R","7R","7R","7R","5R","5R","5R","5R","5R","6R","6R","6R","6R","6R","7R","7R","7R","7R","7R","7R","7R",null,null,null,null,null,{"$error":"#N/A"},{"$f":"IF(AND($DF$4<=14,$DF$4>12),14,0)","v":{"$error":"#N/A"}},{"$f":"IF(AND(DG17=14,$DE$4>=3,$DE$4<=7),DG17&\"A\",0)","v":{"$error":"#N/A"}},null,null,{"$error":"#N/A"},{"$f":"IF(AND($DK$4<=14,$DK$4>12),14,0)","v":{"$error":"#N/A"}},{"$f":"IF(AND(DL17=14,$DJ$4>=3,$DJ$4<=7),DL17&\"A\",0)","v":{"$error":"#N/A"}},null,null,null,null,{"$f":"HLOOKUP($DR$4,CALDWELL_LOOKUP,14,FALSE)","v":30.999999999999996},{"$f":"HLOOKUP($DS$4,CALDWELL_LOOKUP,14,FALSE)","v":32.999499999999998},30,28,null,31.766500000000001,33.765999999999998,31.218499999999999,33.217999999999996,30.999999999999996,32.999499999999998]
[null,19,10,"PK",null,19,55,"NAT",null,null,null,4,{"$f":"IF(EXT_4=0,\"\",EXT_4)","v":""},10,"0601",{"$f":"CMR!$L$59","v":0},{"$f":"CMR!$L$59-0.9375","v":-0.9375},{"$f":"$AK$25","v":0},{"$f":"$AK$24","v":0},1.875,8.75,2.6890000000000001,5.375,null,"V200",{"$f":"Frame_Height-(TRUNC(((CMR!$L$124-0.8125)*32+0.5))/32-0.0625)-4.047","v":-3.2032499999999997},null,null,"Bottom Glass",{"$f":"(CMR!$E$14*CMR!$E$16)/144","v":4.1015625E-2},{"$f":"$L$12","v":""},{"$f":"IF(AND(Frame_Width=35.5,Frame_Height=59.5),($AD$18*$AE$18)-2.25,$AD$18*$AE$18)","v":{"$error":"#VALUE!"}},"*","Bottom Stile Reinf.",{"$f":"IF(CMR!$L$64>26.1875,((TRUNC((CMR!$L$59-4)/2)*2)/12)*2,0)","v":0},0.43440000000000001,0,null,null,null,{"$error":"#N/A"},0,{"$f":"IF(AND(AP18=8,$AN$4>=19,$AN$4<=20),\"Dbl.\"&AP18&\"B\",0)","v":{"$error":"#N/A"}},null,null,{"$error":"#N/A"},0,{"$f":"IF(AND(AU18=8,$AS$4>=19,$AS$4<=20),\"Dbl.\"&AU18&\"B\",0)","v":{"$error":"#N/A"}},null,null,null,"B501",{"$f":"IF(CMR!$L$42>=Frame_Height/2-0.07,(INT(INT((Frame_Height/2-4.75)+1)/2)-0.5)*2,(INT(INT((CMR!$L$42-4.75)+1)/2)-0.5)*2)","v":-5},{"$f":"(INT(INT((Frame_Height/2-0.75)+1)/2)-0.5)*2","v":-1},null,17,null,null,null,null,null,"2R","3R","3R","3R","4R","4R","4R","5R","5R","5R","5R","6R","6R","6R","7R","7R","5R","6R","6R","7R","7R","7R","7R","7R","7R","7R","5R","5R","6R","6R","6R","6R","6R","6R","6R","7R","7R","7R","7R","7R","7R","7R","7R",null,null,null,null,null,{"$error":"#N/A"},{"$error":"#N/A"},{"$f":"IF(AND(DG18=14,$DE$4>=8,$DE$4<=10),DG18&\"B\",0)","v":{"$error":"#N/A"}},null,null,{"$error":"#N/A"},{"$error":"#N/A"},{"$f":"IF(AND(DL18=14,$DJ$4>=8,$DJ$4<=10),DL18&\"B\",0)","v":{"$error":"#N/A"}},null,null,null,null,{"$f":"HLOOKUP($DR$4,CALDWELL_LOOKUP,15,FALSE)","v":33},{"$f":"HLOOKUP($DS$4,CALDWELL_LOOKUP,15,FALSE)","v":34.999499999999998},32,30,null,33.766500000000001,35.765999999999998,33.218499999999999,35.217999999999996,33,34.999499999999998]
[null,20,10,"PK",null,20,55,"NAT",null,null,null,5,{"$f":"IF(EXT_5=0,\"\",EXT_5)","v":""},10,"B601",{"$f":"CMR!$L$59","v":0},{"$f":"CMR!$L$59-0.9375","v":-0.9375},{"$f":"$AK$25","v":0},{"$f":"$AK$24","v":0},1.875,8.75,2.6890000000000001,5.375,null,"1700",{"$f":"IF(TYPE=1,TRUNC((Frame_Height-$P$4-$U$4)*16+0.5)/16,IF(CMR>(Frame_Height/2),TRUNC((Frame_Height-CMR-$U$4)*16+0.5)/16,IF(CMR<(Frame_Height/2),TRUNC((Frame_Height-$Q$4-$V$4)*16+0.5)/16)))","v":{"$error":"#N/A"}},null,null,"Bottom Spacer",{"$f":"((CMR!$E$14*2)+(CMR!$E$16*2))/12","v":-0.90625},5.3600000000000002E-2,-4.8575E-2,null,"Bottom Glass",{"$f":"(CMR!$L$62*CMR!$L$64)/144","v":0.15787760416666666},{"$f":"$L$12","v":""},{"$error":"#VALUE!"},null,null,null,{"$error":"#N/A"},0,{"$f":"IF(AND(AP19=8,$AN$4>=21,$AN$4<=26),\"Dbl.\"&AP19&\"C\",0)","v":{"$error":"#N/A"}},null,null,{"$error":"#N/A"},0,{"$f":"IF(AND(AU19=8,$AS$4>=21,$AS$4<=26),\"Dbl.\"&AU19&\"C\",0)","v":{"$error":"#N/A"}},null,null,null,"U501",{"$f":"IF(CMR!$L$42>=Frame_Height/2-0.07,(INT(INT((Frame_Height/2-4.75)+1)/2)-0.5)*2,(INT(INT((CMR!$L$42-4.75)+1)/2)-0.5)*2)","v":-5},{"$f":"(INT(INT((Frame_Height/2-0.75)+1)/2)-0.5)*2","v":-1},null,18,null,null,null,null,null,"3R","3R","3R","3R","4R","5R","5R","5R","5R","5R","5R","6R","7R","7R","7R","7R","6R","6R","7R","7R","7R","7R","8R","8R","8R","8R","6R","6R","6R","6R","6R","7R","7R","7R","7R","7R","8R","8R","8R","8R","8R","8R","8R","8R","8R",null,null,null,{"$error":"#N/A"},{"$error":"#N/A"},{"$f":"IF(AND(DG19=14,$DE$4>=11,$DE$4<=16),DG19&\"C\",0)","v":{"$error":"#N/A"}},null,null,{"$error":"#N/A"},{"$error":"#N/A"},{"$f":"IF(AND(DL19=14,$DJ$4>=11,$DJ$4<=16),DL19&\"C\",0)","v":{"$error":"#N/A"}},null,null,null,null,{"$f":"HLOOKUP($DR$4,CALDWELL_LOOKUP,16,FALSE)","v":35},{"$f":"HLOOKUP($DS$4,CALDWELL_LOOKUP,16,FALSE)","v":36.999499999999998},34,32,null,35.766500000000001,37.765999999999998,35.218499999999999,37.217999999999996,35,36.999499999999998]
[null,21,56,"BU",null,21,47,"BK",null,null,null,6,{"$f":"IF(EXT_6=0,\"\",EXT_6)","v":""},11.75,"U601",{"$f":"CMR!$L$59","v":0},{"$f":"CMR!$L$59-0.9375","v":-0.9375},{"$f":"$AK$25","v":0},{"$f":"$AK$24","v":0},1.875,8.75,2.6890000000000001,5.375,null,"1720",{"$error":"#N/A"},null,null,"Bottom Hardware",1,0.36,0.36,null,"Bottom Spacer",{"$f":"((CMR!$L$62*2)+(CMR!$L$64*2))/12","v":-1.6354166666666667},5.3600000000000002E-2,-8.7658333333333338E-2,null,null,null,{"$error":"#N/A"},0,{"$f":"IF(AND(AP20=8,$AN$4>=27,$AN$4<=32),\"Dbl.\"&AP20&\"D\",0)","v":{"$error":"#N/A"}},null,null,{"$error":"#N/A"},0,{"$f":"IF(AND(AU20=8,$AS$4>=27,$AS$4<=32),\"Dbl.\"&AU20&\"D\",0)","v":{"$error":"#N/A"}},null,null,null,"B601",{"$f":"IF(CMR!$L$58>=Frame_Height/2-0.07,(INT(INT((Frame_Height/2-4.75)+1)/2)-0.5)*2,(INT(INT((CMR!$L$58-4.75)+1)/2)-0.5)*2)","v":-5},{"$f":"(INT(INT((Frame_Height/2-0.75)+1)/2)-0.5)*2","v":-1},null,19,null,null,null,null,null,"2B","3R","3R","3R","4R","2B","2B","3B","3B","3B","6R","7R","7R","7R","7R","7R","6R","7R","7R","8R","8R","8R","8R","8R","8R","8R","6R","6R","7R","7R","7R","7R","7R","8R","8R","8R","8R","8R","8R","8R","8R","8R","8R","8R","8R",null,null,null,{"$error":"#N/A"},{"$error":"#N/A"},{"$f":"IF(AND(DG20=14,$DE$4>=17,$DE$4<=19),DG20&\"D\",0)","v":{"$error":"#N/A"}},null,null,{"$error":"#N/A"},{"$error":"#N/A"},{"$f":"IF(AND(DL20=14,$DJ$4>=17,$DJ$4<=19),DL20&\"D\",0)","v":{"$error":"#N/A"}},null,null,null,null,{"$f":"HLOOKUP($DR$4,CALDWELL_LOOKUP,17,FALSE)","v":37},{"$f":"HLOOKUP($DS$4,CALDWELL_LOOKUP,17,FALSE)","v":38.999499999999998},36,34,null,37.766500000000001,39.765999999999998,37.218499999999999,39.217999999999996,37,38.999499999999998]
[null,22,56,"BU",null,22,47,"BK",null,null,null,7,{"$f":"IF(EXT_6=0,\"\",EXT_7)","v":""},12,"0700",{"$f":"CMR!$E$11","v":0},{"$f":"CMR!$E$11+0.125","v":0.125},{"$f":"$AF$23","v":0},{"$f":"$AF$22","v":0},1.03125,3.0739999999999998,1.5369999999999999,3.0625,null,"1730",{"$error":"#N/A"},null,null,"Bottom Bead",{"$f":"(((Frame_Width-3.75)*2)+((CMR!$E$11-2.5)*2))/12","v":-1.0416666666666667},4.5999999999999999E-2,-4.791666666666667E-2,null,"Bottom Hardware",1,0.36,0.36,null,null,null,{"$error":"#N/A"},0,{"$f":"IF(AND(AP21=8,$AN$4>=33,$AN$4<=36),\"Dbl.\"&AP21&\"E\",0)","v":{"$error":"#N/A"}},null,null,{"$error":"#N/A"},0,{"$f":"IF(AND(AU21=8,$AS$4>=33,$AS$4<=36),\"Dbl.\"&AU21&\"E\",0)","v":{"$error":"#N/A"}},null,null,null,"U601",{"$f":"IF(CMR!$L$58>=Frame_Height/2-0.07,(INT(INT((Frame_Height/2-4.75)+1)/2)-0.5)*2,(INT(INT((CMR!$L$58-4.75)+1)/2)-0.5)*2)","v":-5},{"$f":"(INT(INT((Frame_Height/2-0.75)+1)/2)-0.5)*2","v":-1},null,20,null,null,null,null,null,"3B","3B","3B","3B","3B","3B","3B","3B","4B","4B","4B","5B","5B","6B","7B","7B","7R","7R","8R","8R","8R","8R","8R","9R","9R","9R","7R","7R","7R","7R","7R","8R","8R","8R","8R","8R","9R","9R","9R","9R","9R","9R","9R","9R","9R",null,null,null,{"$error":"#N/A"},{"$error":"#N/A"},{"$f":"IF(AND(DG21=14,$DE$4>=20,$DE$4<=22),DG21&\"E\",0)","v":{"$error":"#N/A"}},null,null,{"$error":"#N/A"},{"$error":"#N/A"},{"$f":"IF(AND(DL21=14,$DJ$4>=20,$DJ$4<=22),DL21&\"E\",0)","v":{"$error":"#N/A"}},null,null,null,null,{"$f":"HLOOKUP($DR$4,CALDWELL_LOOKUP,18,FALSE)","v":39},{"$f":"HLOOKUP($DS$4,CALDWELL_LOOKUP,18,FALSE)","v":40.999499999999998},38,36,null,39.766500000000001,41.765999999999998,39.218499999999999,41.217999999999996,39,40.999499999999998]
[null,23,66,"YW",null,23,48,"BU",null,null,null,8,{"$f":"IF(EXT_6=0,\"\",EXT_8)","v":""},12,"07HP",{"$f":"CMR!$L$11","v":0},{"$f":"CMR!$L$11+0.125","v":0.125},{"$f":"$AF$23","v":0},{"$f":"$AF$22","v":0},1.03125,3.1680000000000001,1.631,3.0625,null,"1900",{"$error":"#N/A"},null,null,null,null,"Top Sash",0,null,"Bottom Keeper Bead",{"$f":"(Frame_Width-5.912)/12","v":-0.49266666666666664},0.109,-5.370066666666666E-2,null,null,null,{"$error":"#N/A"},{"$f":"IF(AND($AO$4<=10,$AO$4>8),10,0)","v":0},{"$f":"IF(AND(AP22=10,$AN$4>=1,$AN$4<=6),AP22&\"A\",0)","v":{"$error":"#N/A"}},null,null,{"$error":"#N/A"},{"$f":"IF(AND($AT$4<=10,$AT$4>8),10,0)","v":0},{"$f":"IF(AND(AU22=10,$AS$4>=1,$AS$4<=6),AU22&\"A\",0)","v":{"$error":"#N/A"}},null,null,null,"R601",{"$f":"IF(CMR!$L$74>=Frame_Height/2-0.07,(INT(INT((Frame_Height/2-4.75)+0.25)/2))*2,(INT(INT((CMR!$L$74-4.75)+0.25)/2))*2)","v":-6},{"$f":"(INT(INT((Frame_Height/2-2.75)+0.25)/2)*2)","v":-4},null,21,null,null,null,null,null,"3B","3B","3B","3B","3B","3B","3B","4B","5B","5B","5B","5B","5B","7B","7B","7B","8R","8R","8R","9R","9R","9R","9R","9R","9R","10R","7R","7R","8R","8R","8R","8R","8R","9R","9R","9R","9R","9R","9R","9R","9R","9R","9R","9R","9R",null,null,null,{"$error":"#N/A"},{"$error":"#N/A"},{"$f":"IF(AND(DG22=14,$DE$4>=23,$DE$4<=25),DG22&\"F\",0)","v":{"$error":"#N/A"}},null,null,{"$error":"#N/A"},{"$error":"#N/A"},{"$f":"IF(AND(DL22=14,$DJ$4>=23,$DJ$4<=25),DL22&\"F\",0)","v":{"$error":"#N/A"}},null,null,null,null,{"$f":"HLOOKUP($DR$4,CALDWELL_LOOKUP,19,FALSE)","v":41},{"$f":"HLOOKUP($DS$4,CALDWELL_LOOKUP,19,FALSE)","v":42.999499999999998},40,38,null,41.766500000000001,43.765999999999998,41.218499999999999,43.217999999999996,41,42.999499999999998]
[null,24,66,"YW",null,24,48,"BU",null,null,null,null,1,{"$f":"VLOOKUP(EXTSELECT,L15:M22,2,FALSE)","v":""},"0901",{"$f":"CMR!$E$75","v":0},{"$f":"CMR!$E$75-0.8125","v":-0.8125},{"$f":"$AK$49","v":0},{"$f":"$AK$48","v":0},0.9375,7.9269999999999996,2.125,4.0625,null,"1920",{"$error":"#N/A"},null,null,null,null,"Bottom Sash",{"$f":"IF(OR(ModelNo=\"0100\",ModelNo=\"01HP\",ModelNo=\"0700\",ModelNo=\"07HP\",ModelNo=\"S140\",ModelNo=\"S144\",ModelNo=\"S146\",ModelNo=\"S140 (HP)\",ModelNo=\"S144 (HP)\",ModelNo=\"S146 (HP)\"),SUM(AF13:AF21),0)","v":0},null,"Bottom Bead",{"$f":"((Frame_Width-5.912)+((CMR!$L$59-4.74)*2))/12","v":-1.2826666666666666},7.3999999999999996E-2,-9.4917333333333326E-2,null,null,null,{"$error":"#N/A"},0,{"$f":"IF(AND(AP23=10,$AN$4>=7,$AN$4<=10),AP23&\"B\",0)","v":{"$error":"#N/A"}},null,null,{"$error":"#N/A"},0,{"$f":"IF(AND(AU23=10,$AS$4>=7,$AS$4<=10),AU23&\"B\",0)","v":{"$error":"#N/A"}},null,null,null,"8001",{"$f":"IF(CMR!$L$74>=Frame_Height/2-0.07,(INT(INT((Frame_Height/2-4.75)+0.25)/2))*2,(INT(INT((CMR!$L$74-4.75)+0.25)/2))*2)","v":-6},{"$f":"(INT(INT((Frame_Height/2-2.75)+0.25)/2)*2)","v":-4},null,22,null,null,null,null,null,"3B","3B","3B","3B","4B","4B","4B","4B","5B","5B","5B","5B","5B","7B","8B","8B","9R","9R","9R","9R","9R","9R","9R","10R","10R","10R","8R","8R","8R","8R","8R","9R","9R","9R","9R","9R","10R","10R","10R","10R","10R","10R","10R","10R","10R",null,null,null,{"$error":"#N/A"},{"$f":"IF(AND($DF$4<=16,$DF$4>14),16,0)","v":{"$error":"#N/A"}},{"$f":"IF(AND(DG23=16,$DE$4>=3,$DE$4<=7),DG23&\"A\",0)","v":{"$error":"#N/A"}},null,null,{"$error":"#N/A"},{"$f":"IF(AND($DK$4<=16,$DK$4>14),16,0)","v":{"$error":"#N/A"}},{"$f":"IF(AND(DL23=16,$DJ$4>=3,$DJ$4<=7),DL23&\"A\",0)","v":{"$error":"#N/A"}},null,null,null,null,{"$f":"HLOOKUP($DR$4,CALDWELL_LOOKUP,20,FALSE)","v":43},{"$f":"HLOOKUP($DS$4,CALDWELL_LOOKUP,20,FALSE)","v":44.999499999999998},42,40,null,43.766500000000001,45.765999999999998,43.218499999999999,45.217999999999996,43,44.999499999999998]
[null,25,67,"GN",null,25,58,"OR",null,null,null,null,{"$f":"IF($M$23=1,0,IF($M$23=6,1.75,IF(OR($M$23=2,$M$23=3),2.40625,IF(OR($M$23=7,$M$23=8),1.8125,1))))","v":0},null,"09A1",{"$f":"CMR!$E$75","v":0},{"$f":"CMR!$E$75-0.8125","v":-0.8125},{"$f":"$AK$49","v":0},{"$f":"$AK$48","v":0},0.9375,7.9269999999999996,2.125,4.0625,null,"1930",{"$error":"#N/A"},null,null,null,null,null,null,null,null,null,"Top Sash",{"$f":"IF(OR(ModelNo=\"0601\",ModelNo=\"B601\",ModelNo=\"U601\"),(SUM(AK4:AK13))+5,0)","v":0},null,null,null,{"$error":"#N/A"},0,{"$f":"IF(AND(AP24=10,$AN$4>=11,$AN$4<=13),AP24&\"C\",0)","v":{"$error":"#N/A"}},null,null,{"$error":"#N/A"},0,{"$f":"IF(AND(AU24=10,$AS$4>=11,$AS$4<=13),AU24&\"C\",0)","v":{"$error":"#N/A"}},null,null,null,"V100",null,{"$f":"FLOOR(Frame_Height/2-2,2)","v":-2},null,23,null,null,null,null,null,"3B","3B","3B","3B","4B","4B","5B","5B","5B","5B","5B","6B","6B","7B","8B","8B","9R","9R","9R","10R","10R","10R","10R","10R","11R","11R","8R","8R","8R","9R","9R","9R","9R","9R","9R","10R","10R","10R","10R","10R","10R","10R","10R","10R","11R",null,null,null,{"$error":"#N/A"},{"$error":"#N/A"},{"$f":"IF(AND(DG24=16,$DE$4>=8,$DE$4<=10),DG24&\"B\",0)","v":{"$error":"#N/A"}},null,null,{"$error":"#N/A"},{"$error":"#N/A"},{"$f":"IF(AND(DL24=16,$DJ$4>=8,$DJ$4<=10),DL24&\"B\",0)","v":{"$error":"#N/A"}},null,null,null,null,{"$f":"HLOOKUP($DR$4,CALDWELL_LOOKUP,21,FALSE)","v":45},{"$f":"HLOOKUP($DS$4,CALDWELL_LOOKUP,21,FALSE)","v":46.999499999999998},44,42,null,45.766500000000001,47.765999999999998,45.218499999999999,47.217999999999996,45,46.999499999999998]
[null,26,67,"GN",null,26,58,"OR",null,null,null,null,{"$f":"IF(AND(EXTSELECT=1,OR(SELECTEXT=\"Select Reinforcement\",SELECTEXT=\"Select Extrusion\")),\"<< Must Select\",\"\")","v":""},null,"09B1",{"$f":"CMR!$E$75","v":0},{"$f":"CMR!$E$75-0.8125","v":-0.8125},{"$f":"$AK$49","v":0},{"$f":"$AK$48","v":0},0.9375,7.9269999999999996,2.125,4.0625,null,"1901",{"$error":"#N/A"},null,null,"0201","Length","Weight/ft","Weight",null,null,null,"Bottom Sash",{"$f":"IF(OR(ModelNo=\"0601\",ModelNo=\"B601\",ModelNo=\"U601\"),SUM(AK14:AK23),0)","v":0},null,null,null,{"$error":"#N/A"},0,{"$f":"IF(AND(AP25=10,$AN$4>=14,$AN$4<=16),AP25&\"D\",0)","v":{"$error":"#N/A"}},null,null,{"$error":"#N/A"},0,{"$f":"IF(AND(AU25=10,$AS$4>=14,$AS$4<=16),AU25&\"D\",0)","v":{"$error":"#N/A"}},null,null,null,"V101",{"$f":"IF(CMR!$L$115>=Frame_Height/2-0.07,(INT(INT((Frame_Height/2-4.75))/2))*2,(INT(INT((CMR!$L$115-4.75))/2))*2)","v":-6},{"$f":"(INT(INT((Frame_Height/2-2.75)+0.25)/2)*2)","v":-4},null,24,null,null,null,null,null,"4B","4B","4B","4B","4B","4B","5B","5B","5B","5B","5B","6B","6B","8R","9B","9B","10R","10R","10R","11R","11R","11R","11R","11R","12R","12R","8R","8R","9R","9R","9R","9R","10R","10R","10R","10R","11R","11R","11R","11R","11R","11R","11R","11R","12R",null,null,null,{"$error":"#N/A"},{"$error":"#N/A"},{"$f":"IF(AND(DG25=16,$DE$4>=11,$DE$4<=16),DG25&\"C\",0)","v":{"$error":"#N/A"}},null,null,{"$error":"#N/A"},{"$error":"#N/A"},{"$f":"IF(AND(DL25=16,$DJ$4>=11,$DJ$4<=16),DL25&\"C\",0)","v":{"$error":"#N/A"}},null,null,null,null,{"$f":"HLOOKUP($DR$4,CALDWELL_LOOKUP,22,FALSE)","v":47},{"$f":"HLOOKUP($DS$4,CALDWELL_LOOKUP,22,FALSE)","v":48.999499999999998},46,44,null,47.766500000000001,49.765999999999998,47.218499999999999,49.217999999999996,47,48.999499999999998]
[null,27,77,"LG",null,27,68,"BR",null,null,null,null,{"$f":"IF(AND(EXT_CONTROL=1,W>0,H>0,LEG=0),\"<< Need Leg Height\",IF(AND(ModelNo=\"S140\",W>0,H>0,LEG<>(Frame_Height-(Frame_Width/2))),\"<< Leg Should be\"&\" \"&(Frame_Height-(Frame_Width/2)),\"\"))","v":""},null,"09L1",{"$f":"CMR!$E$75","v":0},{"$f":"CMR!$E$75-0.8125","v":-0.8125},{"$f":"$AK$49","v":0},{"$f":"$AK$48","v":0},0.9375,7.9269999999999996,2.125,4.0625,null,"1921",{"$error":"#N/A"},null,null,"Top Top Rail",{"$f":"(Frame_Width-3.25)/12","v":-0.27083333333333331},0.25700000000000001,{"$f":"AD26*AE26","v":-6.9604166666666661E-2},null,null,null,null,null,null,null,null,{"$error":"#N/A"},0,{"$f":"IF(AND(AP26=10,$AN$4>=17,$AN$4<=19),AP26&\"E\",0)","v":{"$error":"#N/A"}},null,null,{"$error":"#N/A"},0,{"$f":"IF(AND(AU26=10,$AS$4>=17,$AS$4<=19),AU26&\"E\",0)","v":{"$error":"#N/A"}},null,null,null,"V200",null,{"$f":"FLOOR(Frame_Height/2-2.75,2)","v":-4},null,25,null,null,null,null,null,null,"4B","4B","4B","4B","4B","5B","6B","6B","6B","6B","6B","6B","8B","9B","9B","10R","10R","11R","11R","11R","11R","11R","11R","12R","12R","9R","9R","9R","9R","9R","10R","10R","10R","10R","11R","11R","11R","11R","11R","11R","11R","11R","12R","13R",null,null,null,{"$error":"#N/A"},{"$error":"#N/A"},{"$f":"IF(AND(DG26=16,$DE$4>=17,$DE$4<=19),DG26&\"D\",0)","v":{"$error":"#N/A"}},null,null,{"$error":"#N/A"},{"$error":"#N/A"},{"$f":"IF(AND(DL26=16,$DJ$4>=17,$DJ$4<=19),DL26&\"D\",0)","v":{"$error":"#N/A"}}]
[null,28,77,"LG",null,28,68,"BR",null,null,null,null,"Type",null,"i201",{"$f":"CMR!$E$27","v":0},{"$f":"CMR!$E$27-0.5625","v":-0.5625},{"$f":"$AK$144","v":0},{"$f":"$AK$143","v":0},1.25,7.3125,1.75,4.4059999999999997,null,"1931",{"$error":"#N/A"},null,null,"Top Bottom Rail",{"$f":"(Frame_Width-3.25)/12","v":-0.27083333333333331},0.27300000000000002,-7.3937500000000003E-2,null,"0901","Length","Weight/ft","Weight",null,null,null,{"$error":"#N/A"},0,{"$f":"IF(AND(AP27=10,$AN$4=20),\"Dbl.\"&AP27&\"B\",0)","v":{"$error":"#N/A"}},null,null,{"$error":"#N/A"},0,{"$f":"IF(AND(AU27=10,$AS$4=20),\"Dbl.\"&AU27&\"B\",0)","v":{"$error":"#N/A"}},null,null,null,"1700",null,{"$f":"VLOOKUP((CDIM_1700-0.84375),Caldwell,3)","v":{"$error":"#N/A"}},null,26,null,null,null,null,null,null,null,"4B","4B","4B","4B","6B","6B","6B","6B","6B","6B","7B","9B","9B","9B","11R","11R","11R","12R","12R","12R","12R","12R","13R","13R","9R","9R","10R","10R","10R","10R","10R","10R","11R","11R","12R","12R","12R","12R","12R","12R","12R","13R","14R",null,null,null,{"$error":"#N/A"},{"$error":"#N/A"},{"$f":"IF(AND(DG27=16,$DE$4>=20,$DE$4<=22),DG27&\"E\",0)","v":{"$error":"#N/A"}},null,null,{"$error":"#N/A"},{"$error":"#N/A"},{"$f":"IF(AND(DL27=16,$DJ$4>=20,$DJ$4<=22),DL27&\"E\",0)","v":{"$error":"#N/A"}}]
[null,29,78,"OR",null,29,78,"GR",null,null,null,1,{"$f":"IF(TYPE1>\"\",TYPE1,\"\")","v":""},null,"3100",{"$f":"CMR!$E$91","v":0},{"$f":"TRUNC(((CMR!$E$91-0.375)*32+0.5))/32","v":-0.34375},{"$f":"$AK$121","v":0},0,1.25,3.42977,2.42977,4.8600000000000003,null,null,{"$f":"VLOOKUP(ModelNo,$Y$16:$Z$27,2,FALSE)","v":{"$error":"#N/A"}},null,null,"Top Stile",{"$f":"(2*(CMR!$E$26-1.5625))/12","v":-0.26041666666666669},0.23300000000000001,-6.067708333333334E-2,null,"Top Top Rail",{"$f":"(Frame_Width-3.4375)/12","v":-0.28645833333333331},0.35199999999999998,{"$f":"AI28*AJ28","v":-0.10083333333333332},null,null,null,{"$error":"#N/A"},0,{"$f":"IF(AND(AP28=10,$AN$4>=21,$AN$4<=26),\"Dbl.\"&AP28&\"C\",0)","v":{"$error":"#N/A"}},null,null,{"$error":"#N/A"},0,{"$f":"IF(AND(AU28=10,$AS$4>=21,$AS$4<=26),\"Dbl.\"&AU28&\"C\",0)","v":{"$error":"#N/A"}},null,null,null,"1720",null,{"$f":"VLOOKUP((CDIM_1720-0.84375),Caldwell,3)","v":{"$error":"#N/A"}},null,27,null,null,null,null,null,null,null,null,null,null,null,null,null,"6B","6B","6B","7B","7B","9B","10B","10B","11R","11R","12R","12R","12R","12R","12R","12R","13R","13R","9R","10R","10R","10R","10R","11R","11R","11R","12R","12R","12R","12R","12R","12R","12R","13R","13R","14R","14R",null,null,null,{"$error":"#N/A"},{"$error":"#N/A"},{"$f":"IF(AND(DG28=16,$DE$4>=23,$DE$4<=24),DG28&\"F\",0)","v":{"$error":"#N/A"}},null,null,{"$error":"#N/A"},{"$error":"#N/A"},{"$f":"IF(AND(DL28=16,$DJ$4>=23,$DJ$4<=24),DL28&\"F\",0)","v":{"$error":"#N/A"}}]
[null,30,78,"OR",null,30,78,"GR",null,null,null,2,{"$f":"IF(TYPE2>\"\",TYPE2,\"\")","v":""},null,"R601",{"$f":"CMR!$L$75","v":0},{"$f":"CMR!$L$75-0.65625","v":-0.65625},{"$f":"$AK$73","v":0},{"$f":"$AK$72","v":0},null,null,null,5.9375,null,null,{"$f":"IF(VEH>0,ROUND(((VEH*EW)/144),3))","v":{"$error":"#N/A"}},null,null,"Top Rail Reinf.",{"$f":"(TRUNC(((Frame_Width-3.25)-6)/2)*2)/12","v":-0.66666666666666663},{"$f":"IF(ModelNo=\"0201\",0.299,IF(ModelNo=\"L201\",0.052,0))","v":0},0,null,"Top Bottom Rail",{"$f":"(Frame_Width-3.4375)/12","v":-0.28645833333333331},0.34399999999999997,-9.8541666666666652E-2,null,null,null,{"$error":"#N/A"},0,{"$f":"IF(AND(AP29=10,$AN$4>=27,$AN$4<=32),\"Dbl.\"&AP29&\"D\",0)","v":{"$error":"#N/A"}},null,null,{"$error":"#N/A"},0,{"$f":"IF(AND(AU29=10,$AS$4>=27,$AS$4<=32),\"Dbl.\"&AU29&\"D\",0)","v":{"$error":"#N/A"}},null,null,null,"1730",null,{"$f":"VLOOKUP((CDIM_1730-0.84375),Caldwell,3)","v":{"$error":"#N/A"}},null,28,null,null,null,null,null,null,null,null,null,null,null,null,null,"6B","6B","7B","8B","8B","9B","10B","10B","12R","12R","12R","12R","12R","12R","12R","13R","13R","13R","10R","10R","11R","11R","11R","11R","12R","12R","12R","12R","13R","13R","13R","13R","13R","13R","14R","14R","15R",null,null,null,{"$error":"#N/A"},{"$error":"#N/A"},{"$f":"IF(AND(DG29=16,$DE$4>=25,$DE$4<=27),DG29&\"G\",0)","v":{"$error":"#N/A"}},null,null,{"$error":"#N/A"},{"$error":"#N/A"},{"$f":"IF(AND(DL29=16,$DJ$4>=25,$DJ$4<=27),DL29&\"G\",0)","v":{"$error":"#N/A"}}]
[null,31,88,"WT",null,31,88,"RD",null,null,null,3,{"$f":"IF(TYPE3>\"\",TYPE3,\"\")","v":""},null,"8001",{"$f":"CMR!$L$75","v":0},{"$f":"INT((CMR!$L$75-0.811-0.0625)*32+0.5)/32","v":-0.875},{"$f":"$AK$73","v":0},{"$f":"$AK$72","v":0},null,null,null,5.9375,null,null,null,null,null,"Top Stile Reinf",{"$f":"IF(CMR!$E$31>26.6875,((TRUNC((CMR!$E$26-9.5)/2)*2)/12)*2,0)","v":0},{"$f":"IF(ModelNo=\"0201\",0.299,IF(ModelNo=\"L201\",0.052,0))","v":0},0,null,"Top Stile",{"$f":"(2*(CMR!$E$74-0.8125))/12","v":-0.13541666666666666},0.218,-2.9520833333333333E-2,null,null,null,{"$error":"#N/A"},0,{"$f":"IF(AND(AP30=10,$AN$4>=33,$AN$4<=38),\"Dbl.\"&AP30&\"E\",0)","v":{"$error":"#N/A"}},null,null,{"$error":"#N/A"},0,{"$f":"IF(AND(AU30=10,$AS$4>=33,$AS$4<=38),\"Dbl.\"&AU30&\"E\",0)","v":{"$error":"#N/A"}},null,null,null,"1900",null,{"$f":"VLOOKUP((CDIM_1900-0.84375),Caldwell,3)","v":{"$error":"#N/A"}},null,29,null,null,null,null,null,null,null,null,null,null,null,null,null,null,null,"4H","4H","8B","10B","10B","10B","12R","12R","13R","13R","13R","13R","13R","13R","13R","13R","10R","11R","11R","11R","11R","12R","12R","12R","12R","13R","13R","13R","13R","13R","13R","14R","14R","15R","16R",null,null,null,{"$error":"#N/A"},{"$f":"IF(AND($DF$4<=18,$DF$4>16),18,0)","v":{"$error":"#N/A"}},{"$f":"IF(AND(DG30=18,$DE$4>=4,$DE$4<=9),DG30&\"A\",0)","v":{"$error":"#N/A"}},null,null,{"$error":"#N/A"},{"$f":"IF(AND($DK$4<=18,$DK$4>16),18,0)","v":{"$error":"#N/A"}},{"$f":"IF(AND(DL30=18,$DJ$4>=4,$DJ$4<=9),DL30&\"A\",0)","v":{"$error":"#N/A"}}]
[null,32,88,"WT",null,32,88,"RD",null,null,null,4,{"$f":"IF(TYPE4>\"\",TYPE4,\"\")","v":""},null,"S140",{"$f":"CDIMS140","v":0},{"$f":"BSH_S140","v":{"$error":"#N/A"}},{"$f":"SW_S140","v":{"$error":"#N/A"}},0,{"$f":"IF(OR(EXTSELECT=2,EXTSELECT=3,EXTSELECT=6),1.3125,IF(OR(EXTSELECT=4,EXTSELECT=5),1.03125,0))","v":0},{"$f":"IF(OR(EXTSELECT=2,EXTSELECT=3),7.875,IF(OR(EXTSELECT=4,EXTSELECT=5),3.074,IF(OR(EXTSELECT=7,EXTSELECT=8),1,7.4375)))","v":7.4375},{"$f":"IF(OR(EXTSELECT=2,EXTSELECT=3),1.875,IF(OR(EXTSELECT=4,EXTSELECT=5),1.537,IF(EXTSELECT=7,1.818,IF(EXTSELECT=8,2,1.75))))","v":1.75},{"$f":"IF(OR(EXTSELECT=2,EXTSELECT=3),5.8125,IF(OR(EXTSELECT=4,EXTSELECT=5),3.0625,IF(OR(EXTSELECT=7,EXTSELECT=8),4.625,4.5)))","v":4.5},null,null,null,null,null,"Top Glass",{"$f":"(CMR!$E$29*CMR!$E$31)/144","v":0.10685221354166667},{"$f":"$L$12","v":""},{"$error":"#VALUE!"},null,"Top Rail Reinf.",{"$f":"(ROUND(Frame_Width-13,2))/12","v":-1.0833333333333333},0.14599999999999999,-0.15816666666666665,null,null,null,{"$error":"#N/A"},{"$f":"IF(AND($AO$4<=12,$AO$4>10),12,0)","v":0},{"$f":"IF(AND(AP31=12,$AN$4>=3,$AN$4<=7),AP31&\"A\",0)","v":{"$error":"#N/A"}},null,null,{"$error":"#N/A"},{"$f":"IF(AND($AT$4<=12,$AT$4>10),12,0)","v":0},{"$f":"IF(AND(AU31=12,$AS$4>=3,$AS$4<=7),AU31&\"A\",0)","v":{"$error":"#N/A"}},null,null,null,"1920",null,{"$f":"VLOOKUP((CDIM_1920-0.84375),Caldwell,3)","v":{"$error":"#N/A"}},null,30,null,null,null,null,null,null,null,null,null,null,null,null,null,null,null,"4H","4H","4H","4H","5H","5H","5H","5H","5H","5H","6H","6H","6H","6H","7H","7H","10R","11R","11R","12R","12R","13R","13R","13R","13R","14R","14R","14R","14R","14R","14R","14R","15R","15R","17R",null,null,null,{"$error":"#N/A"},{"$error":"#N/A"},{"$f":"IF(AND(DG31=18,$DE$4>=10,$DE$4<=13),DG31&\"B\",0)","v":{"$error":"#N/A"}},null,null,{"$error":"#N/A"},{"$error":"#N/A"},{"$f":"IF(AND(DL31=18,$DJ$4>=10,$DJ$4<=13),DL31&\"B\",0)","v":{"$error":"#N/A"}}]
[null,33,89,"NAT",null,33,89,"YW",null,null,null,1,{"$f":"VLOOKUP(TYPE,L28:M31,2,FALSE)","v":""},null,"S144",{"$f":"CDIMS140","v":0},{"$f":"BSH_S140","v":{"$error":"#N/A"}},{"$f":"SW_S140","v":{"$error":"#N/A"}},0,{"$f":"IF(OR(EXTSELECT=2,EXTSELECT=3,EXTSELECT=6),1.3125,IF(OR(EXTSELECT=4,EXTSELECT=5),1.03125,0))","v":0},{"$f":"IF(OR(EXTSELECT=2,EXTSELECT=3),7.875,IF(OR(EXTSELECT=4,EXTSELECT=5),3.074,IF(OR(EXTSELECT=7,EXTSELECT=8),1,7.4375)))","v":7.4375},{"$f":"IF(OR(EXTSELECT=2,EXTSELECT=3),1.875,IF(OR(EXTSELECT=4,EXTSELECT=5),1.537,IF(EXTSELECT=7,1.818,IF(EXTSELECT=8,2,1.75))))","v":1.75},{"$f":"IF(OR(EXTSELECT=2,EXTSELECT=3),5.8125,IF(OR(EXTSELECT=4,EXTSELECT=5),3.0625,IF(OR(EXTSELECT=7,EXTSELECT=8),4.625,4.5)))","v":4.5},null,"SHAT Error",null,null,null,"Top Spacer",{"$f":"((CMR!$E$29*2)+(CMR!$E$31*2))/12","v":-1.3385416666666667},5.3600000000000002E-2,-7.1745833333333342E-2,null,"Top Stile Reinf",null,0.14599999999999999,0,null,null,null,{"$error":"#N/A"},0,{"$f":"IF(AND(AP32=12,$AN$4>=8,$AN$4<=10),AP32&\"B\",0)","v":{"$error":"#N/A"}},null,null,{"$error":"#N/A"},0,{"$f":"IF(AND(AU32=12,$AS$4>=8,$AS$4<=10),AU32&\"B\",0)","v":{"$error":"#N/A"}},null,null,null,"1930",null,{"$f":"VLOOKUP((CDIM_1930-0.84375),Caldwell,3)","v":{"$error":"#N/A"}},null,31,null,null,null,null,null,null,null,null,null,null,null,null,null,null,null,"4H","4H","4H","5H","5H","5H","6H","6H","6H","6H","6H","6H","7H","7H","7H","7H","8H","8H","9H","9H","9H","9H","10H","10H","10H","10H","11H","11H","11H","11H","12H","12H","12H","12H","12H",null,null,null,{"$error":"#N/A"},{"$error":"#N/A"},{"$f":"IF(AND(DG32=18,$DE$4>=14,$DE$4<=18),DG32&\"C\",0)","v":{"$error":"#N/A"}},null,null,{"$error":"#N/A"},{"$error":"#N/A"},{"$f":"IF(AND(DL32=18,$DJ$4>=14,$DJ$4<=18),DL32&\"C\",0)","v":{"$error":"#N/A"}}]
[null,34,89,"NAT",null,34,89,"YW",null,null,null,null,null,null,"S146",{"$f":"CDIMS140","v":0},{"$f":"BSH_S140","v":{"$error":"#N/A"}},{"$f":"SW_S140","v":{"$error":"#N/A"}},0,{"$f":"IF(OR(EXTSELECT=2,EXTSELECT=3,EXTSELECT=6),1.3125,IF(OR(EXTSELECT=4,EXTSELECT=5),1.03125,0))","v":0},{"$f":"IF(OR(EXTSELECT=2,EXTSELECT=3),7.875,IF(OR(EXTSELECT=4,EXTSELECT=5),3.074,IF(OR(EXTSELECT=7,EXTSELECT=8),1,7.4375)))","v":7.4375},{"$f":"IF(OR(EXTSELECT=2,EXTSELECT=3),1.875,IF(OR(EXTSELECT=4,EXTSELECT=5),1.537,IF(EXTSELECT=7,1.818,IF(EXTSELECT=8,2,1.75))))","v":1.75},{"$f":"IF(OR(EXTSELECT=2,EXTSELECT=3),5.8125,IF(OR(EXTSELECT=4,EXTSELECT=5),3.0625,IF(OR(EXTSELECT=7,EXTSELECT=8),4.625,4.5)))","v":4.5},null,{"$f":"IF(AND(OR(ModelNo=\"S140\",ModelNo=\"S144\",ModelNo=\"S146\",ModelNo=\"S140 (HP)\",ModelNo=\"S144 (HP)\",ModelNo=\"S146 (HP)\"),EH<6),1,0)","v":{"$error":"#N/A"}},null,null,null,"Top Hardware",1,0.2,0.2,null,"Top Glass",{"$f":"(CMR!$E$77*CMR!$E$79)/144","v":0.10026041666666667},{"$f":"$L$12","v":""},{"$error":"#VALUE!"},null,null,null,{"$error":"#N/A"},0,{"$f":"IF(AND(AP33=12,$AN$4>=11,$AN$4<=16),AP33&\"C\",0)","v":{"$error":"#N/A"}},null,null,{"$error":"#N/A"},0,{"$f":"IF(AND(AU33=12,$AS$4>=11,$AS$4<=16),AU33&\"C\",0)","v":{"$error":"#N/A"}},null,null,null,"1901",{"$f":"VLOOKUP((DDIM_1901-1),Caldwell,4)","v":{"$error":"#N/A"}},{"$f":"VLOOKUP((CDIM_1901-1),Caldwell,3)","v":{"$error":"#N/A"}},null,32,null,null,null,null,null,null,null,null,null,null,null,null,null,null,null,"4H","4H","4H","5H","5H","5H","6H","6H","6H","6H","6H","6H","7H","7H","7H","7H","8H","8H","9H","9H","9H","9H","10H","10H","10H","10H","11H","11H","11H","11H","12H","12H","12H","12H","12H",null,null,null,{"$error":"#N/A"},{"$error":"#N/A"},{"$f":"IF(AND(DG33=18,$DE$4>=19,$DE$4<=21),DG33&\"D\",0)","v":{"$error":"#N/A"}},null,null,{"$error":"#N/A"},{"$error":"#N/A"},{"$f":"IF(AND(DL33=18,$DJ$4>=19,$DJ$4<=21),DL33&\"D\",0)","v":{"$error":"#N/A"}}]
[null,35,99,"PU",null,35,99,"YW",null,null,null,null,"Opening",null,"V100",{"$f":"CMR!$L$100","v":0},{"$f":"TRUNC(((CMR!$L$100-0.844)*32+0.5))/32","v":-0.8125},{"$f":"AF157","v":0},{"$f":"AF156","v":0},null,4,null,4.625,null,"SHAT_MIN_R",null,null,null,"Top Bead",{"$f":"(((Frame_Width-4.3125)*2)+((CMR!$E$26-2.625)*2))/12","v":-1.15625},2.8000000000000001E-2,-3.2375000000000001E-2,null,"Top Spacer",{"$f":"((CMR!$E$77*2)+(CMR!$E$79*2))/12","v":-1.3020833333333333},5.3600000000000002E-2,-6.9791666666666669E-2,null,null,null,{"$error":"#N/A"},0,{"$f":"IF(AND(AP34=12,$AN$4>=17,$AN$4<=18),AP34&\"D\",0)","v":{"$error":"#N/A"}},null,null,{"$error":"#N/A"},0,{"$f":"IF(AND(AU34=12,$AS$4>=17,$AS$4<=18),AU34&\"D\",0)","v":{"$error":"#N/A"}},null,null,null,"1921",{"$f":"VLOOKUP((DDIM_1921-1),Caldwell,4)","v":{"$error":"#N/A"}},{"$f":"VLOOKUP((CDIM_1921-1),Caldwell,3)","v":{"$error":"#N/A"}},null,33,null,null,null,null,null,null,null,null,null,null,null,null,null,null,null,"5H","5H","5H","5H","6H","6H","6H","6H","6H","6H","7H","7H","7H","7H","8H","8H","9H","9H","10H","10H","10H","10H","11H","11H","11H","11H","12H","12H","12H","12H","13H","13H","13H","13H","13H",null,null,null,{"$error":"#N/A"},{"$error":"#N/A"},{"$f":"IF(AND(DG34=18,$DE$4>=22,$DE$4<=24),DG34&\"E\",0)","v":{"$error":"#N/A"}},null,null,{"$error":"#N/A"},{"$error":"#N/A"},{"$f":"IF(AND(DL34=18,$DJ$4>=22,$DJ$4<=24),DL34&\"E\",0)","v":{"$error":"#N/A"}}]
[null,36,99,"PU",null,36,99,"YW",null,null,null,1,"Exact Size",null,"V101",{"$f":"CMR!$L$116","v":0},{"$f":"TRUNC(((CMR!$L$116-0.3125)*32+0.5))/32","v":-0.28125},{"$f":"AF179","v":0},{"$f":"AF178","v":0},null,4.75,null,4.625,null,{"$f":"IF(AND(OR(ModelNo=\"S140\",ModelNo=\"S144\",ModelNo=\"S146\"),SHATRADIUS<Y36),1,0)","v":{"$error":"#DIV/0!"}},null,null,null,"Bottom Top Rail",{"$f":"(Frame_Width-2.25)/12","v":-0.1875},0.246,{"$f":"AD35*AE35","v":-4.6124999999999999E-2},null,"Top Hardware",1,0.24,0.24,null,null,null,{"$error":"#N/A"},0,{"$f":"IF(AND(AP35=12,$AN$4>=19,$AN$4<=21),AP35&\"E\",0)","v":{"$error":"#N/A"}},null,null,{"$error":"#N/A"},0,{"$f":"IF(AND(AU35=12,$AS$4>=19,$AS$4<=21),AU35&\"E\",0)","v":{"$error":"#N/A"}},null,null,null,"1931",{"$f":"VLOOKUP((DDIM_1931-1),Caldwell,4)","v":{"$error":"#N/A"}},{"$f":"VLOOKUP((CDIM_1931-1),Caldwell,3)","v":{"$error":"#N/A"}},null,34,null,null,null,null,null,null,null,null,null,null,null,null,null,null,null,"5H","5H","5H","6H","6H","6H","6H","6H","6H","6H","7H","7H","7H","7H","8H","8H","9H","9H","10H","10H","10H","10H","11H","11H","11H","11H","12H","12H","12H","12H","13H","13H","13H","13H","14H",null,null,null,{"$error":"#N/A"},{"$error":"#N/A"},{"$f":"IF(AND(DG35=18,$DE$4>=25,$DE$4<=26),DG35&\"F\",0)","v":{"$error":"#N/A"}},null,null,{"$error":"#N/A"},{"$error":"#N/A"},{"$f":"IF(AND(DL35=18,$DJ$4>=25,$DJ$4<=26),DL35&\"F\",0)","v":{"$error":"#N/A"}}]
[null,37,766,"BU",null,37,478,"PUR",null,null,null,2,"Rough Opening",null,"V200",{"$f":"CMR!$L$125","v":0},{"$f":"TRUNC(((CMR!$L$125-0.8125)*32+0.5))/32-0.0625","v":-0.84375},{"$f":"AK167","v":0},{"$f":"AK166","v":0},null,4.75,null,4.625,null,{"$f":"IF(OR(ModelNo=\"S140\",ModelNo=\"S144\",ModelNo=\"S146\"),VLOOKUP(EXTSELECT,L16:N20,3),0)","v":0},null,null,null,"Bottom Bottom Rail",{"$f":"(Frame_Width-2.25)/12","v":-0.1875},0.25700000000000001,-4.8187500000000001E-2,null,"Top Handle Bead",{"$f":"(Frame_Width-5.9375)/12","v":-0.49479166666666669},7.8E-2,-3.8593750000000003E-2,null,null,null,{"$error":"#N/A"},0,{"$f":"IF(AND(AP36=12,$AN$4>=22,$AN$4<=32),\"Dbl.\"&AP36&\"C\",0)","v":{"$error":"#N/A"}},null,null,{"$error":"#N/A"},0,{"$f":"IF(AND(AU36=12,$AS$4>=22,$AS$4<=32),\"Dbl.\"&AU36&\"C\",0)","v":{"$error":"#N/A"}},null,null,null,{"$f":"ModelNo","v":"Select Model"},{"$f":"VLOOKUP($AZ$36,$AZ$5:$BB$35,2,FALSE)","v":{"$error":"#N/A"}},{"$f":"VLOOKUP($AZ$36,$AZ$5:$BB$35,3,FALSE)","v":{"$error":"#N/A"}},null,35,null,null,null,null,null,null,null,null,null,null,null,null,null,null,null,"5H","5H","5H","6H","6H","6H","7H","7H","7H","7H","7H","7H","8H","8H","9H","9H","10H","10H","10H","10H","11H","11H","11H","11H","12H","12H","13H","13H","13H","13H","14H","14H","14H","14H","15H",null,null,null,{"$error":"#N/A"},{"$error":"#N/A"},{"$f":"IF(AND(DG36=18,$DE$4>=27,$DE$4<=29),DG36&\"G\",0)","v":{"$error":"#N/A"}},null,null,{"$error":"#N/A"},{"$error":"#N/A"},{"$f":"IF(AND(DL36=18,$DJ$4>=27,$DJ$4<=29),DL36&\"G\",0)","v":{"$error":"#N/A"}}]
[null,38,766,"BU",null,38,478,"PUR",null,null,null,1,{"$f":"VLOOKUP(RO,L35:M36,2,FALSE)","v":"Exact Size"},null,"P601",{"$f":"CMR!$L$91","v":0},{"$f":"CMR!$L$91-1.0625","v":-1.0625},{"$f":"$AK$97","v":0},{"$f":"$AK$96","v":0},null,null,null,5.9375,null,"SHAT_MESSAGE",null,null,null,"Bottom Stile",{"$f":"(2*(CMR!$E$27-0.5625))/12","v":-9.375E-2},0.23300000000000001,-2.1843750000000002E-2,null,"Top Bead",{"$f":"((Frame_Width-5.9375)+((CMR!$E$74-3.0625)*2))/12","v":-1.0052083333333333},7.8E-2,-7.8406249999999997E-2,null,null,null,{"$f":"IF(AND(AP37>0,AQ37>0),AP37,0)","v":{"$error":"#N/A"}},0,{"$f":"IF(AND(AP37=12,$AN$4>=33,$AN$4<=36),\"Dbl.\"&AP37&\"D\",0)","v":{"$error":"#N/A"}},null,null,{"$error":"#N/A"},0,{"$f":"IF(AND(AU37=12,$AS$4>=33,$AS$4<=36),\"Dbl.\"&AU37&\"D\",0)","v":{"$error":"#N/A"}},null,null,null,null,null,null,null,36,null,null,null,null,null,null,null,null,null,null,null,null,null,null,null,"5H","5H","5H","6H","6H","6H","7H","7H","7H","7H","7H","7H","8H","8H","9H","9H","10H","10H","10H","10H","11H","11H","11H","11H","12H","12H","13H","13H","13H","13H","14H","14H","14H","14H","15H",null,null,null,{"$error":"#N/A"},{"$error":"#N/A"},{"$f":"IF(AND(DG37=18,$DE$4>=30,$DE$4<=32),DG37&\"H\",0)","v":{"$error":"#N/A"}},null,null,{"$error":"#N/A"},{"$error":"#N/A"},{"$f":"IF(AND(DL37=18,$DJ$4>=30,$DJ$4<=32),DL37&\"H\",0)","v":{"$error":"#N/A"}}]
[null,39,866,"YW",null,39,488,"YW",null,null,null,null,null,null,"9001",{"$f":"CMR!$L$91","v":0},{"$f":"CMR!$L$91-1.0625","v":-1.0625},{"$f":"$AK$97","v":0},{"$f":"$AK$96","v":0},null,null,null,5.9375,null,{"$f":"IF(Y35=1,\"Radius Must be Greater Than \"&Y36,\"\")","v":{"$error":"#DIV/0!"}},null,null,null,"Bottom Rail Reinf.",{"$f":"(TRUNC(((Frame_Width-2.25)-6)/2)*2)/12","v":-0.66666666666666663},{"$f":"IF(ModelNo=\"0201\",0.37,IF(ModelNo=\"L201\",0.052,0))","v":0},0,null,"Bottom Top Rail",{"$f":"(Frame_Width-3)/12","v":-0.25},0.42899999999999999,-0.10725,null,null,null,{"$error":"#N/A"},0,{"$f":"IF(AND(AP38=12,$AN$4>=37,$AN$4<=42),\"Dbl.\"&AP38&\"E\",0)","v":{"$error":"#N/A"}},null,null,{"$error":"#N/A"},0,{"$f":"IF(AND(AU38=12,$AS$4>=37,$AS$4<=42),\"Dbl.\"&AU38&\"E\",0)","v":{"$error":"#N/A"}},null,null,null,null,null,null,null,37,null,null,null,null,null,null,null,null,null,null,null,null,null,null,null,"6H","6H","6H","7H","7H","7H","7H","7H","7H","7H","8H","8H","9H","9H","10H","10H","11H","11H","11H","11H","12H","12H","12H","12H","13H","13H","14H","14H","14H","14H","15H","15H","15H","15H","16H",null,null,null,{"$error":"#N/A"},{"$f":"IF(AND($DF$4<=20,$DF$4>18),20,0)","v":{"$error":"#N/A"}},{"$f":"IF(AND(DG38=20,$DE$4>=5,$DE$4<=10),DG38&\"A\",0)","v":{"$error":"#N/A"}},null,null,{"$error":"#N/A"},{"$f":"IF(AND($DK$4<=20,$DK$4>18),20,0)","v":{"$error":"#N/A"}},{"$f":"IF(AND(DL38=20,$DJ$4>=5,$DJ$4<=10),DL38&\"A\",0)","v":{"$error":"#N/A"}}]
[null,40,866,"YW",null,40,488,"YW",null,null,null,{"$f":"IF(OR(ModelNo=\"0100\",ModelNo=\"01HP\",ModelNo=\"0102\",ModelNo=\"0103\",ModelNo=\"0104\",ModelNo=\"0109\",ModelNo=\"0151\",ModelNo=\"0152\",ModelNo=\"0153\",ModelNo=\"0154\",ModelNo=\"0155\",ModelNo=\"0170\",ModelNo=\"0171\",ModelNo=\"0172\",ModelNo=\"0173\",ModelNo=\"S174\",ModelNo=\"S175\",ModelNo=\"0179\",ModelNo=\"0301\"),1,0)","v":0},"Screen",null,"3001",{"$f":"CDIM3001","v":0},{"$f":"CDIM3001-0.4375","v":-0.4375},{"$f":"BSW_3001","v":0},{"$f":"TSW_3001","v":0},1.3125,7.875,1.875,5.25,null,null,null,null,null,"Bottom Stile Reinf.",{"$f":"IF(CMR!$E$32>27.6875,((TRUNC((CMR!$E$27-4.5)/2)*2)/12)*2,0)","v":0},{"$f":"IF(ModelNo=\"0201\",0.299,IF(ModelNo=\"L201\",0.052,0))","v":0},0,null,"Bottom Bottom Rail",{"$f":"(Frame_Width-3)/12","v":-0.25},0.42899999999999999,-0.10725,null,null,null,{"$error":"#N/A"},{"$f":"IF(AND($AO$4<=14,$AO$4>12),14,0)","v":0},{"$f":"IF(AND(AP39=14,$AN$4>=3,$AN$4<=7),AP39&\"A\",0)","v":{"$error":"#N/A"}},null,null,{"$error":"#N/A"},{"$f":"IF(AND($AT$4<=14,$AT$4>12),14,0)","v":0},{"$f":"IF(AND(AU39=14,$AS$4>=3,$AS$4<=7),AU39&\"A\",0)","v":{"$error":"#N/A"}},null,null,null,null,null,null,null,38,null,null,null,null,null,null,null,null,null,null,null,null,null,null,null,"6H","6H","6H","7H","7H","7H","7H","7H","7H","7H","8H","8H","9H","9H","10H","10H","11H","11H","11H","11H","12H","12H","12H","12H","13H","13H","14H","14H","14H","14H","15H","15H","16H","16H","17H",null,null,null,{"$error":"#N/A"},{"$error":"#N/A"},{"$f":"IF(AND(DG39=20,$DE$4>=11,$DE$4<=14),DG39&\"B\",0)","v":{"$error":"#N/A"}},null,null,{"$error":"#N/A"},{"$error":"#N/A"},{"$f":"IF(AND(DL39=20,$DJ$4>=11,$DJ$4<=14),DL39&\"B\",0)","v":{"$error":"#N/A"}}]
[null,41,777,"GN",null,41,588,"RD",null,null,null,1,{"$f":"IF(SCREEN1>\"\",SCREEN1,\"\")","v":""},null,"03A0",{"$f":"CDIM03A0","v":0},{"$f":"CDIM03A0-0.75","v":-0.75},{"$f":"BSW03A0","v":0},null,1.3125,7.875,1.875,5.8125,null,null,null,null,null,"Bottom Glass",{"$f":"(CMR!$E$30*CMR!$E$32)/144","v":5.8024088541666664E-2},{"$f":"$L$12","v":""},{"$error":"#VALUE!"},null,"Bottom Stile",{"$f":"(2*(CMR!$E$75-0.8125))/12","v":-0.13541666666666666},0.23300000000000001,-3.1552083333333335E-2,null,null,null,{"$error":"#N/A"},0,{"$f":"IF(AND(AP40=14,$AN$4>=8,$AN$4<=10),AP40&\"B\",0)","v":{"$error":"#N/A"}},null,null,{"$error":"#N/A"},0,{"$f":"IF(AND(AU40=14,$AS$4>=8,$AS$4<=10),AU40&\"B\",0)","v":{"$error":"#N/A"}},null,null,null,null,null,null,null,39,null,null,null,null,null,null,null,null,null,null,null,null,null,null,null,"6H","6H","7H","7H","7H","7H","7H","7H","8H","8H","8H","8H","9H","9H","10H","10H","11H","11H","12H","12H","13H","13H","13H","13H","14H","14H","15H","15H","15H","15H","16H","16H","17H","17H","17H",null,null,null,{"$error":"#N/A"},{"$error":"#N/A"},{"$f":"IF(AND(DG40=20,$DE$4>=15,$DE$4<=18),DG40&\"C\",0)","v":{"$error":"#N/A"}},null,null,{"$error":"#N/A"},{"$error":"#N/A"},{"$f":"IF(AND(DL40=20,$DJ$4>=15,$DJ$4<=18),DL40&\"C\",0)","v":{"$error":"#N/A"}}]
[null,42,777,"GN",null,42,588,"RD",null,null,null,2,{"$f":"IF(SCREEN2>\"\",SCREEN2,\"\")","v":""},null,"1700",{"$f":"CDIM_1700","v":0},{"$f":"TRUNC(((CDIM_1700-0.84375)*32+0.5))/32","v":-0.8125},{"$f":"AK201","v":0},0,null,3,4.1875,4.625,null,null,null,null,null,"Bottom Spacer",{"$f":"((CMR!$E$30*2)+(CMR!$E$32*2))/12","v":-1.0052083333333333},5.3600000000000002E-2,-5.3879166666666665E-2,null,"Bottom Rail Reinf.",{"$f":"(ROUND(Frame_Width-13,2))/12","v":-1.0833333333333333},0.14599999999999999,-0.15816666666666665,null,null,null,{"$error":"#N/A"},0,{"$f":"IF(AND(AP41=14,$AN$4>=11,$AN$4<=16),AP41&\"C\",0)","v":{"$error":"#N/A"}},null,null,{"$error":"#N/A"},0,{"$f":"IF(AND(AU41=14,$AS$4>=11,$AS$4<=16),AU41&\"C\",0)","v":{"$error":"#N/A"}},null,null,null,null,null,null,null,40,null,null,null,null,null,null,null,null,null,null,null,null,null,null,null,"6H","7H","7H","7H","7H","7H","7H","7H","8H","8H","8H","8H","9H","9H","10H","10H","11H","11H","12H","12H","13H","13H","13H","13H","14H","14H","15H","15H","15H","15H","16H","16H","17H","17H","17H",null,null,null,{"$error":"#N/A"},{"$error":"#N/A"},{"$f":"IF(AND(DG41=20,$DE$4>=19,$DE$4<=22),DG41&\"D\",0)","v":{"$error":"#N/A"}},null,null,{"$error":"#N/A"},{"$error":"#N/A"},{"$f":"IF(AND(DL41=20,$DJ$4>=19,$DJ$4<=22),DL41&\"D\",0)","v":{"$error":"#N/A"}}]
[null,43,877,"LG",null,43,688,"GR",null,null,null,3,{"$f":"IF(SCREEN3>\"\",SCREEN3,\"\")","v":""},null,"1720",{"$f":"CDIM_1720","v":0},{"$f":"TRUNC(((CDIM_1720-0.84375)*32+0.5))/32","v":-0.8125},{"$f":"AK213","v":0},0,null,3,4.1875,{"$f":"Frame_Width/2+4.875","v":4.875},null,null,null,null,null,"Bottom Hardware",1,0.36,0.36,null,"Bottom Stile Reinf.",null,0.14599999999999999,0,null,null,null,{"$error":"#N/A"},0,{"$f":"IF(AND(AP42=14,$AN$4>=17,$AN$4<=19),AP42&\"D\",0)","v":{"$error":"#N/A"}},null,null,{"$error":"#N/A"},0,{"$f":"IF(AND(AU42=14,$AS$4>=17,$AS$4<=19),AU42&\"D\",0)","v":{"$error":"#N/A"}},null,null,null,null,null,null,null,null,null,null,null,null,null,null,null,null,null,null,null,null,null,null,null,null,null,null,null,null,null,null,null,null,null,null,null,null,null,null,null,null,null,null,null,null,null,null,null,null,null,null,null,null,null,null,null,null,null,null,null,null,null,{"$error":"#N/A"},{"$error":"#N/A"},{"$f":"IF(AND(DG42=20,$DE$4>=23,$DE$4<=26),DG42&\"E\",0)","v":{"$error":"#N/A"}},null,null,{"$error":"#N/A"},{"$error":"#N/A"},{"$f":"IF(AND(DL42=20,$DJ$4>=23,$DJ$4<=26),DL42&\"E\",0)","v":{"$error":"#N/A"}}]
[null,44,877,"LG",null,44,688,"GR",null,null,null,1,{"$f":"IF(Screen_Type=3,\"L\",IF(Screen_Type=2,\"F\",\"H\"))","v":"H"},null,"1730",{"$f":"CDIM_1730","v":0},{"$f":"TRUNC(((CDIM_1730-0.84375)*32+0.5))/32","v":-0.8125},{"$f":"AK225","v":0},0,null,3,4.1875,{"$f":"((Frame_Width/3)*2)+4.875","v":4.875},null,null,null,null,null,"Bottom Bead",{"$f":"(((Frame_Width-3.3125)*2)+((CMR!$E$27-1.625)*2))/12","v":-0.82291666666666663},2.8000000000000001E-2,-2.3041666666666665E-2,null,"Bottom Glass",{"$f":"(CMR!$E$78*CMR!$E$80)/144","v":0.10026041666666667},{"$f":"$L$12","v":""},{"$error":"#VALUE!"},null,null,null,{"$error":"#N/A"},0,{"$f":"IF(AND(AP43=14,$AN$4>=20,$AN$4<=22),AP43&\"E\",0)","v":{"$error":"#N/A"}},null,null,{"$error":"#N/A"},0,{"$f":"IF(AND(AU43=14,$AS$4>=20,$AS$4<=22),AU43&\"E\",0)","v":{"$error":"#N/A"}},null,null,null,null,null,null,null,null,null,null,null,null,null,null,null,null,null,null,null,null,null,null,null,null,null,null,null,null,null,null,null,null,null,null,null,null,null,null,null,null,null,null,null,null,null,null,null,null,null,null,null,null,null,null,null,null,null,null,null,null,null,{"$error":"#N/A"},{"$error":"#N/A"},{"$f":"IF(AND(DG43=20,$DE$4>=27,$DE$4<=30),DG43&\"F\",0)","v":{"$error":"#N/A"}},null,null,{"$error":"#N/A"},{"$error":"#N/A"},{"$f":"IF(AND(DL43=20,$DJ$4>=27,$DJ$4<=30),DL43&\"F\",0)","v":{"$error":"#N/A"}}]
[null,45,878,"OR",null,45,788,"BR",null,null,null,null,"Add Grid for Weight Calc.",null,"1900",{"$f":"CDIM_1900","v":0},{"$f":"TRUNC(((CDIM_1900-0.844)*16+0.5))/16","v":-0.8125},{"$f":"AF204","v":0},0,null,3,4.4375,4.625,null,null,null,null,null,null,null,"Top Sash",{"$f":"IF(OR(ModelNo=\"0201\",ModelNo=\"L201\"),(SUM(AF26:AF34))+5,0)","v":0},null,"Bottom Spacer",{"$f":"((CMR!$E$78*2)+(CMR!$E$80*2))/12","v":-1.3020833333333333},5.3600000000000002E-2,-6.9791666666666669E-2,null,null,null,{"$error":"#N/A"},0,{"$f":"IF(AND(AP44=14,$AN$4>=23,$AN$4<=25),AP44&\"F\",0)","v":{"$error":"#N/A"}},null,null,{"$error":"#N/A"},0,{"$f":"IF(AND(AU44=14,$AS$4>=23,$AS$4<=25),AU44&\"F\",0)","v":{"$error":"#N/A"}},null,null,null,null,null,null,null,null,null,null,null,null,null,null,null,null,null,null,null,null,null,null,null,null,null,null,null,null,null,null,null,null,null,null,null,null,null,null,null,null,null,null,null,null,null,null,null,null,null,null,null,null,null,null,null,null,null,null,null,null,null,{"$error":"#N/A"},{"$error":"#N/A"},{"$f":"IF(AND(DG44=20,$DE$4>=31,$DE$4<=34),DG44&\"G\",0)","v":{"$error":"#N/A"}},null,null,{"$error":"#N/A"},{"$error":"#N/A"},{"$f":"IF(AND(DL44=20,$DJ$4>=31,$DJ$4<=34),DL44&\"G\",0)","v":{"$error":"#N/A"}}]
[null,46,878,"OR",null,46,788,"BR",null,null,null,{"$f":"IF(GRIDWEIGHT=TRUE,0.25,0)","v":0},false,null,"1920",{"$f":"CDIM_1920","v":0},{"$f":"TRUNC(((CDIM_1920-0.844)*16+0.5))/16","v":-0.8125},{"$f":"AF216","v":0},0,null,3,4.4375,{"$f":"Frame_Width/2+4.875","v":4.875},null,null,null,null,null,null,null,"Bottom Sash",{"$f":"IF(OR(ModelNo=\"0201\",ModelNo=\"l201\"),SUM(AF35:AF43),0)","v":0},null,"Bottom Hardware",1,0.32200000000000001,0.32200000000000001,null,null,null,{"$error":"#N/A"},0,{"$f":"IF(AND(AP45=14,$AN$4>=26,$AN$4<=28),AP45&\"G\",0)","v":{"$error":"#N/A"}},null,null,{"$error":"#N/A"},0,{"$f":"IF(AND(AU45=14,$AS$4>=26,$AS$4<=28),AU45&\"G\",0)","v":{"$error":"#N/A"}},null,null,null,null,null,null,null,null,null,null,null,null,null,null,null,null,null,null,null,null,null,null,null,null,null,null,null,null,null,null,null,null,null,null,null,null,null,null,null,null,null,null,null,null,null,null,null,null,null,null,null,null,null,null,null,null,null,null,null,null,null,{"$error":"#N/A"},{"$f":"IF(AND($DF$4<=22,$DF$4>20),22,0)","v":{"$error":"#N/A"}},{"$f":"IF(AND(DG45=22,$DE$4>=5,$DE$4<=10),DG45&\"A\",0)","v":{"$error":"#N/A"}},null,null,{"$error":"#N/A"},{"$f":"IF(AND($DK$4<=22,$DK$4>20),22,0)","v":{"$error":"#N/A"}},{"$f":"IF(AND(DL45=22,$DJ$4>=5,$DJ$4<=10),DL45&\"A\",0)","v":{"$error":"#N/A"}}]
[null,47,888,"WT",null,47,888,"OR",null,null,null,null,null,null,"1930",{"$f":"CDIM_1930","v":0},{"$f":"TRUNC(((CDIM_1930-0.844)*16+0.5))/16","v":-0.8125},{"$f":"AF228","v":0},0,null,3,4.4375,{"$f":"((Frame_Width/3)*2)+4.875","v":4.875},null,null,null,null,null,null,null,null,null,null,"Bottom Keeper Bead",{"$f":"(Frame_Width-5.9375)/12","v":-0.49479166666666669},7.8E-2,-3.8593750000000003E-2,null,null,null,{"$error":"#N/A"},0,{"$f":"IF(AND(AP46=14,$AN$4>=29,$AN$4<=31),AP46&\"H\",0)","v":{"$error":"#N/A"}},null,null,{"$error":"#N/A"},0,{"$f":"IF(AND(AU46=14,$AS$4>=29,$AS$4<=31),AU46&\"H\",0)","v":{"$error":"#N/A"}},null,null,null,null,null,null,null,null,null,null,null,null,null,null,null,null,null,null,null,null,null,null,null,null,null,null,null,null,null,null,null,null,null,null,null,null,null,null,null,null,null,null,null,null,null,null,null,null,null,null,null,null,null,null,null,null,null,null,null,null,null,{"$error":"#N/A"},{"$error":"#N/A"},{"$f":"IF(AND(DG46=22,$DE$4>=11,$DE$4<=16),DG46&\"B\",0)","v":{"$error":"#N/A"}},null,null,{"$error":"#N/A"},{"$error":"#N/A"},{"$f":"IF(AND(DL46=22,$DJ$4>=11,$DJ$4<=16),DL46&\"B\",0)","v":{"$error":"#N/A"}}]
[null,48,888,"WT",null,48,888,"OR",null,null,null,null,null,null,"1901",{"$f":"CDIM_1901","v":0},{"$f":"TRUNC(((CDIM_1901-1)*16+0.5))/16","v":-0.9375},{"$f":"AK247","v":0},{"$f":"AK246","v":0},null,3.5,3.125,4.625,null,null,null,null,null,"02A0","Length","Weight/ft","Weight",null,"Bottom Bead",{"$f":"((Frame_Width-5.9375)+((CMR!$E$75-3.0625)*2))/12","v":-1.0052083333333333},7.8E-2,-7.8406249999999997E-2,null,null,null,{"$error":"#N/A"},0,{"$f":"IF(AND(AP47=14,$AN$4>=32,$AN$4<=34),AP47&\"I\",0)","v":{"$error":"#N/A"}},null,null,{"$error":"#N/A"},0,{"$f":"IF(AND(AU47=14,$AS$4>=32,$AS$4<=34),AU47&\"I\",0)","v":{"$error":"#N/A"}},null,null,null,null,null,null,null,null,null,null,null,null,null,null,null,null,null,null,null,null,null,null,null,null,null,null,null,null,null,null,null,null,null,null,null,null,null,null,null,null,null,null,null,null,null,null,null,null,null,null,null,null,null,null,null,null,null,null,null,null,null,{"$error":"#N/A"},{"$error":"#N/A"},{"$f":"IF(AND(DG47=22,$DE$4>=17,$DE$4<=21),DG47&\"C\",0)","v":{"$error":"#N/A"}},null,null,{"$error":"#N/A"},{"$error":"#N/A"},{"$f":"IF(AND(DL47=22,$DJ$4>=17,$DJ$4<=21),DL47&\"C\",0)","v":{"$error":"#N/A"}}]
[null,49,889,"BN",null,49,889,"BU",null,null,null,null,null,null,"1921",{"$f":"CDIM_1921","v":0},{"$f":"TRUNC(((CDIM_1921-1)*16+0.5))/16","v":-0.9375},{"$f":"AK247","v":0},{"$f":"AK246","v":0},null,3.5,3.125,{"$f":"Frame_Width/2+4.875","v":4.875},null,null,null,null,null,"Top Top Rail",0,0,{"$f":"AD48*AE48","v":0},null,null,null,"Top Sash",{"$f":"IF(OR(ModelNo=\"0901\",ModelNo=\"09A1\",ModelNo=\"09B1\",ModelNo=\"09L1\"),(SUM(AK28:AK37))+5,0)","v":0},null,null,null,{"$error":"#N/A"},0,{"$f":"IF(AND(AP48=14,$AN$4>=35,$AN$4<=38),\"Dbl.\"&AP48&\"D\",0)","v":{"$error":"#N/A"}},null,null,{"$error":"#N/A"},0,{"$f":"IF(AND(AU48=14,$AS$4>=35,$AS$4<=38),\"Dbl.\"&AU48&\"D\",0)","v":{"$error":"#N/A"}},null,null,null,null,null,null,null,null,null,null,null,null,null,null,null,null,null,null,null,null,null,null,null,null,null,null,null,null,null,null,null,null,null,null,null,null,null,null,null,null,null,null,null,null,null,null,null,null,null,null,null,null,null,null,null,null,null,null,null,null,null,{"$error":"#N/A"},{"$error":"#N/A"},{"$f":"IF(AND(DG48=22,$DE$4>=22,$DE$4<=24),DG48&\"D\",0)","v":{"$error":"#N/A"}},null,null,{"$error":"#N/A"},{"$error":"#N/A"},{"$f":"IF(AND(DL48=22,$DJ$4>=22,$DJ$4<=24),DL48&\"D\",0)","v":{"$error":"#N/A"}}]
[null,50,889,"BN",null,50,889,"BU",null,null,null,null,null,null,"1931",{"$f":"CDIM_1931","v":0},{"$f":"TRUNC(((CDIM_1931-1)*16+0.5))/16","v":-0.9375},{"$f":"AK247","v":0},{"$f":"AK246","v":0},null,3.5,3.125,{"$f":"((Frame_Width/3)*2)+4.875","v":4.875},null,null,null,null,null,"Top Bottom Rail",0,0,0,null,null,null,"Bottom Sash",{"$f":"IF(OR(ModelNo=\"0901\",ModelNo=\"09A1\",ModelNo=\"09B1\",ModelNo=\"09L1\"),SUM(AK38:AK47),0)","v":0},null,null,null,{"$error":"#N/A"},0,{"$f":"IF(AND(AP49=14,$AN$4>=39,$AN$4<=44),\"Dbl.\"&AP49&\"E\",0)","v":{"$error":"#N/A"}},null,null,{"$error":"#N/A"},0,{"$f":"IF(AND(AU49=14,$AS$4>=39,$AS$4<=44),\"Dbl.\"&AU49&\"E\",0)","v":{"$error":"#N/A"}},null,null,null,null,null,null,null,null,null,null,null,null,null,null,null,null,null,null,null,null,null,null,null,null,null,null,null,null,null,null,null,null,null,null,null,null,null,null,null,null,null,null,null,null,null,null,null,null,null,null,null,null,null,null,null,null,null,null,null,null,null,{"$error":"#N/A"},{"$error":"#N/A"},{"$f":"IF(AND(DG49=22,$DE$4>=25,$DE$4<=27),DG49&\"E\",0)","v":{"$error":"#N/A"}},null,null,{"$error":"#N/A"},{"$error":"#N/A"},{"$f":"IF(AND(DL49=22,$DJ$4>=25,$DJ$4<=27),DL49&\"E\",0)","v":{"$error":"#N/A"}}]
[null,51,899,"RD",null,51,"899","BK",null,null,null,null,null,null,null,null,null,null,null,null,null,null,null,null,null,null,null,null,"Top Stile",0,0,0,null,null,null,null,null,null,null,null,{"$error":"#N/A"},0,{"$f":"IF(AND(AP50=14,$AN$4>=45,$AN$4<=50),\"Dbl.\"&AP50&\"F\",0)","v":{"$error":"#N/A"}},null,null,{"$error":"#N/A"},0,{"$f":"IF(AND(AU50=14,$AS$4>=45,$AS$4<=50),\"Dbl.\"&AU50&\"F\",0)","v":{"$error":"#N/A"}},null,null,null,null,null,null,null,null,null,null,null,null,null,null,null,null,null,null,null,null,null,null,null,null,null,null,null,null,null,null,null,null,null,null,null,null,null,null,null,null,null,null,null,null,null,null,null,null,null,null,null,null,null,null,null,null,null,null,null,null,null,{"$error":"#N/A"},{"$error":"#N/A"},{"$f":"IF(AND(DG50=22,$DE$4>=28,$DE$4<=30),DG50&\"F\",0)","v":{"$error":"#N/A"}},null,null,{"$error":"#N/A"},{"$error":"#N/A"},{"$f":"IF(AND(DL50=22,$DJ$4>=28,$DJ$4<=30),DL50&\"F\",0)","v":{"$error":"#N/A"}}]
[null,52,899,"RD",null,52,"899","BK",null,null,null,null,null,null,null,null,null,null,null,null,null,null,null,null,null,null,null,null,"Top Rail Reinf.",0,0,0,null,"8001","Length","Weight/ft","Weight",null,null,null,{"$error":"#N/A"},0,{"$f":"IF(AND(AP51=14,$AN$4>=51,$AN$4<=56),\"Dbl.\"&AP51&\"G\",0)","v":{"$error":"#N/A"}},null,null,{"$error":"#N/A"},0,{"$f":"IF(AND(AU51=14,$AS$4>=51,$AS$4<=56),\"Dbl.\"&AU51&\"G\",0)","v":{"$error":"#N/A"}},null,{"$f":"IF(Model_Select>1,HLOOKUP(Package_Select,#REF!,2,FALSE),\"\")","v":{"$error":"#NAME?"}},null,null,null,null,null,null,null,null,null,null,null,null,null,null,null,null,null,null,null,null,null,null,null,null,null,null,null,null,null,null,null,null,null,null,null,null,null,null,null,null,null,null,null,null,null,null,null,null,null,null,null,null,null,null,null,null,null,null,null,{"$error":"#N/A"},{"$error":"#N/A"},{"$f":"IF(AND(DG51=22,$DE$4>=31,$DE$4<=34),DG51&\"G\",0)","v":{"$error":"#N/A"}},null,null,{"$error":"#N/A"},{"$error":"#N/A"},{"$f":"IF(AND(DL51=22,$DJ$4>=31,$DJ$4<=34),DL51&\"G\",0)","v":{"$error":"#N/A"}}]
[null,53,999,"NAT",null,53,"999","NAT",null,null,null,null,null,null,null,null,null,null,null,null,null,null,null,null,null,null,null,null,"Top Stile Reinf",0,0,0,null,"Top Top Rail",{"$f":"(Data!#REF!)/12","v":{"$error":"#REF!"}},0.34100000000000003,{"$f":"AI52*AJ52","v":{"$error":"#REF!"}},null,null,null,{"$error":"#N/A"},0,{"$f":"IF(AND(AP52=14,$AN$4>=57,$AN$4<=62),\"Dbl.\"&AP52&\"H\",0)","v":{"$error":"#N/A"}},null,null,{"$error":"#N/A"},0,{"$f":"IF(AND(AU52=14,$AS$4>=57,$AS$4<=62),\"Dbl.\"&AU52&\"H\",0)","v":{"$error":"#N/A"}},null,{"$f":"IF(Model_Select>1,HLOOKUP(Package_Select,#REF!,3,FALSE),\"\")","v":{"$error":"#NAME?"}},null,null,null,null,null,null,null,null,null,null,null,null,null,null,null,null,null,null,null,null,null,null,null,null,null,null,null,null,null,null,null,null,null,null,null,null,null,null,null,null,null,null,null,null,null,null,null,null,null,null,null,null,null,null,null,null,null,null,null,{"$error":"#N/A"},{"$error":"#N/A"},{"$f":"IF(AND(DG52=22,$DE$4>=35,$DE$4<=37),DG52&\"H\",0)","v":{"$error":"#N/A"}},null,null,{"$error":"#N/A"},{"$error":"#N/A"},{"$f":"IF(AND(DL52=22,$DJ$4>=35,$DJ$4<=37),DL52&\"H\",0)","v":{"$error":"#N/A"}}]
[null,54,999,"NAT",null,54,"999","NAT",null,null,null,null,null,null,null,null,null,null,null,null,null,null,null,null,null,null,null,null,"Top Glass",0,0,0,null,"Top Bottom Rail",{"$f":"(Data!#REF!)/12","v":{"$error":"#REF!"}},0.38400000000000001,{"$error":"#REF!"},null,null,null,{"$error":"#N/A"},0,{"$f":"IF(AND(AP53=14,$AN$4>=63,$AN$4<=68),\"Dbl.\"&AP53&\"I\",0)","v":{"$error":"#N/A"}},null,null,{"$error":"#N/A"},0,{"$f":"IF(AND(AU53=14,$AS$4>=63,$AS$4<=68),\"Dbl.\"&AU53&\"I\",0)","v":{"$error":"#N/A"}},null,{"$f":"IF(Model_Select>1,HLOOKUP(Package_Select,#REF!,4,FALSE),\"\")","v":{"$error":"#NAME?"}},null,null,null,null,null,null,null,null,null,null,null,null,null,null,null,null,null,null,null,null,null,null,null,null,null,null,null,null,null,null,null,null,null,null,null,null,null,null,null,null,null,null,null,null,null,null,null,null,null,null,null,null,null,null,null,null,null,null,null,{"$error":"#N/A"},{"$f":"IF(AND($DF$4<=24,$DF$4>22),24,0)","v":{"$error":"#N/A"}},{"$f":"IF(AND(DG53=24,$DE$4>=6,$DE$4<=10),DG53&\"A\",0)","v":{"$error":"#N/A"}},null,null,{"$error":"#N/A"},{"$f":"IF(AND($DK$4<=24,$DK$4>22),24,0)","v":{"$error":"#N/A"}},{"$f":"IF(AND(DL53=24,$DJ$4>=6,$DJ$4<=10),DL53&\"A\",0)","v":{"$error":"#N/A"}}]
[null,55,6679,"BU",null,55,"4888","NAT",null,null,null,null,null,null,null,null,null,null,null,null,null,null,null,null,null,null,null,null,"Top Spacer",0,0,0,null,"Top Stile",{"$f":"(Data!#REF!*2)/12","v":{"$error":"#REF!"}},0.311,{"$error":"#REF!"},null,null,null,{"$error":"#N/A"},{"$f":"IF(AND($AO$4<=16,$AO$4>14),16,0)","v":0},{"$f":"IF(AND(AP54=16,$AN$4>=3,$AN$4<=7),AP54&\"A\",0)","v":{"$error":"#N/A"}},null,null,{"$error":"#N/A"},{"$f":"IF(AND($AT$4<=16,$AT$4>14),16,0)","v":0},{"$f":"IF(AND(AU54=16,$AS$4>=3,$AS$4<=7),AU54&\"A\",0)","v":{"$error":"#N/A"}},null,{"$f":"IF(Model_Select>1,HLOOKUP(Package_Select,#REF!,5,FALSE),\"\")","v":{"$error":"#NAME?"}},null,null,null,null,null,null,null,null,null,null,null,null,null,null,null,null,null,null,null,null,null,null,null,null,null,null,null,null,null,null,null,null,null,null,null,null,null,null,null,null,null,null,null,null,null,null,null,null,null,null,null,null,null,null,null,null,null,null,null,{"$error":"#N/A"},{"$error":"#N/A"},{"$f":"IF(AND(DG54=24,$DE$4>=11,$DE$4<=17),DG54&\"B\",0)","v":{"$error":"#N/A"}},null,null,{"$error":"#N/A"},{"$error":"#N/A"},{"$f":"IF(AND(DL54=24,$DJ$4>=11,$DJ$4<=17),DL54&\"B\",0)","v":{"$error":"#N/A"}}]
[null,56,6679,"BU",null,56,"4888","NAT",null,null,null,null,null,null,null,null,null,null,null,null,null,null,null,null,null,null,null,null,"Top Hardware",0,0,0,null,"Top Stile Reinf.",{"$f":"IF(CMR!$L$79>26.75,TRUNC((CMR!$L$74-9.5)/2)*2,0)","v":0},0,0,null,null,null,{"$error":"#N/A"},0,{"$f":"IF(AND(AP55=16,$AN$4>=8,$AN$4<=10),AP55&\"B\",0)","v":{"$error":"#N/A"}},null,null,{"$error":"#N/A"},0,{"$f":"IF(AND(AU55=16,$AS$4>=8,$AS$4<=10),AU55&\"B\",0)","v":{"$error":"#N/A"}},null,{"$f":"IF(Model_Select>1,HLOOKUP(Package_Select,#REF!,6,FALSE),\"\")","v":{"$error":"#NAME?"}},null,null,null,null,null,null,null,null,null,null,null,null,null,null,null,null,null,null,null,null,null,null,null,null,null,null,null,null,null,null,null,null,null,null,null,null,null,null,null,null,null,null,null,null,null,null,null,null,null,null,null,null,null,null,null,null,null,null,null,{"$error":"#N/A"},{"$error":"#N/A"},{"$f":"IF(AND(DG55=24,$DE$4>=18,$DE$4<=22),DG55&\"C\",0)","v":{"$error":"#N/A"}},null,null,{"$error":"#N/A"},{"$error":"#N/A"},{"$f":"IF(AND(DL55=24,$DJ$4>=18,$DJ$4<=22),DL55&\"C\",0)","v":{"$error":"#N/A"}}]
[null,57,6779,"LG",null,57,"5888","BK",null,null,null,null,null,null,null,null,null,null,null,null,null,null,null,null,null,null,null,null,"Top Bead",0,0,0,null,"Keeper Bead",{"$f":"(INT((Data!#REF!-1.197)*32+0.5)/32)/12","v":{"$error":"#REF!"}},9.7000000000000003E-2,{"$error":"#REF!"},null,null,null,{"$error":"#N/A"},0,{"$f":"IF(AND(AP56=16,$AN$4>=11,$AN$4<=16),AP56&\"C\",0)","v":{"$error":"#N/A"}},null,null,{"$error":"#N/A"},0,{"$f":"IF(AND(AU56=16,$AS$4>=11,$AS$4<=16),AU56&\"C\",0)","v":{"$error":"#N/A"}},null,{"$f":"IF(Model_Select>1,HLOOKUP(Package_Select,#REF!,7,FALSE),\"\")","v":{"$error":"#NAME?"}},null,null,null,null,null,null,null,null,null,null,null,null,null,null,null,null,null,null,null,null,null,null,null,null,null,null,null,null,null,null,null,null,null,null,null,null,null,null,null,null,null,null,null,null,null,null,null,null,null,null,null,null,null,null,null,null,null,null,null,{"$error":"#N/A"},{"$error":"#N/A"},{"$f":"IF(AND(DG56=24,$DE$4>=23,$DE$4<=25),DG56&\"D\",0)","v":{"$error":"#N/A"}},null,null,{"$error":"#N/A"},{"$error":"#N/A"},{"$f":"IF(AND(DL56=24,$DJ$4>=23,$DJ$4<=25),DL56&\"D\",0)","v":{"$error":"#N/A"}}]
[null,58,6779,"LG",null,58,"5888","BK",null,null,null,null,null,null,null,null,null,null,null,null,null,null,null,null,null,null,null,null,"Bottom Top Rail",{"$f":"(Frame_Width-2.25)/12","v":-0.1875},0.24099999999999999,{"$f":"AD57*AE57","v":-4.5187499999999999E-2},null,"Top Glass",{"$f":"(CMR!$L$77*CMR!$L$79)/144","v":0.17059326171875},{"$f":"$L$12","v":""},{"$error":"#VALUE!"},null,null,null,{"$error":"#N/A"},0,{"$f":"IF(AND(AP57=16,$AN$4>=17,$AN$4<=19),AP57&\"D\",0)","v":{"$error":"#N/A"}},null,null,{"$error":"#N/A"},0,{"$f":"IF(AND(AU57=16,$AS$4>=17,$AS$4<=19),AU57&\"D\",0)","v":{"$error":"#N/A"}},null,{"$f":"IF(Model_Select>1,HLOOKUP(Package_Select,#REF!,8,FALSE),\"\")","v":{"$error":"#NAME?"}},null,null,null,null,null,null,null,null,null,null,null,null,null,null,null,null,null,null,null,null,null,null,null,null,null,null,null,null,null,null,null,null,null,null,null,null,null,null,null,null,null,null,null,null,null,null,null,null,null,null,null,null,null,null,null,null,null,null,null,{"$error":"#N/A"},{"$error":"#N/A"},{"$f":"IF(AND(DG57=24,$DE$4>=26,$DE$4<=28),DG57&\"E\",0)","v":{"$error":"#N/A"}},null,null,{"$error":"#N/A"},{"$error":"#N/A"},{"$f":"IF(AND(DL57=24,$DJ$4>=26,$DJ$4<=28),DL57&\"E\",0)","v":{"$error":"#N/A"}}]
[null,59,7779,"WT",null,59,"6888","BU",null,null,null,null,null,null,null,null,null,null,null,null,null,null,null,null,null,null,null,null,"Bottom Bottom Rail",{"$f":"(Frame_Width-2.25)/12","v":-0.1875},0.25,-4.6875E-2,null,"Top Spacer",{"$f":"((CMR!$L$77*2)+(CMR!$L$79*2))/12","v":-1.7291666666666667},3.4000000000000002E-2,-5.8791666666666673E-2,null,null,null,{"$error":"#N/A"},0,{"$f":"IF(AND(AP58=16,$AN$4>=20,$AN$4<=22),AP58&\"E\",0)","v":{"$error":"#N/A"}},null,null,{"$error":"#N/A"},0,{"$f":"IF(AND(AU58=16,$AS$4>=20,$AS$4<=22),AU58&\"E\",0)","v":{"$error":"#N/A"}},null,{"$f":"IF(Model_Select>1,HLOOKUP(Package_Select,#REF!,9,FALSE),\"\")","v":{"$error":"#NAME?"}},null,null,null,null,null,null,null,null,null,null,null,null,null,null,null,null,null,null,null,null,null,null,null,null,null,null,null,null,null,null,null,null,null,null,null,null,null,null,null,null,null,null,null,null,null,null,null,null,null,null,null,null,null,null,null,null,null,null,null,{"$error":"#N/A"},{"$error":"#N/A"},{"$f":"IF(AND(DG58=24,$DE$4>=29,$DE$4<=30),DG58&\"F\",0)","v":{"$error":"#N/A"}},null,null,{"$error":"#N/A"},{"$error":"#N/A"},{"$f":"IF(AND(DL58=24,$DJ$4>=29,$DJ$4<=30),DL58&\"F\",0)","v":{"$error":"#N/A"}}]
[null,60,7779,"WT",null,60,"6888","BU",null,null,null,null,null,null,null,null,null,null,null,null,null,null,null,null,null,null,null,null,"Bottom Stile",{"$f":"((CMR!L27-0.75)*2)/12","v":-0.125},0.23,-2.8750000000000001E-2,null,"Top Hardware",1,0.2,0.2,null,null,null,{"$error":"#N/A"},0,{"$f":"IF(AND(AP59=16,$AN$4>=23,$AN$4<=24),AP59&\"F\",0)","v":{"$error":"#N/A"}},null,null,{"$error":"#N/A"},0,{"$f":"IF(AND(AU59=16,$AS$4>=23,$AS$4<=24),AU59&\"F\",0)","v":{"$error":"#N/A"}},null,{"$f":"IF(Model_Select>1,HLOOKUP(Package_Select,#REF!,10,FALSE),\"\")","v":{"$error":"#NAME?"}},null,null,null,null,null,null,null,null,null,null,null,null,null,null,null,null,null,null,null,null,null,null,null,null,null,null,null,null,null,null,null,null,null,null,null,null,null,null,null,null,null,null,null,null,null,null,null,null,null,null,null,null,null,null,null,null,null,null,null,{"$error":"#N/A"},{"$error":"#N/A"},{"$f":"IF(AND(DG59=24,$DE$4>=31,$DE$4<=34),DG59&\"G\",0)","v":{"$error":"#N/A"}},null,null,{"$error":"#N/A"},{"$error":"#N/A"},{"$f":"IF(AND(DL59=24,$DJ$4>=31,$DJ$4<=34),DL59&\"G\",0)","v":{"$error":"#N/A"}}]
[null,61,6799,"OR",null,61,"7888","OR",null,null,null,null,null,null,null,null,null,null,null,null,null,null,null,null,null,null,null,null,"Bottom Rail Reinf.",{"$f":"(TRUNC(((AD57*12)-6)/2)*2)/12","v":-0.66666666666666663},0.32800000000000001,-0.21866666666666668,null,"Top Handle Bead",{"$f":"AI56","v":{"$error":"#REF!"}},9.7000000000000003E-2,{"$error":"#REF!"},null,null,null,{"$error":"#N/A"},0,{"$f":"IF(AND(AP60=16,$AN$4>=25,$AN$4<=28),AP60&\"G\",0)","v":{"$error":"#N/A"}},null,null,{"$error":"#N/A"},0,{"$f":"IF(AND(AU60=16,$AS$4>=25,$AS$4<=28),AU60&\"G\",0)","v":{"$error":"#N/A"}},null,{"$f":"IF(Model_Select>1,HLOOKUP(Package_Select,#REF!,11,FALSE),\"\")","v":{"$error":"#NAME?"}},null,null,null,null,null,null,null,null,null,null,null,null,null,null,null,null,null,null,null,null,null,null,null,null,null,null,null,null,null,null,null,null,null,null,null,null,null,null,null,null,null,null,null,null,null,null,null,null,null,null,null,null,null,null,null,null,null,null,null,{"$error":"#N/A"},{"$error":"#N/A"},{"$f":"IF(AND(DG60=24,$DE$4>=35,$DE$4<=37),DG60&\"H\",0)","v":{"$error":"#N/A"}},null,null,{"$error":"#N/A"},{"$error":"#N/A"},{"$f":"IF(AND(DL60=24,$DJ$4>=35,$DJ$4<=37),DL60&\"H\",0)","v":{"$error":"#N/A"}}]
[null,62,6799,"OR",null,62,"7888","OR",null,null,null,null,null,null,null,null,null,null,null,null,null,null,null,null,null,null,null,null,"Bottom Stile Reinf.",{"$f":"IF(CMR!$L$32>=27.5,(((CMR!$L$32-4.5)/2)*2)/12,0)","v":0},0.23799999999999999,0,null,"Top Vert. Bead",{"$f":"(2*(INT((Data!#REF!-1.197)*32+0.5)/32))/12","v":{"$error":"#REF!"}},9.7000000000000003E-2,{"$error":"#REF!"},null,null,null,{"$error":"#N/A"},0,{"$f":"IF(AND(AP61=16,$AN$4>=29,$AN$4<=31),AP61&\"H\",0)","v":{"$error":"#N/A"}},null,null,{"$error":"#N/A"},0,{"$f":"IF(AND(AU61=16,$AS$4>=29,$AS$4<=31),AU61&\"H\",0)","v":{"$error":"#N/A"}},null,null,null,null,null,null,null,null,null,null,null,null,null,null,null,null,null,null,null,null,null,null,null,null,null,null,null,null,null,null,null,null,null,null,null,null,null,null,null,null,null,null,null,null,null,null,null,null,null,null,null,null,null,null,null,null,null,null,null,null,null,{"$error":"#N/A"},{"$f":"IF(AND($DF$4<=26,$DF$4>24),26,0)","v":{"$error":"#N/A"}},{"$f":"IF(AND(DG61=26,$DE$4>=6,$DE$4<=11),DG61&\"A\",0)","v":{"$error":"#N/A"}},null,null,{"$error":"#N/A"},{"$f":"IF(AND($DK$4<=26,$DK$4>24),26,0)","v":{"$error":"#N/A"}},{"$f":"IF(AND(DL61=26,$DJ$4>=6,$DJ$4<=11),DL61&\"A\",0)","v":{"$error":"#N/A"}}]
[null,63,7799,"BN",null,63,"8888","BR",null,null,null,null,null,null,null,null,null,null,null,null,null,null,null,null,null,null,null,null,"Bottom Glass",{"$f":"(CMR!$L$30*CMR!$L$32)/144","v":6.3910590277777776E-2},{"$f":"$L$12","v":""},{"$error":"#VALUE!"},null,"Bottom Top Rail",{"$f":"(Data!#REF!)/12","v":{"$error":"#REF!"}},0.42799999999999999,{"$error":"#REF!"},null,null,null,{"$error":"#N/A"},0,{"$f":"IF(AND(AP62=16,$AN$4>=32,$AN$4<=34),AP62&\"I\",0)","v":{"$error":"#N/A"}},null,null,{"$error":"#N/A"},0,{"$f":"IF(AND(AU62=16,$AS$4>=32,$AS$4<=34),AU62&\"I\",0)","v":{"$error":"#N/A"}},null,null,null,null,null,null,null,null,null,null,null,null,null,null,null,null,null,null,null,null,null,null,null,null,null,null,null,null,null,null,null,null,null,null,null,null,null,null,null,null,null,null,null,null,null,null,null,null,null,null,null,null,null,null,null,null,null,null,null,null,null,{"$error":"#N/A"},{"$error":"#N/A"},{"$f":"IF(AND(DG62=26,$DE$4>=12,$DE$4<=17),DG62&\"B\",0)","v":{"$error":"#N/A"}},null,null,{"$error":"#N/A"},{"$error":"#N/A"},{"$f":"IF(AND(DL62=26,$DJ$4>=12,$DJ$4<=17),DL62&\"B\",0)","v":{"$error":"#N/A"}}]
[null,64,7799,"BN",null,64,"8888","BR",null,null,null,null,null,null,null,null,null,null,null,null,null,null,null,null,null,null,null,null,"Bottom Spacer",{"$f":"((CMR!$L$30*2)+(CMR!$L$32*2))/12","v":-1.0416666666666667},5.3600000000000002E-2,-5.5833333333333339E-2,null,"Bottom Bottom Rail",{"$f":"(Data!#REF!)/12","v":{"$error":"#REF!"}},0.443,{"$error":"#REF!"},null,null,null,{"$error":"#N/A"},0,{"$f":"IF(AND(AP63=16,$AN$4>=35,$AN$4<=36),\"Dbl.\"&AP63&\"D\",0)","v":{"$error":"#N/A"}},null,null,{"$error":"#N/A"},0,{"$f":"IF(AND(AU63=16,$AS$4>=35,$AS$4<=36),\"Dbl.\"&AU63&\"D\",0)","v":{"$error":"#N/A"}},null,null,null,null,null,null,null,null,null,null,null,null,null,null,null,null,null,null,null,null,null,null,null,null,null,null,null,null,null,null,null,null,null,null,null,null,null,null,null,null,null,null,null,null,null,null,null,null,null,null,null,null,null,null,null,null,null,null,null,null,null,{"$error":"#N/A"},{"$error":"#N/A"},{"$f":"IF(AND(DG63=26,$DE$4>=18,$DE$4<=22),DG63&\"C\",0)","v":{"$error":"#N/A"}},null,null,{"$error":"#N/A"},{"$error":"#N/A"},{"$f":"IF(AND(DL63=26,$DJ$4>=18,$DJ$4<=22),DL63&\"C\",0)","v":{"$error":"#N/A"}}]
[null,65,7899,"GN",null,65,"8889","GR",null,null,null,null,null,null,null,null,null,null,null,null,null,null,null,null,null,null,null,null,"Bottom Hardware",1,0.36,0.36,null,"Bottom Stile",{"$f":"(2*(Data!#REF!))/12","v":{"$error":"#REF!"}},0.378,{"$error":"#REF!"},null,null,null,{"$error":"#N/A"},0,{"$f":"IF(AND(AP64=16,$AN$4>=37,$AN$4<=44),\"Dbl.\"&AP64&\"E\",0)","v":{"$error":"#N/A"}},null,null,{"$error":"#N/A"},0,{"$f":"IF(AND(AU64=16,$AS$4>=37,$AS$4<=44),\"Dbl.\"&AU64&\"E\",0)","v":{"$error":"#N/A"}},null,null,null,null,null,null,null,null,null,null,null,null,null,null,null,null,null,null,null,null,null,null,null,null,null,null,null,null,null,null,null,null,null,null,null,null,null,null,null,null,null,null,null,null,null,null,null,null,null,null,null,null,null,null,null,null,null,null,null,null,null,{"$error":"#N/A"},{"$error":"#N/A"},{"$f":"IF(AND(DG64=26,$DE$4>=23,$DE$4<=26),DG64&\"D\",0)","v":{"$error":"#N/A"}},null,null,{"$error":"#N/A"},{"$error":"#N/A"},{"$f":"IF(AND(DL64=26,$DJ$4>=23,$DJ$4<=26),DL64&\"D\",0)","v":{"$error":"#N/A"}}]
[null,66,7899,"GN",null,66,"8889","GR",null,null,null,null,null,null,null,null,null,null,null,null,null,null,null,null,null,null,null,null,"Bottom Bead",{"$f":"(((Frame_Width-3.3125)*2)+((CMR!$L$27-1.8125)*2))/12","v":-0.85416666666666663},2.8000000000000001E-2,-2.3916666666666666E-2,null,"Lock Rail Reinf.",{"$f":"(INT((Data!#REF!-6)/2)*2)/12","v":{"$error":"#REF!"}},0.31840000000000002,{"$error":"#REF!"},null,null,null,{"$error":"#N/A"},0,{"$f":"IF(AND(AP65=16,$AN$4>=45,$AN$4<=48),\"Dbl.\"&AP65&\"F\",0)","v":{"$error":"#N/A"}},null,null,{"$error":"#N/A"},0,{"$f":"IF(AND(AU65=16,$AS$4>=45,$AS$4<=48),\"Dbl.\"&AU65&\"F\",0)","v":{"$error":"#N/A"}},null,null,null,null,null,null,null,null,null,null,null,null,null,null,null,null,null,null,null,null,null,null,null,null,null,null,null,null,null,null,null,null,null,null,null,null,null,null,null,null,null,null,null,null,null,null,null,null,null,null,null,null,null,null,null,null,null,null,null,null,null,{"$error":"#N/A"},{"$error":"#N/A"},{"$f":"IF(AND(DG65=26,$DE$4>=27,$DE$4<=30),DG65&\"E\",0)","v":{"$error":"#N/A"}},null,null,{"$error":"#N/A"},{"$error":"#N/A"},{"$f":"IF(AND(DL65=26,$DJ$4>=27,$DJ$4<=30),DL65&\"E\",0)","v":{"$error":"#N/A"}}]
[null,67,8899,"RD",null,67,"8899","RD",null,null,null,null,null,null,null,null,null,null,null,null,null,null,null,null,null,null,null,null,null,null,"Top Sash",0,null,"Bottom Stile Reinf.",{"$f":"IF(CMR!$L$80>27.75,TRUNC((CMR!$L$75-4.5)/2)*2,0)","v":0},0,0,null,null,null,{"$error":"#N/A"},0,{"$f":"IF(AND(AP66=16,$AN$4>=49,$AN$4<=56),\"Dbl.\"&AP66&\"G\",0)","v":{"$error":"#N/A"}},null,null,{"$error":"#N/A"},0,{"$f":"IF(AND(AU66=16,$AS$4>=49,$AS$4<=56),\"Dbl.\"&AU66&\"G\",0)","v":{"$error":"#N/A"}},null,null,null,null,null,null,null,null,null,null,null,null,null,null,null,null,null,null,null,null,null,null,null,null,null,null,null,null,null,null,null,null,null,null,null,null,null,null,null,null,null,null,null,null,null,null,null,null,null,null,null,null,null,null,null,null,null,null,null,null,null,{"$error":"#N/A"},{"$error":"#N/A"},{"$f":"IF(AND(DG66=26,$DE$4>=31,$DE$4<=34),DG66&\"F\",0)","v":{"$error":"#N/A"}},null,null,{"$error":"#N/A"},{"$error":"#N/A"},{"$f":"IF(AND(DL66=26,$DJ$4>=31,$DJ$4<=34),DL66&\"F\",0)","v":{"$error":"#N/A"}}]
[null,68,8899,"RD",null,68,"8899","RD",null,null,null,null,null,null,null,null,null,null,null,null,null,null,null,null,null,null,null,null,null,null,"Bottom Sash",{"$f":"IF(OR(ModelNo=\"02A0\",ModelNo=\"S140\",ModelNo=\"S144\",ModelNo=\"S146\",ModelNo=\"S140 (HP)\",ModelNo=\"S144 (HP)\",ModelNo=\"S146 (HP)\"),SUM(AF57:AF65),0)","v":0},null,"Bottom Glass",{"$f":"(CMR!$L$78*CMR!$L$80)/144","v":0.17059326171875},{"$f":"$L$12","v":""},{"$error":"#VALUE!"},null,null,null,{"$error":"#N/A"},0,{"$f":"IF(AND(AP67=16,$AN$4>=57,$AN$4<=62),\"Dbl.\"&AP67&\"H\",0)","v":{"$error":"#N/A"}},null,null,{"$error":"#N/A"},0,{"$f":"IF(AND(AU67=16,$AS$4>=57,$AS$4<=62),\"Dbl.\"&AU67&\"H\",0)","v":{"$error":"#N/A"}},null,null,null,null,null,null,null,null,null,null,null,null,null,null,null,null,null,null,null,null,null,null,null,null,null,null,null,null,null,null,null,null,null,null,null,null,null,null,null,null,null,null,null,null,null,null,null,null,null,null,null,null,null,null,null,null,null,null,null,null,null,{"$error":"#N/A"},{"$error":"#N/A"},{"$f":"IF(AND(DG67=26,$DE$4>=35,$DE$4<=38),DG67&\"G\",0)","v":{"$error":"#N/A"}},null,null,{"$error":"#N/A"},{"$error":"#N/A"},{"$f":"IF(AND(DL67=26,$DJ$4>=35,$DJ$4<=38),DL67&\"G\",0)","v":{"$error":"#N/A"}}]
[null,69,8999,"YW",null,69,"8999","YW",null,null,null,null,null,null,null,null,null,null,null,null,null,null,null,null,null,null,null,null,null,null,null,null,null,"Bottom Spacer",{"$f":"((CMR!$L$78*2)+(CMR!$L$80*2))/12","v":-1.7291666666666667},3.4000000000000002E-2,-5.8791666666666673E-2,null,null,null,{"$error":"#N/A"},0,{"$f":"IF(AND(AP68=16,$AN$4>=63,$AN$4<=68),\"Dbl.\"&AP68&\"I\",0)","v":{"$error":"#N/A"}},null,null,{"$error":"#N/A"},0,{"$f":"IF(AND(AU68=16,$AS$4>=63,$AS$4<=68),\"Dbl.\"&AU68&\"I\",0)","v":{"$error":"#N/A"}},null,null,null,null,null,null,null,null,null,null,null,null,null,null,null,null,null,null,null,null,null,null,null,null,null,null,null,null,null,null,null,null,null,null,null,null,null,null,null,null,null,null,null,null,null,null,null,null,null,null,null,null,null,null,null,null,null,null,null,null,null,{"$error":"#N/A"},{"$error":"#N/A"},{"$f":"IF(AND(DG68=26,$DE$4>=39,$DE$4<=42),DG68&\"H\",0)","v":{"$error":"#N/A"}},null,null,{"$error":"#N/A"},{"$error":"#N/A"},{"$f":"IF(AND(DL68=26,$DJ$4>=39,$DJ$4<=42),DL68&\"H\",0)","v":{"$error":"#N/A"}}]
[null,70,8999,"YW",null,70,"8999","YW",null,null,null,null,null,null,null,null,null,null,null,null,null,null,null,null,null,null,null,null,"0301","Length","Weight/ft","Weight",null,"Bottom Hardware",1,0.36,0.36,null,null,null,{"$f":"IF(AND(AP69>0,AQ69>0),AP69,0)","v":{"$error":"#N/A"}},{"$f":"IF(AND($AO$4<=18,$AO$4>16),18,0)","v":0},{"$f":"IF(AND(AP69=18,$AN$4>=4,$AN$4<=9),AP69&\"A\",0)","v":{"$error":"#N/A"}},null,null,{"$f":"IF(AND(AU69>0,AV69>0),AU69,0)","v":{"$error":"#N/A"}},{"$f":"IF(AND($AT$4<=18,$AT$4>16),18,0)","v":0},{"$f":"IF(AND(AU69=18,$AS$4>=4,$AS$4<=9),AU69&\"A\",0)","v":{"$error":"#N/A"}},null,null,null,null,null,null,null,null,null,null,null,null,null,null,null,null,null,null,null,null,null,null,null,null,null,null,null,null,null,null,null,null,null,null,null,null,null,null,null,null,null,null,null,null,null,null,null,null,null,null,null,null,null,null,null,null,null,null,null,null,null,{"$f":"IF(AND(DG69>0,DH69>0),DG69,0)","v":{"$error":"#N/A"}},{"$f":"IF(AND($DF$4<=28,$DF$4>26),28,0)","v":{"$error":"#N/A"}},{"$f":"IF(AND(DG69=28,$DE$4>=7,$DE$4<=12),DG69&\"A\",0)","v":{"$error":"#N/A"}},null,null,{"$f":"IF(AND(DL69>0,DM69>0),DL69,0)","v":{"$error":"#N/A"}},{"$f":"IF(AND($DK$4<=28,$DK$4>26),28,0)","v":{"$error":"#N/A"}},{"$f":"IF(AND(DL69=28,$DJ$4>=7,$DJ$4<=12),DL69&\"A\",0)","v":{"$error":"#N/A"}}]
[null,71,9999,"PU",null,71,"9999","PUR",null,null,null,null,null,null,null,null,null,null,null,null,null,null,null,null,null,null,null,null,"Top Top Rail",{"$f":"(Frame_Width-3.25)/12","v":-0.27083333333333331},0.25700000000000001,{"$f":"AD70*AE70","v":-6.9604166666666661E-2},null,"Bott. Hor. Bead",{"$f":"(2*(INT((Data!#REF!-2.197)*32+0.5)/32))/12","v":{"$error":"#REF!"}},9.7000000000000003E-2,{"$error":"#REF!"},null,null,null,{"$error":"#N/A"},0,{"$f":"IF(AND(AP70=18,$AN$4>=10,$AN$4<=13),AP70&\"B\",0)","v":{"$error":"#N/A"}},null,null,{"$error":"#N/A"},0,{"$f":"IF(AND(AU70=18,$AS$4>=10,$AS$4<=13),AU70&\"B\",0)","v":{"$error":"#N/A"}},null,null,null,null,null,null,null,null,null,null,null,null,null,null,null,null,null,null,null,null,null,null,null,null,null,null,null,null,null,null,null,null,null,null,null,null,null,null,null,null,null,null,null,null,null,null,null,null,null,null,null,null,null,null,null,null,null,null,null,null,null,{"$error":"#N/A"},{"$error":"#N/A"},{"$f":"IF(AND(DG70=28,$DE$4>=13,$DE$4<=18),DG70&\"B\",0)","v":{"$error":"#N/A"}},null,null,{"$error":"#N/A"},{"$error":"#N/A"},{"$f":"IF(AND(DL70=28,$DJ$4>=13,$DJ$4<=18),DL70&\"B\",0)","v":{"$error":"#N/A"}}]
[null,72,9999,"PU",null,72,"9999","PUR",null,null,null,null,null,null,null,null,null,null,null,null,null,null,null,null,null,null,null,null,"Top Bottom Rail",{"$f":"(Frame_Width-3.25)/12","v":-0.27083333333333331},0.27300000000000002,-7.3937500000000003E-2,null,"Bottom Vert. Bead",{"$f":"(2*(INT((Data!#REF!-2.197)*32+0.5)/32))/12","v":{"$error":"#REF!"}},9.7000000000000003E-2,{"$error":"#REF!"},null,null,null,{"$error":"#N/A"},0,{"$f":"IF(AND(AP71=18,$AN$4>=14,$AN$4<=18),AP71&\"C\",0)","v":{"$error":"#N/A"}},null,null,{"$error":"#N/A"},0,{"$f":"IF(AND(AU71=18,$AS$4>=14,$AS$4<=18),AU71&\"C\",0)","v":{"$error":"#N/A"}},null,null,null,null,null,null,null,null,null,null,null,null,null,null,null,null,null,null,null,null,null,null,null,null,null,null,null,null,null,null,null,null,null,null,null,null,null,null,null,null,null,null,null,null,null,null,null,null,null,null,null,null,null,null,null,null,null,null,null,null,null,{"$error":"#N/A"},{"$error":"#N/A"},{"$f":"IF(AND(DG71=28,$DE$4>=19,$DE$4<=23),DG71&\"C\",0)","v":{"$error":"#N/A"}},null,null,{"$error":"#N/A"},{"$error":"#N/A"},{"$f":"IF(AND(DL71=28,$DJ$4>=19,$DJ$4<=23),DL71&\"C\",0)","v":{"$error":"#N/A"}}]
[null,null,null,null,null,null,null,null,null,null,null,null,null,null,null,null,null,null,null,null,null,null,null,null,null,null,null,null,"Top Stile",{"$f":"(2*(CMR!$E$42-1.625))/12","v":-0.27083333333333331},0.23300000000000001,-6.310416666666667E-2,null,null,null,"Top Sash",{"$f":"IF(OR(ModelNo=\"8001\",ModelNo=\"R601\"),(SUM(AK52:AK61))+6.5,0)","v":0},null,null,null,{"$error":"#N/A"},0,{"$f":"IF(AND(AP72=18,$AN$4>=19,$AN$4<=21),AP72&\"D\",0)","v":{"$error":"#N/A"}},null,null,{"$error":"#N/A"},0,{"$f":"IF(AND(AU72=18,$AS$4>=19,$AS$4<=21),AU72&\"D\",0)","v":{"$error":"#N/A"}},null,null,null,null,null,null,null,null,null,null,null,null,null,null,null,null,null,null,null,null,null,null,null,null,null,null,null,null,null,null,null,null,null,null,null,null,null,null,null,null,null,null,null,null,null,null,null,null,null,null,null,null,null,null,null,null,null,null,null,null,null,{"$error":"#N/A"},{"$error":"#N/A"},{"$f":"IF(AND(DG72=28,$DE$4>=24,$DE$4<=28),DG72&\"D\",0)","v":{"$error":"#N/A"}},null,null,{"$error":"#N/A"},{"$error":"#N/A"},{"$f":"IF(AND(DL72=28,$DJ$4>=24,$DJ$4<=28),DL72&\"D\",0)","v":{"$error":"#N/A"}}]
[null,null,null,null,null,null,null,null,null,null,null,null,null,null,null,null,null,null,null,null,null,null,null,null,null,null,null,null,"Top Rail Reinf.",{"$f":"(TRUNC(((Frame_Width-3.25)-6)/2)*2)/12","v":-0.66666666666666663},0.29899999999999999,-0.19933333333333331,null,null,null,"Bottom Sash",{"$f":"IF(OR(ModelNo=\"8001\",ModelNo=\"R601\"),SUM(AK62:AK71),0)","v":0},null,null,null,{"$error":"#N/A"},0,{"$f":"IF(AND(AP73=18,$AN$4>=22,$AN$4<=24),AP73&\"E\",0)","v":{"$error":"#N/A"}},null,null,{"$error":"#N/A"},0,{"$f":"IF(AND(AU73=18,$AS$4>=22,$AS$4<=24),AU73&\"E\",0)","v":{"$error":"#N/A"}},null,null,null,null,null,null,null,null,null,null,null,null,null,null,null,null,null,null,null,null,null,null,null,null,null,null,null,null,null,null,null,null,null,null,null,null,null,null,null,null,null,null,null,null,null,null,null,null,null,null,null,null,null,null,null,null,null,null,null,null,null,{"$error":"#N/A"},{"$error":"#N/A"},{"$f":"IF(AND(DG73=28,$DE$4>=29,$DE$4<=32),DG73&\"E\",0)","v":{"$error":"#N/A"}},null,null,{"$error":"#N/A"},{"$error":"#N/A"},{"$f":"IF(AND(DL73=28,$DJ$4>=29,$DJ$4<=32),DL73&\"E\",0)","v":{"$error":"#N/A"}}]
[null,4,3,1,null,4,3,1,null,null,null,null,null,null,null,null,null,null,null,null,null,null,null,null,null,null,null,null,"Top Stile Reinf",{"$f":"IF(CMR!$E$47>26.6875,((TRUNC((CMR!$E$42-9.5)/2)*2)/12)*2,0)","v":0},0.29899999999999999,0,null,null,null,null,null,null,null,null,{"$error":"#N/A"},0,{"$f":"IF(AND(AP74=18,$AN$4>=25,$AN$4<=26),AP74&\"F\",0)","v":{"$error":"#N/A"}},null,null,{"$error":"#N/A"},0,{"$f":"IF(AND(AU74=18,$AS$4>=25,$AS$4<=26),AU74&\"F\",0)","v":{"$error":"#N/A"}},null,null,null,null,null,null,null,null,null,null,null,null,null,null,null,null,null,null,null,null,null,null,null,null,null,null,null,null,null,null,null,null,null,null,null,null,null,null,null,null,null,null,null,null,null,null,null,null,null,null,null,null,null,null,null,null,null,null,null,null,null,{"$error":"#N/A"},{"$error":"#N/A"},{"$f":"IF(AND(DG74=28,$DE$4>=33,$DE$4<=36),DG74&\"F\",0)","v":{"$error":"#N/A"}},null,null,{"$error":"#N/A"},{"$error":"#N/A"},{"$f":"IF(AND(DL74=28,$DJ$4>=33,$DJ$4<=36),DL74&\"F\",0)","v":{"$error":"#N/A"}}]
[null,{"$f":"B74+1","v":5},3,1,null,5,3,1,null,null,null,null,null,null,null,null,null,null,null,null,null,null,null,null,null,null,null,null,"Top Glass",{"$f":"(CMR!$E$45*CMR!$E$47)/144","v":0.11002604166666667},{"$f":"$L$12","v":""},{"$error":"#VALUE!"},null,"9001","Length","Weight/ft","Weight",null,null,null,{"$error":"#N/A"},0,{"$f":"IF(AND(AP75=18,$AN$4>=27,$AN$4<=29),AP75&\"G\",0)","v":{"$error":"#N/A"}},null,null,{"$error":"#N/A"},0,{"$f":"IF(AND(AU75=18,$AS$4>=27,$AS$4<=29),AU75&\"G\",0)","v":{"$error":"#N/A"}},null,null,null,null,null,null,null,null,null,null,null,null,null,null,null,null,null,null,null,null,null,null,null,null,null,null,null,null,null,null,null,null,null,null,null,null,null,null,null,null,null,null,null,null,null,null,null,null,null,null,null,null,null,null,null,null,null,null,null,null,null,{"$error":"#N/A"},{"$error":"#N/A"},{"$f":"IF(AND(DG75=28,$DE$4>=37,$DE$4<=40),DG75&\"G\",0)","v":{"$error":"#N/A"}},null,null,{"$error":"#N/A"},{"$error":"#N/A"},{"$f":"IF(AND(DL75=28,$DJ$4>=37,$DJ$4<=40),DL75&\"G\",0)","v":{"$error":"#N/A"}}]
[null,6,3,1,null,6,3,1,null,null,null,null,null,null,null,null,null,null,null,null,null,null,null,null,null,null,null,null,"Top Spacer",{"$f":"((CMR!$E$45*2)+(CMR!$E$47*2))/12","v":-1.3541666666666667},5.3600000000000002E-2,-7.2583333333333333E-2,null,"Top Top Rail",{"$f":"(Frame_Width-4.9375)/12","v":-0.41145833333333331},0.36899999999999999,{"$f":"AI76*AJ76","v":-0.15182812499999998},null,null,null,{"$error":"#N/A"},0,{"$f":"IF(AND(AP76=18,$AN$4>=30,$AN$4<=32),AP76&\"H\",0)","v":{"$error":"#N/A"}},null,null,{"$error":"#N/A"},0,{"$f":"IF(AND(AU76=18,$AS$4>=30,$AS$4<=32),AU76&\"H\",0)","v":{"$error":"#N/A"}},null,null,null,null,null,null,null,null,null,null,null,null,null,null,null,null,null,null,null,null,null,null,null,null,null,null,null,null,null,null,null,null,null,null,null,null,null,null,null,null,null,null,null,null,null,null,null,null,null,null,null,null,null,null,null,null,null,null,null,null,null,{"$error":"#N/A"},{"$error":"#N/A"},{"$f":"IF(AND(DG76=28,$DE$4>=41,$DE$4<=43),DG76&\"H\",0)","v":{"$error":"#N/A"}},null,null,{"$error":"#N/A"},{"$error":"#N/A"},{"$f":"IF(AND(DL76=28,$DJ$4>=41,$DJ$4<=43),DL76&\"H\",0)","v":{"$error":"#N/A"}}]
[null,7,4,1,null,7,4,1,null,null,null,null,null,null,null,null,null,null,null,null,null,null,null,null,null,null,null,null,"Top Hardware",1,0.2,0.2,null,"Top Bottom Rail",{"$f":"(Frame_Width-4.9375)/12","v":-0.41145833333333331},0.36899999999999999,-0.15182812499999998,null,null,null,{"$error":"#N/A"},0,{"$f":"IF(AND(AP77=18,$AN$4>=33,$AN$4<=34),AP77&\"I\",0)","v":{"$error":"#N/A"}},null,null,{"$error":"#N/A"},0,{"$f":"IF(AND(AU77=18,$AS$4>=33,$AS$4<=34),AU77&\"I\",0)","v":{"$error":"#N/A"}},null,null,null,null,null,null,null,null,null,null,null,null,null,null,null,null,null,null,null,null,null,null,null,null,null,null,null,null,null,null,null,null,null,null,null,null,null,null,null,null,null,null,null,null,null,null,null,null,null,null,null,null,null,null,null,null,null,null,null,null,null,{"$error":"#N/A"},{"$error":"#N/A"},{"$f":"IF(AND(DG77=28,$DE$4>=44,$DE$4<=45),DG77&\"I\",0)","v":{"$error":"#N/A"}},null,null,{"$error":"#N/A"},{"$error":"#N/A"},{"$f":"IF(AND(DL77=28,$DJ$4>=44,$DJ$4<=45),DL77&\"I\",0)","v":{"$error":"#N/A"}}]
[null,8,4,1,null,8,4,1,null,null,null,null,null,null,null,null,null,null,null,null,null,null,null,null,null,null,null,null,"Top Bead",{"$f":"(((Frame_Width-4.3125)*2)+((CMR!$E$42-2.6875)*2))/12","v":-1.1666666666666667},2.8000000000000001E-2,-3.266666666666667E-2,null,"Top Stile",{"$f":"(2*(CMR!$L$90-2.0625))/12","v":-0.34375},0.36899999999999999,-0.12684375000000001,null,null,null,{"$error":"#N/A"},0,{"$f":"IF(AND(AP78=18,$AN$4>=35,$AN$4<=36),\"Dbl.\"&AP78&\"C\",0)","v":{"$error":"#N/A"}},null,null,{"$error":"#N/A"},0,{"$f":"IF(AND(AU78=18,$AS$4>=35,$AS$4<=36),\"Dbl.\"&AU78&\"C\",0)","v":{"$error":"#N/A"}},null,null,null,null,null,null,null,null,null,null,null,null,null,null,null,null,null,null,null,null,null,null,null,null,null,null,null,null,null,null,null,null,null,null,null,null,null,null,null,null,null,null,null,null,null,null,null,null,null,null,null,null,null,null,null,null,null,null,null,null,null,{"$error":"#N/A"},{"$f":"IF(AND($DF$4<=30,$DF$4>28),30,0)","v":{"$error":"#N/A"}},{"$f":"IF(AND(DG78=30,$DE$4>=8,$DE$4<=13),DG78&\"A\",0)","v":{"$error":"#N/A"}},null,null,{"$error":"#N/A"},{"$f":"IF(AND($DK$4<=30,$DK$4>28),30,0)","v":{"$error":"#N/A"}},{"$f":"IF(AND(DL78=30,$DJ$4>=8,$DJ$4<=13),DL78&\"A\",0)","v":{"$error":"#N/A"}}]
[null,9,5,1,null,9,5,1,null,null,null,null,null,null,null,null,null,null,null,null,null,null,null,null,null,null,null,null,"Bottom Top Rail",{"$f":"(Frame_Width-2.25)/12","v":-0.1875},0.246,-4.6124999999999999E-2,null,"Top Rail Reinf.",{"$f":"IF((INT((Frame_Width-9.9375)/2)*2)>12,(INT((Frame_Width-9.9375)/2)*2)/12,0)","v":0},0.16500000000000001,0,null,null,null,{"$error":"#N/A"},0,{"$f":"IF(AND(AP79=18,$AN$4>=37,$AN$4<=42),\"Dbl.\"&AP79&\"D\",0)","v":{"$error":"#N/A"}},null,null,{"$error":"#N/A"},0,{"$f":"IF(AND(AU79=18,$AS$4>=37,$AS$4<=42),\"Dbl.\"&AU79&\"D\",0)","v":{"$error":"#N/A"}},null,null,null,null,null,null,null,null,null,null,null,null,null,null,null,null,null,null,null,null,null,null,null,null,null,null,null,null,null,null,null,null,null,null,null,null,null,null,null,null,null,null,null,null,null,null,null,null,null,null,null,null,null,null,null,null,null,null,null,null,null,{"$error":"#N/A"},{"$error":"#N/A"},{"$f":"IF(AND(DG79=30,$DE$4>=14,$DE$4<=19),DG79&\"B\",0)","v":{"$error":"#N/A"}},null,null,{"$error":"#N/A"},{"$error":"#N/A"},{"$f":"IF(AND(DL79=30,$DJ$4>=14,$DJ$4<=19),DL79&\"B\",0)","v":{"$error":"#N/A"}}]
[null,10,5,1,null,10,5,1,null,null,null,null,null,null,null,false,"AC SASH CALCULATOR",null,null,null,null,null,null,null,null,null,null,null,"Bottom Bottom Rail",{"$f":"(Frame_Width-2.25)/12","v":-0.1875},0.25700000000000001,-4.8187500000000001E-2,null,"Keeper Bead",{"$f":"(Frame_Width-4.59375)/12","v":-0.3828125},9.6000000000000002E-2,-3.6749999999999998E-2,null,null,null,{"$error":"#N/A"},0,{"$f":"IF(AND(AP80=18,$AN$4>=43,$AN$4<=48),\"Dbl.\"&AP80&\"E\",0)","v":{"$error":"#N/A"}},null,null,{"$error":"#N/A"},0,{"$f":"IF(AND(AU80=18,$AS$4>=43,$AS$4<=48),\"Dbl.\"&AU80&\"E\",0)","v":{"$error":"#N/A"}},null,null,null,null,null,null,null,null,null,null,null,null,null,null,null,null,null,null,null,null,null,null,null,null,null,null,null,null,null,null,null,null,null,null,null,null,null,null,null,null,null,null,null,null,null,null,null,null,null,null,null,null,null,null,null,null,null,null,null,null,null,{"$error":"#N/A"},{"$error":"#N/A"},{"$f":"IF(AND(DG80=30,$DE$4>=20,$DE$4<=24),DG80&\"C\",0)","v":{"$error":"#N/A"}},null,null,{"$error":"#N/A"},{"$error":"#N/A"},{"$f":"IF(AND(DL80=30,$DJ$4>=20,$DJ$4<=24),DL80&\"C\",0)","v":{"$error":"#N/A"}}]
[null,11,6,1,null,11,6,1,null,null,null,null,null,null,null,"Model","Head","Sill","Center of Astragal","Top Sash Width","Sash Height","CMR",null,null,null,null,null,null,"Bottom Stile",{"$f":"(2*(CMR!$E$43-0.625))/12","v":-0.10416666666666667},0.23300000000000001,-2.4270833333333335E-2,null,"Top Glass",{"$f":"(CMR!$L$93*CMR!$L$95)/144","v":0.17705620659722221},{"$f":"$L$12","v":""},{"$error":"#VALUE!"},null,null,null,{"$error":"#N/A"},0,{"$f":"IF(AND(AP81=18,$AN$4>=49,$AN$4<=52),\"Dbl.\"&AP81&\"F\",0)","v":{"$error":"#N/A"}},null,null,{"$error":"#N/A"},0,{"$f":"IF(AND(AU81=18,$AS$4>=49,$AS$4<=52),\"Dbl.\"&AU81&\"F\",0)","v":{"$error":"#N/A"}},null,null,null,null,null,null,null,null,null,null,null,null,null,null,null,null,null,null,null,null,null,null,null,null,null,null,null,null,null,null,null,null,null,null,null,null,null,null,null,null,null,null,null,null,null,null,null,null,null,null,null,null,null,null,null,null,null,null,null,null,null,{"$error":"#N/A"},{"$error":"#N/A"},{"$f":"IF(AND(DG81=30,$DE$4>=25,$DE$4<=29),DG81&\"D\",0)","v":{"$error":"#N/A"}},null,null,{"$error":"#N/A"},{"$error":"#N/A"},{"$f":"IF(AND(DL81=30,$DJ$4>=25,$DJ$4<=29),DL81&\"D\",0)","v":{"$error":"#N/A"}}]
[null,12,6,1,null,12,6,1,null,null,null,null,null,null,null,{"$f":"ModelNo","v":"Select Model"},{"$f":"IF(ISERROR(VLOOKUP(ModelNo,ACTABLE,2,FALSE)),\"\",VLOOKUP(ModelNo,ACTABLE,2,FALSE))","v":""},{"$f":"IF(ISERROR(VLOOKUP(ModelNo,ACTABLE,3,FALSE)),\"\",VLOOKUP(ModelNo,ACTABLE,3,FALSE))","v":""},{"$f":"IF(ISERROR(VLOOKUP(ModelNo,ACTABLE,4,FALSE)),\"\",VLOOKUP(ModelNo,ACTABLE,4,FALSE))","v":""},{"$f":"IF(ISERROR(VLOOKUP(ModelNo,ACTABLE,5,FALSE)),\"\",VLOOKUP(ModelNo,ACTABLE,5,FALSE))","v":""},{"$f":"IF(ISERROR(VLOOKUP(ModelNo,ACTABLE,6,FALSE)),\"\",VLOOKUP(ModelNo,ACTABLE,6,FALSE))","v":""},{"$f":"IF(ISERROR(VLOOKUP(ModelNo,ACTABLE,7,FALSE)),\"\",VLOOKUP(ModelNo,ACTABLE,7,FALSE))","v":""},null,null,null,null,null,null,"Bottom Rail Reinf.",{"$f":"(TRUNC(((Frame_Width-2.25)-6)/2)*2)/12","v":-0.66666666666666663},0.37,-0.24666666666666665,null,"Top Spacer",{"$f":"((CMR!$L$93*2)+(CMR!$L$95*2))/12","v":-1.75},5.3600000000000002E-2,-9.3800000000000008E-2,null,null,null,{"$error":"#N/A"},0,{"$f":"IF(AND(AP82=18,$AN$4>=53,$AN$4<=58),\"Dbl.\"&AP82&\"G\",0)","v":{"$error":"#N/A"}},null,null,{"$error":"#N/A"},0,{"$f":"IF(AND(AU82=18,$AS$4>=53,$AS$4<=58),\"Dbl.\"&AU82&\"G\",0)","v":{"$error":"#N/A"}},null,null,null,null,null,null,null,null,null,null,null,null,null,null,null,null,null,null,null,null,null,null,null,null,null,null,null,null,null,null,null,null,null,null,null,null,null,null,null,null,null,null,null,null,null,null,null,null,null,null,null,null,null,null,null,null,null,null,null,null,null,{"$error":"#N/A"},{"$error":"#N/A"},{"$f":"IF(AND(DG82=30,$DE$4>=30,$DE$4<=33),DG82&\"E\",0)","v":{"$error":"#N/A"}},null,null,{"$error":"#N/A"},{"$error":"#N/A"},{"$f":"IF(AND(DL82=30,$DJ$4>=30,$DJ$4<=33),DL82&\"E\",0)","v":{"$error":"#N/A"}}]
[null,13,7,1,null,13,7,1,null,null,null,null,null,null,null,"0100",null,1.5369999999999999,1.0625,{"$f":"Frame_Width-2.3125","v":-2.3125},null,{"$f":"INT((Frame_Height-(R83+0.5+ACHEIGHT+S83))*16+0.5)/16","v":-3.125},null,null,null,null,null,null,"Bottom Stile Reinf.",{"$f":"IF(CMR!$E$48>27.6875,((TRUNC((CMR!$E$43-4.5)/2)*2)/12)*2,0)","v":0},0.29899999999999999,0,null,"Top Hardware",1,0.2,0.2,null,null,null,{"$error":"#N/A"},0,{"$f":"IF(AND(AP83=18,$AN$4>=59,$AN$4<=64),\"Dbl.\"&AP83&\"H\",0)","v":{"$error":"#N/A"}},null,null,{"$error":"#N/A"},0,{"$f":"IF(AND(AU83=18,$AS$4>=59,$AS$4<=64),\"Dbl.\"&AU83&\"H\",0)","v":{"$error":"#N/A"}},null,null,null,null,null,null,null,null,null,null,null,null,null,null,null,null,null,null,null,null,null,null,null,null,null,null,null,null,null,null,null,null,null,null,null,null,null,null,null,null,null,null,null,null,null,null,null,null,null,null,null,null,null,null,null,null,null,null,null,null,null,{"$error":"#N/A"},{"$error":"#N/A"},{"$f":"IF(AND(DG83=30,$DE$4>=34,$DE$4<=37),DG83&\"F\",0)","v":{"$error":"#N/A"}},null,null,{"$error":"#N/A"},{"$error":"#N/A"},{"$f":"IF(AND(DL83=30,$DJ$4>=34,$DJ$4<=37),DL83&\"F\",0)","v":{"$error":"#N/A"}}]
[null,14,7,1,null,14,7,1,null,null,null,null,null,null,null,"01HP",null,1.5369999999999999,1.1875,{"$f":"Frame_Width-2.3125","v":-2.3125},null,{"$f":"INT((Frame_Height-(R84+0.5+ACHEIGHT+S84))*16+0.5)/16","v":-3.25},null,null,null,null,null,null,"Bottom Glass",{"$f":"(CMR!$E$46*CMR!$E$48)/144","v":6.0546875E-2},{"$f":"$L$12","v":""},{"$error":"#VALUE!"},null,"Top Handle Bead",{"$f":"(Frame_Width-6.59375)/12","v":-0.54947916666666663},8.8999999999999996E-2,-4.8903645833333328E-2,null,null,null,{"$error":"#N/A"},0,{"$f":"IF(AND(AP84=18,$AN$4>=65,$AN$4<=68),\"Dbl.\"&AP84&\"I\",0)","v":{"$error":"#N/A"}},null,null,{"$error":"#N/A"},0,{"$f":"IF(AND(AU84=18,$AS$4>=65,$AS$4<=68),\"Dbl.\"&AU84&\"I\",0)","v":{"$error":"#N/A"}},null,null,null,null,null,null,null,null,null,null,null,null,null,null,null,null,null,null,null,null,null,null,null,null,null,null,null,null,null,null,null,null,null,null,null,null,null,null,null,null,null,null,null,null,null,null,null,null,null,null,null,null,null,null,null,null,null,null,null,null,null,{"$error":"#N/A"},{"$error":"#N/A"},{"$f":"IF(AND(DG84=30,$DE$4>=38,$DE$4<=40),DG84&\"G\",0)","v":{"$error":"#N/A"}},null,null,{"$error":"#N/A"},{"$error":"#N/A"},{"$f":"IF(AND(DL84=30,$DJ$4>=38,$DJ$4<=40),DL84&\"G\",0)","v":{"$error":"#N/A"}}]
[null,15,8,1,null,15,8,1,null,null,null,null,null,null,null,"02A0",null,1.75,0.625,{"$f":"Frame_Width-2.25","v":-2.25},null,{"$f":"INT((Frame_Height-(R85+0.5+ACHEIGHT+S85))*16+0.5)/16","v":-2.875},null,null,null,null,null,null,"Bottom Spacer",{"$f":"((CMR!$E$46*2)+(CMR!$E$48*2))/12","v":-1.0208333333333333},5.3600000000000002E-2,-5.4716666666666663E-2,null,"Top Bead",{"$f":"((CMR!$L$90-4.25)*2)/12","v":-0.70833333333333337},6.4000000000000001E-2,-4.5333333333333337E-2,null,null,null,{"$error":"#N/A"},{"$f":"IF(AND($AO$4<=20,$AO$4>18),20,0)","v":0},{"$f":"IF(AND(AP85=20,$AN$4>=5,$AN$4<=10),AP85&\"A\",0)","v":{"$error":"#N/A"}},null,null,{"$error":"#N/A"},{"$f":"IF(AND($AT$4<=20,$AT$4>18),20,0)","v":0},{"$f":"IF(AND(AU85=20,$AS$4>=5,$AS$4<=10),AU85&\"A\",0)","v":{"$error":"#N/A"}},null,null,null,null,null,null,null,null,null,null,null,null,null,null,null,null,null,null,null,null,null,null,null,null,null,null,null,null,null,null,null,null,null,null,null,null,null,null,null,null,null,null,null,null,null,null,null,null,null,null,null,null,null,null,null,null,null,null,null,null,null,{"$error":"#N/A"},{"$error":"#N/A"},{"$f":"IF(AND(DG85=30,$DE$4>=41,$DE$4<=43),DG85&\"H\",0)","v":{"$error":"#N/A"}},null,null,{"$error":"#N/A"},{"$error":"#N/A"},{"$f":"IF(AND(DL85=30,$DJ$4>=41,$DJ$4<=43),DL85&\"H\",0)","v":{"$error":"#N/A"}}]
[null,16,8,1,null,16,8,1,null,null,null,null,null,null,null,"0201",1.625,1.75,null,{"$f":"Frame_Width-3.25","v":-3.25},{"$f":"INT((Frame_Height-(Q86+R86+0.5+ACHEIGHT))*16+0.5)/16","v":-3.875},null,null,null,null,null,null,null,"Bottom Hardware",1,0.36,0.36,null,"Bottom Top Rail",{"$f":"(Frame_Width-3.9375)/12","v":-0.328125},0.47299999999999998,-0.155203125,null,null,null,{"$error":"#N/A"},0,{"$f":"IF(AND(AP86=20,$AN$4>=11,$AN$4<=14),AP86&\"B\",0)","v":{"$error":"#N/A"}},null,null,{"$error":"#N/A"},0,{"$f":"IF(AND(AU86=20,$AS$4>=11,$AS$4<=14),AU86&\"B\",0)","v":{"$error":"#N/A"}},null,null,null,null,null,null,null,null,null,null,null,null,null,null,null,null,null,null,null,null,null,null,null,null,null,null,null,null,null,null,null,null,null,null,null,null,null,null,null,null,null,null,null,null,null,null,null,null,null,null,null,null,null,null,null,null,null,null,null,null,null,{"$error":"#N/A"},{"$error":"#N/A"},{"$f":"IF(AND(DG86=30,$DE$4>=44,$DE$4<=45),DG86&\"I\",0)","v":{"$error":"#N/A"}},null,null,{"$error":"#N/A"},{"$error":"#N/A"},{"$f":"IF(AND(DL86=30,$DJ$4>=44,$DJ$4<=45),DL86&\"I\",0)","v":{"$error":"#N/A"}}]
[null,17,9,1,null,17,9,1,null,null,null,null,null,null,null,"i201",1.625,1.75,null,{"$f":"Frame_Width-3.25","v":-3.25},-3.875,null,null,null,null,null,null,null,"Bottom Bead",{"$f":"(((Frame_Width-3.3125)*2)+((CMR!$E$43-1.6875)*2))/12","v":-0.83333333333333337},2.8000000000000001E-2,-2.3333333333333334E-2,null,"Bottom Bottom Rail",{"$f":"(Frame_Width-3.9375)/12","v":-0.328125},0.437,-0.14339062499999999,null,null,null,{"$error":"#N/A"},0,{"$f":"IF(AND(AP87=20,$AN$4>=15,$AN$4<=18),AP87&\"C\",0)","v":{"$error":"#N/A"}},null,null,{"$error":"#N/A"},0,{"$f":"IF(AND(AU87=20,$AS$4>=15,$AS$4<=18),AU87&\"C\",0)","v":{"$error":"#N/A"}},null,null,null,null,null,null,null,null,null,null,null,null,null,null,null,null,null,null,null,null,null,null,null,null,null,null,null,null,null,null,null,null,null,null,null,null,null,null,null,null,null,null,null,null,null,null,null,null,null,null,null,null,null,null,null,null,null,null,null,null,null,{"$error":"#N/A"},{"$f":"IF(AND($DF$4<=32,$DF$4>30),32,0)","v":{"$error":"#N/A"}},{"$f":"IF(AND(DG87=32,$DE$4>=8,$DE$4<=14),DG87&\"A\",0)","v":{"$error":"#N/A"}},null,null,{"$error":"#N/A"},{"$f":"IF(AND($DK$4<=32,$DK$4>30),32,0)","v":{"$error":"#N/A"}},{"$f":"IF(AND(DL87=32,$DJ$4>=8,$DJ$4<=14),DL87&\"A\",0)","v":{"$error":"#N/A"}}]
[null,18,9,1,null,18,9,1,null,null,null,null,null,null,null,"0301",1.75,2.0625,null,{"$f":"Frame_Width-3.25","v":-3.25},-4.3125,null,null,null,null,null,null,null,null,null,"Top Sash",{"$f":"IF(OR(ModelNo=\"0301\",ModelNo=\"E301(3250)\",ModelNo=\"E301(3052)\",ModelNo=\"E301(2862)\"),(SUM(AF70:AF78))+5,0)","v":0},null,"Bottom Stile",{"$f":"(2*(CMR!$L$91-1.0625))/12","v":-0.17708333333333334},0.437,-7.7385416666666665E-2,null,null,null,{"$error":"#N/A"},0,{"$f":"IF(AND(AP88=20,$AN$4>=19,$AN$4<=22),AP88&\"D\",0)","v":{"$error":"#N/A"}},null,null,{"$error":"#N/A"},0,{"$f":"IF(AND(AU88=20,$AS$4>=19,$AS$4<=22),AU88&\"D\",0)","v":{"$error":"#N/A"}},null,null,null,null,null,null,null,null,null,null,null,null,null,null,null,null,null,null,null,null,null,null,null,null,null,null,null,null,null,null,null,null,null,null,null,null,null,null,null,null,null,null,null,null,null,null,null,null,null,null,null,null,null,null,null,null,null,null,null,null,null,{"$error":"#N/A"},{"$error":"#N/A"},{"$f":"IF(AND(DG88=32,$DE$4>=15,$DE$4<=20),DG88&\"B\",0)","v":{"$error":"#N/A"}},null,null,{"$error":"#N/A"},{"$error":"#N/A"},{"$f":"IF(AND(DL88=32,$DJ$4>=15,$DJ$4<=20),DL88&\"B\",0)","v":{"$error":"#N/A"}}]
[null,19,10,1,null,19,55,2,null,null,null,null,null,null,null,"0401",1.125,2,null,{"$f":"Frame_Width-3.25","v":-3.25},-3.625,null,null,null,null,null,null,null,null,null,"Bottom Sash",{"$f":"IF(OR(ModelNo=\"0301\",ModelNo=\"E301(3250)\",ModelNo=\"E301(3052)\",ModelNo=\"E301(2862)\"),SUM(AF79:AF87),0)","v":0},null,"Bottom Rail Reinf.",{"$f":"IF((INT((Frame_Width-8.9375)/2)*2)>12,(INT((Frame_Width-8.9375)/2)*2)/12,0)","v":0},0.17899999999999999,0,null,null,null,{"$error":"#N/A"},0,{"$f":"IF(AND(AP89=20,$AN$4>=23,$AN$4<=26),AP89&\"E\",0)","v":{"$error":"#N/A"}},null,null,{"$error":"#N/A"},0,{"$f":"IF(AND(AU89=20,$AS$4>=23,$AS$4<=26),AU89&\"E\",0)","v":{"$error":"#N/A"}},null,null,null,null,null,null,null,null,null,null,null,null,null,null,null,null,null,null,null,null,null,null,null,null,null,null,null,null,null,null,null,null,null,null,null,null,null,null,null,null,null,null,null,null,null,null,null,null,null,null,null,null,null,null,null,null,null,null,null,null,null,{"$error":"#N/A"},{"$error":"#N/A"},{"$f":"IF(AND(DG89=32,$DE$4>=21,$DE$4<=25),DG89&\"C\",0)","v":{"$error":"#N/A"}},null,null,{"$error":"#N/A"},{"$error":"#N/A"},{"$f":"IF(AND(DL89=32,$DJ$4>=21,$DJ$4<=25),DL89&\"C\",0)","v":{"$error":"#N/A"}}]
[null,20,10,1,null,20,55,2,null,null,null,null,null,null,null,{"$f":"IF(ModelNo=\"0501\",\"0501\",IF(ModelNo=\"B501\",\"B501\",IF(ModelNo=\"U501\",\"U501\",\"0501\")))","v":"0501"},2.25,3,null,{"$f":"Frame_Width-4.25","v":-4.25},-5.75,null,null,null,null,null,null,null,null,null,null,null,null,"Bottom Stile Reinf.",0,0,0,null,null,null,{"$error":"#N/A"},0,{"$f":"IF(AND(AP90=20,$AN$4>=27,$AN$4<=30),AP90&\"F\",0)","v":{"$error":"#N/A"}},null,null,{"$error":"#N/A"},0,{"$f":"IF(AND(AU90=20,$AS$4>=27,$AS$4<=30),AU90&\"F\",0)","v":{"$error":"#N/A"}},null,null,null,null,null,null,null,null,null,null,null,null,null,null,null,null,null,null,null,null,null,null,null,null,null,null,null,null,null,null,null,null,null,null,null,null,null,null,null,null,null,null,null,null,null,null,null,null,null,null,null,null,null,null,null,null,null,null,null,null,null,{"$error":"#N/A"},{"$error":"#N/A"},{"$f":"IF(AND(DG90=32,$DE$4>=26,$DE$4<=30),DG90&\"D\",0)","v":{"$error":"#N/A"}},null,null,{"$error":"#N/A"},{"$error":"#N/A"},{"$f":"IF(AND(DL90=32,$DJ$4>=26,$DJ$4<=30),DL90&\"D\",0)","v":{"$error":"#N/A"}}]
[null,21,56,2,null,21,47,2,null,null,null,null,null,null,null,{"$f":"IF(ModelNo=\"0601\",\"0601\",IF(ModelNo=\"B601\",\"B601\",IF(ModelNo=\"U601\",\"U601\",\"0601\")))","v":"0601"},2.375,2.75,null,{"$f":"Frame_Width-4.25","v":-4.25},-5.625,null,null,null,null,null,null,null,"0401","Length","Weight/ft","Weight",null,"Bottom Glass",{"$f":"(CMR!$L$94*CMR!$L$96)/144","v":0.17705620659722221},{"$f":"$L$12","v":""},{"$error":"#VALUE!"},null,null,null,{"$error":"#N/A"},0,{"$f":"IF(AND(AP91=20,$AN$4>=31,$AN$4<=34),AP91&\"G\",0)","v":{"$error":"#N/A"}},null,null,{"$error":"#N/A"},0,{"$f":"IF(AND(AU91=20,$AS$4>=31,$AS$4<=34),AU91&\"G\",0)","v":{"$error":"#N/A"}},null,null,null,null,null,null,null,null,null,null,null,null,null,null,null,null,null,null,null,null,null,null,null,null,null,null,null,null,null,null,null,null,null,null,null,null,null,null,null,null,null,null,null,null,null,null,null,null,null,null,null,null,null,null,null,null,null,null,null,null,null,{"$error":"#N/A"},{"$error":"#N/A"},{"$f":"IF(AND(DG91=32,$DE$4>=31,$DE$4<=34),DG91&\"E\",0)","v":{"$error":"#N/A"}},null,null,{"$error":"#N/A"},{"$error":"#N/A"},{"$f":"IF(AND(DL91=32,$DJ$4>=31,$DJ$4<=34),DL91&\"E\",0)","v":{"$error":"#N/A"}}]
[null,22,56,2,null,22,47,2,null,null,null,null,null,null,null,"0700",null,1.5369999999999999,1.0625,{"$f":"Frame_Width-2.3125","v":-2.3125},null,{"$f":"INT((Frame_Height-(R92+0.5+ACHEIGHT+S92))*16+0.5)/16","v":-3.125},null,null,null,null,null,null,"Top Top Rail",{"$f":"(Frame_Width-3.25)/12","v":-0.27083333333333331},0.33400000000000002,{"$f":"AD92*AE92","v":-9.0458333333333335E-2},null,"Bottom Spacer",{"$f":"((CMR!$L$94*2)+(CMR!$L$96*2))/12","v":-1.75},5.3600000000000002E-2,-9.3800000000000008E-2,null,null,null,{"$error":"#N/A"},0,{"$f":"IF(AND(AP92=20,$AN$4>=35,$AN$4<=37),AP92&\"H\",0)","v":{"$error":"#N/A"}},null,null,{"$error":"#N/A"},0,{"$f":"IF(AND(AU92=20,$AS$4>=35,$AS$4<=37),AU92&\"H\",0)","v":{"$error":"#N/A"}},null,null,null,null,null,null,null,null,null,null,null,null,null,null,null,null,null,null,null,null,null,null,null,null,null,null,null,null,null,null,null,null,null,null,null,null,null,null,null,null,null,null,null,null,null,null,null,null,null,null,null,null,null,null,null,null,null,null,null,null,null,{"$error":"#N/A"},{"$error":"#N/A"},{"$f":"IF(AND(DG92=32,$DE$4>=35,$DE$4<=37),DG92&\"F\",0)","v":{"$error":"#N/A"}},null,null,{"$error":"#N/A"},{"$error":"#N/A"},{"$f":"IF(AND(DL92=32,$DJ$4>=35,$DJ$4<=37),DL92&\"F\",0)","v":{"$error":"#N/A"}}]
[null,23,66,2,null,23,48,2,null,null,null,null,null,null,null,"07HP",null,1.5369999999999999,1.1875,{"$f":"Frame_Width-2.3125","v":-2.3125},null,{"$f":"INT((Frame_Height-(R93+0.5+ACHEIGHT+S93))*16+0.5)/16","v":-3.25},null,null,null,null,null,null,"Top Bottom Rail",{"$f":"(Frame_Width-3.25)/12","v":-0.27083333333333331},0.29499999999999998,-7.9895833333333319E-2,null,"Bottom Hardware",1,0.36,0.36,null,null,null,{"$error":"#N/A"},0,{"$f":"IF(AND(AP93=20,$AN$4>=38,$AN$4<=40),AP93&\"I\",0)","v":{"$error":"#N/A"}},null,null,{"$error":"#N/A"},0,{"$f":"IF(AND(AU93=20,$AS$4>=38,$AS$4<=40),AU93&\"I\",0)","v":{"$error":"#N/A"}},null,null,null,null,null,null,null,null,null,null,null,null,null,null,null,null,null,null,null,null,null,null,null,null,null,null,null,null,null,null,null,null,null,null,null,null,null,null,null,null,null,null,null,null,null,null,null,null,null,null,null,null,null,null,null,null,null,null,null,null,null,{"$error":"#N/A"},{"$error":"#N/A"},{"$f":"IF(AND(DG93=32,$DE$4>=38,$DE$4<=40),DG93&\"G\",0)","v":{"$error":"#N/A"}},null,null,{"$error":"#N/A"},{"$error":"#N/A"},{"$f":"IF(AND(DL93=32,$DJ$4>=38,$DJ$4<=40),DL93&\"G\",0)","v":{"$error":"#N/A"}}]
[null,24,66,2,null,24,48,2,null,null,null,null,null,null,null,{"$f":"IF(ModelNo=\"0901\",\"0901\",IF(ModelNo=\"09A1\",\"09A1\",IF(ModelNo=\"09B1\",\"09B1\",\"0901\")))","v":"0901"},1.4375,2.125,null,{"$f":"Frame_Width-3.4375","v":-3.4375},{"$f":"INT((Frame_Height-(Q94+R94+0.5+ACHEIGHT))*16+0.5)/16","v":-4.0625},null,null,null,null,null,null,null,"Top Stile",{"$f":"(2*(CMR!$E$58-1))/12","v":-0.16666666666666666},0.27,-4.4999999999999998E-2,null,"Bott. Handle Bead",{"$f":"(Frame_Width-6.59375)/12","v":-0.54947916666666663},8.8999999999999996E-2,-4.8903645833333328E-2,null,null,null,{"$error":"#N/A"},0,{"$f":"IF(AND(AP94=20,$AN$4>=41,$AN$4<=44),\"Dbl.\"&AP94&\"D\",0)","v":{"$error":"#N/A"}},null,null,{"$error":"#N/A"},0,{"$f":"IF(AND(AU94=20,$AS$4>=41,$AS$4<=44),\"Dbl.\"&AU94&\"D\",0)","v":{"$error":"#N/A"}},null,null,null,null,null,null,null,null,null,null,null,null,null,null,null,null,null,null,null,null,null,null,null,null,null,null,null,null,null,null,null,null,null,null,null,null,null,null,null,null,null,null,null,null,null,null,null,null,null,null,null,null,null,null,null,null,null,null,null,null,null,{"$error":"#N/A"},{"$error":"#N/A"},{"$f":"IF(AND(DG94=32,$DE$4>=41,$DE$4<=43),DG94&\"H\",0)","v":{"$error":"#N/A"}},null,null,{"$error":"#N/A"},{"$error":"#N/A"},{"$f":"IF(AND(DL94=32,$DJ$4>=41,$DJ$4<=43),DL94&\"H\",0)","v":{"$error":"#N/A"}}]
[null,25,67,2,null,25,58,2,null,null,null,null,null,null,null,"09L1",1.4375,2.125,null,{"$f":"Frame_Width-3.4375","v":-3.4375},{"$f":"INT((Frame_Height-(Q95+R95+0.5+ACHEIGHT))*16+0.5)/16","v":-4.0625},null,null,null,null,null,null,null,"Top Rail Reinf.",{"$f":"(TRUNC(((Frame_Width-3.25)-6)/2)*2)/12","v":-0.66666666666666663},0.27400000000000002,-0.18266666666666667,null,"Bottom Bead",{"$f":"((Frame_Width-6.59375)+((CMR!$L$91-3.71875)*2))/12","v":-1.1692708333333333},6.4000000000000001E-2,-7.4833333333333335E-2,null,null,null,{"$error":"#N/A"},0,{"$f":"IF(AND(AP95=20,$AN$4>=45,$AN$4<=52),\"Dbl.\"&AP95&\"E\",0)","v":{"$error":"#N/A"}},null,null,{"$error":"#N/A"},0,{"$f":"IF(AND(AU95=20,$AS$4>=45,$AS$4<=52),\"Dbl.\"&AU95&\"E\",0)","v":{"$error":"#N/A"}},null,null,null,null,null,null,null,null,null,null,null,null,null,null,null,null,null,null,null,null,null,null,null,null,null,null,null,null,null,null,null,null,null,null,null,null,null,null,null,null,null,null,null,null,null,null,null,null,null,null,null,null,null,null,null,null,null,null,null,null,null,{"$error":"#N/A"},{"$error":"#N/A"},{"$f":"IF(AND(DG95=32,$DE$4>=44,$DE$4<=45),DG95&\"I\",0)","v":{"$error":"#N/A"}},null,null,{"$error":"#N/A"},{"$error":"#N/A"},{"$f":"IF(AND(DL95=32,$DJ$4>=44,$DJ$4<=45),DL95&\"I\",0)","v":{"$error":"#N/A"}}]
[null,26,67,2,null,26,58,2,null,null,null,null,null,null,null,"8001",2.5,2.5,null,{"$f":"Frame_Width-4.9375","v":-4.9375},{"$f":"INT((Frame_Height-(Q96+R96+0.5+ACHEIGHT))*16+0.5)/16","v":-5.5},null,null,null,null,null,null,null,"Top Stile Reinf",{"$f":"IF(CMR!$E$63>27.25,((TRUNC((CMR!$E$58-8)/2)*2)/12)*2,0)","v":0},0.27400000000000002,0,null,null,null,"Top Sash",{"$f":"IF(OR(ModelNo=\"9001\",ModelNo=\"P601\"),(SUM(AK76:AK85))+5,0)","v":0},null,null,null,{"$error":"#N/A"},0,{"$f":"IF(AND(AP96=20,$AN$4>=53,$AN$4<=60),\"Dbl.\"&AP96&\"F\",0)","v":{"$error":"#N/A"}},null,null,{"$error":"#N/A"},0,{"$f":"IF(AND(AU96=20,$AS$4>=53,$AS$4<=60),\"Dbl.\"&AU96&\"F\",0)","v":{"$error":"#N/A"}},null,null,null,null,null,null,null,null,null,null,null,null,null,null,null,null,null,null,null,null,null,null,null,null,null,null,null,null,null,null,null,null,null,null,null,null,null,null,null,null,null,null,null,null,null,null,null,null,null,null,null,null,null,null,null,null,null,null,null,null,null,{"$error":"#N/A"},{"$f":"IF(AND($DF$4<=34,$DF$4>32),34,0)","v":{"$error":"#N/A"}},{"$f":"IF(AND(DG96=34,$DE$4>=11,$DE$4<=16),DG96&\"A\",0)","v":{"$error":"#N/A"}},null,null,{"$error":"#N/A"},{"$f":"IF(AND($DK$4<=34,$DK$4>32),34,0)","v":{"$error":"#N/A"}},{"$f":"IF(AND(DL96=34,$DJ$4>=11,$DJ$4<=16),DL96&\"A\",0)","v":{"$error":"#N/A"}}]
[null,27,77,2,null,27,68,2,null,null,null,null,null,null,null,"R601",2.5,2.5,null,{"$f":"Frame_Width-4.9375","v":-4.9375},{"$f":"INT((Frame_Height-(Q97+R97+0.5+ACHEIGHT))*16+0.5)/16","v":-5.5},null,null,null,null,null,null,null,"Top Glass",{"$f":"(CMR!$E$61*CMR!$E$63)/144","v":9.2149522569444448E-2},{"$f":"$L$12","v":""},{"$error":"#VALUE!"},null,null,null,"Bottom Sash",{"$f":"IF(OR(ModelNo=\"9001\",ModelNo=\"9601\"),SUM(AK86:AK95),0)","v":0},null,null,null,{"$error":"#N/A"},0,{"$f":"IF(AND(AP97=20,$AN$4>=61,$AN$4<=68),\"Dbl.\"&AP97&\"G\",0)","v":{"$error":"#N/A"}},null,null,{"$error":"#N/A"},0,{"$f":"IF(AND(AU97=20,$AS$4>=61,$AS$4<=68),\"Dbl.\"&AU97&\"G\",0)","v":{"$error":"#N/A"}},null,null,null,null,null,null,null,null,null,null,null,null,null,null,null,null,null,null,null,null,null,null,null,null,null,null,null,null,null,null,null,null,null,null,null,null,null,null,null,null,null,null,null,null,null,null,null,null,null,null,null,null,null,null,null,null,null,null,null,null,null,{"$error":"#N/A"},{"$error":"#N/A"},{"$f":"IF(AND(DG97=34,$DE$4>=17,$DE$4<=22),DG97&\"B\",0)","v":{"$error":"#N/A"}},null,null,{"$error":"#N/A"},{"$error":"#N/A"},{"$f":"IF(AND(DL97=34,$DJ$4>=17,$DJ$4<=22),DL97&\"B\",0)","v":{"$error":"#N/A"}}]
[null,28,77,2,null,28,68,2,null,null,null,null,null,null,null,"S140",null,{"$f":"IF(OR(EXTSELECT=2,EXTSELECT=3),1.875,IF(OR(EXTSELECT=4,EXTSELECT=5),1.537,IF(EXTSELECT=7,1.818,IF(EXTSELECT=8,2,1.75))))","v":1.75},{"$f":"IF(OR(EXTSELECT=2,EXTSELECT=3),1.25,IF(EXTSELECT=4,1.0625,IF(EXTSELECT=5,1.1875,IF(EXTSELECT=7,0.4375,IF(EXTSELECT=8,1,0.625)))))","v":0.625},{"$f":"BSW_S140","v":{"$error":"#N/A"}},null,{"$f":"INT((Frame_Height-(R98+0.5+ACHEIGHT+S98))*16+0.5)/16","v":-2.875},null,null,null,null,null,null,"Top Spacer",{"$f":"((CMR!$E$61*2)+(CMR!$E$63*2))/12","v":-1.2708333333333333},5.3600000000000002E-2,-6.8116666666666659E-2,null,null,null,null,null,null,null,null,{"$error":"#N/A"},0,{"$f":"IF(AND(AP98=20,$AN$4>=69,$AN$4<=74),\"Dbl.\"&AP98&\"H\",0)","v":{"$error":"#N/A"}},null,null,{"$error":"#N/A"},0,{"$f":"IF(AND(AU98=20,$AS$4>=69,$AS$4<=74),\"Dbl.\"&AU98&\"H\",0)","v":{"$error":"#N/A"}},null,null,null,null,null,null,null,null,null,null,null,null,null,null,null,null,null,null,null,null,null,null,null,null,null,null,null,null,null,null,null,null,null,null,null,null,null,null,null,null,null,null,null,null,null,null,null,null,null,null,null,null,null,null,null,null,null,null,null,null,null,{"$error":"#N/A"},{"$error":"#N/A"},{"$f":"IF(AND(DG98=34,$DE$4>=23,$DE$4<=27),DG98&\"C\",0)","v":{"$error":"#N/A"}},null,null,{"$error":"#N/A"},{"$error":"#N/A"},{"$f":"IF(AND(DL98=34,$DJ$4>=23,$DJ$4<=27),DL98&\"C\",0)","v":{"$error":"#N/A"}}]
[null,29,78,2,null,29,78,2,null,null,null,null,null,null,null,"S144",null,{"$f":"IF(OR(EXTSELECT=2,EXTSELECT=3),1.875,IF(OR(EXTSELECT=4,EXTSELECT=5),1.537,IF(EXTSELECT=7,1.818,IF(EXTSELECT=8,2,1.75))))","v":1.75},{"$f":"IF(OR(EXTSELECT=2,EXTSELECT=3),1.25,IF(EXTSELECT=4,1.0625,IF(EXTSELECT=5,1.1875,IF(EXTSELECT=7,0.4375,IF(EXTSELECT=8,1,0.625)))))","v":0.625},{"$f":"BSW_S140","v":{"$error":"#N/A"}},null,{"$f":"INT((Frame_Height-(R99+0.5+ACHEIGHT+S99))*16+0.5)/16","v":-2.875},null,null,null,null,null,null,"Top Hardware",1,0.2,0.2,null,"3100","Length","Weight/ft","Weight",null,null,null,{"$error":"#N/A"},0,{"$f":"IF(AND(AP99=20,$AN$4>=75,$AN$4<=80),\"Dbl.\"&AP99&\"I\",0)","v":{"$error":"#N/A"}},null,null,{"$error":"#N/A"},0,{"$f":"IF(AND(AU99=20,$AS$4>=75,$AS$4<=80),\"Dbl.\"&AU99&\"I\",0)","v":{"$error":"#N/A"}},null,null,null,null,null,null,null,null,null,null,null,null,null,null,null,null,null,null,null,null,null,null,null,null,null,null,null,null,null,null,null,null,null,null,null,null,null,null,null,null,null,null,null,null,null,null,null,null,null,null,null,null,null,null,null,null,null,null,null,null,null,{"$error":"#N/A"},{"$error":"#N/A"},{"$f":"IF(AND(DG99=34,$DE$4>=28,$DE$4<=32),DG99&\"D\",0)","v":{"$error":"#N/A"}},null,null,{"$error":"#N/A"},{"$error":"#N/A"},{"$f":"IF(AND(DL99=34,$DJ$4>=28,$DJ$4<=32),DL99&\"D\",0)","v":{"$error":"#N/A"}}]
[null,30,78,2,null,30,78,2,null,null,null,null,null,null,null,"S146",null,{"$f":"IF(OR(EXTSELECT=2,EXTSELECT=3),1.875,IF(OR(EXTSELECT=4,EXTSELECT=5),1.537,IF(EXTSELECT=7,1.818,IF(EXTSELECT=8,2,1.75))))","v":1.75},{"$f":"IF(OR(EXTSELECT=2,EXTSELECT=3),1.25,IF(EXTSELECT=4,1.0625,IF(EXTSELECT=5,1.1875,IF(EXTSELECT=7,0.4375,IF(EXTSELECT=8,1,0.625)))))","v":0.625},{"$f":"BSW_S140","v":{"$error":"#N/A"}},null,{"$f":"INT((Frame_Height-(R100+0.5+ACHEIGHT+S100))*16+0.5)/16","v":-2.875},null,null,null,null,null,null,"Top Bead",{"$f":"(((Frame_Width-4.344)*2)+((CMR!$E$58-3.656)*2))/12","v":-1.3333333333333333},0.06,-7.9999999999999988E-2,null,"Top Top Rail",0,0,{"$f":"AI100*AJ100","v":0},null,null,null,{"$error":"#N/A"},{"$f":"IF(AND($AO$4<=22,$AO$4>20),22,0)","v":0},{"$f":"IF(AND(AP100=22,$AN$4>=5,$AN$4<=10),AP100&\"A\",0)","v":{"$error":"#N/A"}},null,null,{"$error":"#N/A"},{"$f":"IF(AND($AT$4<=22,$AT$4>20),22,0)","v":0},{"$f":"IF(AND(AU100=22,$AS$4>=5,$AS$4<=10),AU100&\"A\",0)","v":{"$error":"#N/A"}},null,null,null,null,null,null,null,null,null,null,null,null,null,null,null,null,null,null,null,null,null,null,null,null,null,null,null,null,null,null,null,null,null,null,null,null,null,null,null,null,null,null,null,null,null,null,null,null,null,null,null,null,null,null,null,null,null,null,null,null,null,{"$error":"#N/A"},{"$error":"#N/A"},{"$f":"IF(AND(DG100=34,$DE$4>=33,$DE$4<=34),DG100&\"E\",0)","v":{"$error":"#N/A"}},null,null,{"$error":"#N/A"},{"$error":"#N/A"},{"$f":"IF(AND(DL100=34,$DJ$4>=33,$DJ$4<=34),DL100&\"E\",0)","v":{"$error":"#N/A"}}]
[null,31,88,2,null,31,88,2,null,null,null,null,null,null,null,"3100",null,2.4300000000000002,0.1875,{"$f":"TRUNC((Frame_Width-2.14315)*32+0.5)/32","v":-2.125},null,{"$f":"INT((Frame_Height-(R101+0.5+ACHEIGHT+S101))*16+0.5)/16","v":-3.125},null,null,null,null,null,null,"Bottom Top Rail",{"$f":"(Frame_Width-2.25)/12","v":-0.1875},0.35499999999999998,-6.6562499999999997E-2,null,"Top Bottom Rail",0,0,{"$f":"AI101*AJ101","v":0},null,null,null,{"$f":"IF(AND(AP101>0,AQ101>0),AP101,0)","v":{"$error":"#N/A"}},0,{"$f":"IF(AND(AP101=22,$AN$4>=11,$AN$4<=16),AP101&\"B\",0)","v":{"$error":"#N/A"}},null,null,{"$error":"#N/A"},0,{"$f":"IF(AND(AU101=22,$AS$4>=11,$AS$4<=16),AU101&\"B\",0)","v":{"$error":"#N/A"}},null,null,null,null,null,null,null,null,null,null,null,null,null,null,null,null,null,null,null,null,null,null,null,null,null,null,null,null,null,null,null,null,null,null,null,null,null,null,null,null,null,null,null,null,null,null,null,null,null,null,null,null,null,null,null,null,null,null,null,null,null,{"$error":"#N/A"},{"$error":"#N/A"},{"$f":"IF(AND(DG101=34,$DE$4>=35,$DE$4<=37),DG101&\"F\",0)","v":{"$error":"#N/A"}},null,null,{"$error":"#N/A"},{"$error":"#N/A"},{"$f":"IF(AND(DL101=34,$DJ$4>=35,$DJ$4<=37),DL101&\"F\",0)","v":{"$error":"#N/A"}}]
[null,32,88,2,null,32,88,2,null,null,null,null,null,null,null,9001,2.5,2.75,null,{"$f":"Frame_Width-4.9375","v":-4.9375},{"$f":"INT((Frame_Height-(Q102+R102+0.5+ACHEIGHT))*16+0.5)/16","v":-5.75},null,null,null,null,null,null,null,"Bottom Bottom Rail",{"$f":"(Frame_Width-2.25)/12","v":-0.1875},0.379,-7.1062500000000001E-2,null,"Top Stile",0,0,{"$f":"(AI102*AJ102)/12","v":0},null,null,null,{"$error":"#N/A"},0,{"$f":"IF(AND(AP102=22,$AN$4>=17,$AN$4<=21),AP102&\"C\",0)","v":{"$error":"#N/A"}},null,null,{"$error":"#N/A"},0,{"$f":"IF(AND(AU102=22,$AS$4>=17,$AS$4<=21),AU102&\"C\",0)","v":{"$error":"#N/A"}},null,null,null,null,null,null,null,null,null,null,null,null,null,null,null,null,null,null,null,null,null,null,null,null,null,null,null,null,null,null,null,null,null,null,null,null,null,null,null,null,null,null,null,null,null,null,null,null,null,null,null,null,null,null,null,null,null,null,null,null,null,{"$error":"#N/A"},{"$error":"#N/A"},{"$f":"IF(AND(DG102=34,$DE$4>=38,$DE$4<=40),DG102&\"G\",0)","v":{"$error":"#N/A"}},null,null,{"$error":"#N/A"},{"$error":"#N/A"},{"$f":"IF(AND(DL102=34,$DJ$4>=38,$DJ$4<=40),DL102&\"G\",0)","v":{"$error":"#N/A"}}]
[null,33,89,2,null,33,89,2,null,null,null,null,null,null,null,"P601",2.5,2.75,null,{"$f":"Frame_Width-4.9375","v":-4.9375},{"$f":"INT((Frame_Height-(Q103+R103+0.5+ACHEIGHT))*16+0.5)/16","v":-5.75},null,null,null,null,null,null,null,"Bottom Stile",{"$f":"(2*(CMR!$E$59))/12","v":0},0.315,0,null,"Top Rail Reinf.",0,0,0,null,null,null,{"$error":"#N/A"},0,{"$f":"IF(AND(AP103=22,$AN$4>=22,$AN$4<=24),AP103&\"D\",0)","v":{"$error":"#N/A"}},null,null,{"$error":"#N/A"},0,{"$f":"IF(AND(AU103=22,$AS$4>=22,$AS$4<=24),AU103&\"D\",0)","v":{"$error":"#N/A"}},null,null,null,null,null,null,null,null,null,null,null,null,null,null,null,null,null,null,null,null,null,null,null,null,null,null,null,null,null,null,null,null,null,null,null,null,null,null,null,null,null,null,null,null,null,null,null,null,null,null,null,null,null,null,null,null,null,null,null,null,null,{"$error":"#N/A"},{"$error":"#N/A"},{"$f":"IF(AND(DG103=34,$DE$4>=41,$DE$4<=43),DG103&\"H\",0)","v":{"$error":"#N/A"}},null,null,{"$error":"#N/A"},{"$error":"#N/A"},{"$f":"IF(AND(DL103=34,$DJ$4>=41,$DJ$4<=43),DL103&\"H\",0)","v":{"$error":"#N/A"}}]
[null,34,89,2,null,34,89,2,null,null,null,null,null,null,null,"V100",null,2,1,{"$f":"TRUNC((Frame_Width-2.188)*32+0.5)/32","v":-2.15625},null,{"$f":"INT((Frame_Height-(R104+0.5+ACHEIGHT+S104))*16+0.5)/16","v":-3.5},null,null,null,null,null,null,"Bottom Rail Reinf.",{"$f":"(TRUNC(((Frame_Width-2.25)-6)/2)*2)/12","v":-0.66666666666666663},0.59599999999999997,-0.39733333333333332,null,"Top Stile Reinf",0,0,0,null,null,null,{"$error":"#N/A"},0,{"$f":"IF(AND(AP104=22,$AN$4>=25,$AN$4<=27),AP104&\"E\",0)","v":{"$error":"#N/A"}},null,null,{"$error":"#N/A"},0,{"$f":"IF(AND(AU104=22,$AS$4>=25,$AS$4<=27),AU104&\"E\",0)","v":{"$error":"#N/A"}},null,null,null,null,null,null,null,null,null,null,null,null,null,null,null,null,null,null,null,null,null,null,null,null,null,null,null,null,null,null,null,null,null,null,null,null,null,null,null,null,null,null,null,null,null,null,null,null,null,null,null,null,null,null,null,null,null,null,null,null,null,{"$error":"#N/A"},{"$error":"#N/A"},{"$f":"IF(AND(DG104=34,$DE$4>=44,$DE$4<=45),DG104&\"I\",0)","v":{"$error":"#N/A"}},null,null,{"$error":"#N/A"},{"$error":"#N/A"},{"$f":"IF(AND(DL104=34,$DJ$4>=44,$DJ$4<=45),DL104&\"I\",0)","v":{"$error":"#N/A"}}]
[null,35,99,2,null,35,99,2,null,null,null,null,null,null,null,"V101",1.875,2,null,{"$f":"Frame_Width-3.4375","v":-3.4375},{"$f":"INT((Frame_Height-(Q105+R105+0.5+ACHEIGHT))*16+0.5)/16","v":-4.375},null,null,null,null,null,null,null,"Bottom Stile Reinf.",{"$f":"IF(CMR!$E$64>27.25,((TRUNC((CMR!$E$59-3.75)/2)*2)/12)*2,0)","v":0},0.27400000000000002,0,null,"Top Glass",0,0,0,null,null,null,{"$error":"#N/A"},0,{"$f":"IF(AND(AP105=22,$AN$4>=28,$AN$4<=30),AP105&\"F\",0)","v":{"$error":"#N/A"}},null,null,{"$error":"#N/A"},0,{"$f":"IF(AND(AU105=22,$AS$4>=28,$AS$4<=30),AU105&\"F\",0)","v":{"$error":"#N/A"}},null,null,null,null,null,null,null,null,null,null,null,null,null,null,null,null,null,null,null,null,null,null,null,null,null,null,null,null,null,null,null,null,null,null,null,null,null,null,null,null,null,null,null,null,null,null,null,null,null,null,null,null,null,null,null,null,null,null,null,null,null,{"$error":"#N/A"},{"$f":"IF(AND($DF$4<=36,$DF$4>34),36,0)","v":{"$error":"#N/A"}},{"$f":"IF(AND(DG105=36,$DE$4>=11,$DE$4<=16),DG105&\"A\",0)","v":{"$error":"#N/A"}},null,null,{"$error":"#N/A"},{"$f":"IF(AND($DK$4<=36,$DK$4>34),36,0)","v":{"$error":"#N/A"}},{"$f":"IF(AND(DL105=36,$DJ$4>=11,$DJ$4<=16),DL105&\"A\",0)","v":{"$error":"#N/A"}}]
[null,36,99,2,null,36,99,2,null,null,null,null,null,null,null,"V200",null,2,0.4375,{"$f":"TRUNC((Frame_Width-2.188)*32+0.5)/32","v":-2.15625},null,{"$f":"INT((Frame_Height-(R106+0.5+ACHEIGHT+S106))*16+0.5)/16","v":-2.9375},null,null,null,null,null,null,"Bottom Glass",{"$f":"(CMR!$E$62*CMR!$E$64)/144","v":9.2149522569444448E-2},{"$f":"$L$12","v":""},{"$error":"#VALUE!"},null,"Top Spacer",0,0,0,null,null,null,{"$error":"#N/A"},0,{"$f":"IF(AND(AP106=22,$AN$4>=31,$AN$4<=34),AP106&\"G\",0)","v":{"$error":"#N/A"}},null,null,{"$error":"#N/A"},0,{"$f":"IF(AND(AU106=22,$AS$4>=31,$AS$4<=34),AU106&\"G\",0)","v":{"$error":"#N/A"}},null,null,null,null,null,null,null,null,null,null,null,null,null,null,null,null,null,null,null,null,null,null,null,null,null,null,null,null,null,null,null,null,null,null,null,null,null,null,null,null,null,null,null,null,null,null,null,null,null,null,null,null,null,null,null,null,null,null,null,null,null,{"$error":"#N/A"},{"$error":"#N/A"},{"$f":"IF(AND(DG106=36,$DE$4>=17,$DE$4<=22),DG106&\"B\",0)","v":{"$error":"#N/A"}},null,null,{"$error":"#N/A"},{"$error":"#N/A"},{"$f":"IF(AND(DL106=36,$DJ$4>=17,$DJ$4<=22),DL106&\"B\",0)","v":{"$error":"#N/A"}}]
[null,37,766,3,null,37,478,3,null,null,null,null,null,null,null,"03A0",null,1.875,1.25,{"$f":"Frame_Width-3.125","v":-3.125},null,{"$f":"INT((Frame_Height-(R107+0.5+ACHEIGHT+S107))*16+0.5)/16","v":-3.625},null,null,null,null,null,null,"Bottom Spacer",{"$f":"((CMR!$E$62*2)+(CMR!$E$64*2))/12","v":-1.2708333333333333},5.3600000000000002E-2,-6.8116666666666659E-2,null,"Top Hardware",0,0,0,null,null,null,{"$error":"#N/A"},0,{"$f":"IF(AND(AP107=22,$AN$4>=35,$AN$4<=37),AP107&\"H\",0)","v":{"$error":"#N/A"}},null,null,{"$error":"#N/A"},0,{"$f":"IF(AND(AU107=22,$AS$4>=35,$AS$4<=37),AU107&\"H\",0)","v":{"$error":"#N/A"}},null,null,null,null,null,null,null,null,null,null,null,null,null,null,null,null,null,null,null,null,null,null,null,null,null,null,null,null,null,null,null,null,null,null,null,null,null,null,null,null,null,null,null,null,null,null,null,null,null,null,null,null,null,null,null,null,null,null,null,null,null,{"$error":"#N/A"},{"$error":"#N/A"},{"$f":"IF(AND(DG107=36,$DE$4>=23,$DE$4<=27),DG107&\"C\",0)","v":{"$error":"#N/A"}},null,null,{"$error":"#N/A"},{"$error":"#N/A"},{"$f":"IF(AND(DL107=36,$DJ$4>=23,$DJ$4<=27),DL107&\"C\",0)","v":{"$error":"#N/A"}}]
[null,38,766,3,null,38,478,3,null,null,null,null,null,null,null,"3001",2.0625,1.875,null,{"$f":"Frame_Width-4.125","v":-4.125},{"$f":"INT((Frame_Height-(Q108+R108+0.5+ACHEIGHT))*16+0.5)/16","v":-4.4375},null,null,null,null,null,null,null,"Bottom Hardware",1,0.36,0.36,null,"Top Bead",0,0,0,null,null,null,{"$error":"#N/A"},0,{"$f":"IF(AND(AP108=22,$AN$4>=38,$AN$4<=40),AP108&\"I\",0)","v":{"$error":"#N/A"}},null,null,{"$error":"#N/A"},0,{"$f":"IF(AND(AU108=22,$AS$4>=38,$AS$4<=40),AU108&\"I\",0)","v":{"$error":"#N/A"}},null,null,null,null,null,null,null,null,null,null,null,null,null,null,null,null,null,null,null,null,null,null,null,null,null,null,null,null,null,null,null,null,null,null,null,null,null,null,null,null,null,null,null,null,null,null,null,null,null,null,null,null,null,null,null,null,null,null,null,null,null,{"$error":"#N/A"},{"$error":"#N/A"},{"$f":"IF(AND(DG108=36,$DE$4>=28,$DE$4<=32),DG108&\"D\",0)","v":{"$error":"#N/A"}},null,null,{"$error":"#N/A"},{"$error":"#N/A"},{"$f":"IF(AND(DL108=36,$DJ$4>=28,$DJ$4<=32),DL108&\"D\",0)","v":{"$error":"#N/A"}}]
[null,39,866,3,null,39,488,3,null,null,null,null,null,null,null,"1700",null,2,0.4375,{"$f":"TRUNC((Frame_Width-2.188)*32+0.5)/32","v":-2.15625},null,null,null,null,null,null,null,null,"Bottom Bead",{"$f":"(((Frame_Width-4.344)*2)+((CMR!$E$59-3.656)*2))/12","v":-1.3333333333333333},0.06,-7.9999999999999988E-2,null,"Bottom Top Rail",{"$f":"(TRUNC((Frame_Width-2.14315)*32+0.5)/32)/12","v":-0.17708333333333334},0.33100000000000002,{"$f":"AI109*AJ109","v":-5.8614583333333338E-2},null,null,null,{"$error":"#N/A"},0,{"$f":"IF(AND(AP109=22,$AN$4>=41,$AN$4<=42),\"Dbl.\"&AP109&\"C\",0)","v":{"$error":"#N/A"}},null,null,{"$error":"#N/A"},0,{"$f":"IF(AND(AU109=22,$AS$4>=41,$AS$4<=42),\"Dbl.\"&AU109&\"C\",0)","v":{"$error":"#N/A"}},null,null,null,null,null,null,null,null,null,null,null,null,null,null,null,null,null,null,null,null,null,null,null,null,null,null,null,null,null,null,null,null,null,null,null,null,null,null,null,null,null,null,null,null,null,null,null,null,null,null,null,null,null,null,null,null,null,null,null,null,null,{"$error":"#N/A"},{"$error":"#N/A"},{"$f":"IF(AND(DG109=36,$DE$4>=33,$DE$4<=34),DG109&\"E\",0)","v":{"$error":"#N/A"}},null,null,{"$error":"#N/A"},{"$error":"#N/A"},{"$f":"IF(AND(DL109=36,$DJ$4>=33,$DJ$4<=34),DL109&\"E\",0)","v":{"$error":"#N/A"}}]
[null,40,866,3,null,40,488,3,null,null,null,null,null,null,null,"1720",null,2,0.4375,{"$f":"TRUNC((Frame_Width/2-2.4375)*32+0.5)/32","v":-2.40625},null,null,null,null,null,null,null,null,null,null,"Top Sash",{"$f":"IF(ModelNo=\"0401\",(SUM(AF92:AF100))+5,0)","v":0},null,"Bottom Bottom Rail",{"$f":"(TRUNC((Frame_Width-2.14315)*32+0.5)/32)/12","v":-0.17708333333333334},0.316,{"$f":"AI110*AJ110","v":-5.5958333333333339E-2},null,null,null,{"$error":"#N/A"},0,{"$f":"IF(AND(AP110=22,$AN$4>=43,$AN$4<=48),\"Dbl.\"&AP110&\"D\",0)","v":{"$error":"#N/A"}},null,null,{"$error":"#N/A"},0,{"$f":"IF(AND(AU110=22,$AS$4>=43,$AS$4<=48),\"Dbl.\"&AU110&\"D\",0)","v":{"$error":"#N/A"}},null,null,null,null,null,null,null,null,null,null,null,null,null,null,null,null,null,null,null,null,null,null,null,null,null,null,null,null,null,null,null,null,null,null,null,null,null,null,null,null,null,null,null,null,null,null,null,null,null,null,null,null,null,null,null,null,null,null,null,null,null,{"$error":"#N/A"},{"$error":"#N/A"},{"$f":"IF(AND(DG110=36,$DE$4>=35,$DE$4<=37),DG110&\"F\",0)","v":{"$error":"#N/A"}},null,null,{"$error":"#N/A"},{"$error":"#N/A"},{"$f":"IF(AND(DL110=36,$DJ$4>=35,$DJ$4<=37),DL110&\"F\",0)","v":{"$error":"#N/A"}}]
[null,41,777,3,null,41,588,3,null,null,null,null,null,null,null,"1730",null,2,0.4375,{"$f":"TRUNC((Frame_Width/3-2.53125)*32+0.5)/32","v":-2.5},null,null,null,null,null,null,null,null,null,null,"Bottom Sash",{"$f":"IF(ModelNo=\"0401\",SUM(AF101:AF109),0)","v":0},null,"Bottom Stile",{"$f":"((CMR!$E$91-2.09375)*2)/12","v":-0.34895833333333331},0.27,{"$f":"AI111*AJ111","v":-9.4218750000000004E-2},null,null,null,{"$error":"#N/A"},0,{"$f":"IF(AND(AP111=22,$AN$4>=49,$AN$4<=54),\"Dbl.\"&AP111&\"E\",0)","v":{"$error":"#N/A"}},null,null,{"$error":"#N/A"},0,{"$f":"IF(AND(AU111=22,$AS$4>=49,$AS$4<=54),\"Dbl.\"&AU111&\"E\",0)","v":{"$error":"#N/A"}},null,null,null,null,null,null,null,null,null,null,null,null,null,null,null,null,null,null,null,null,null,null,null,null,null,null,null,null,null,null,null,null,null,null,null,null,null,null,null,null,null,null,null,null,null,null,null,null,null,null,null,null,null,null,null,null,null,null,null,null,null,{"$error":"#N/A"},{"$error":"#N/A"},{"$f":"IF(AND(DG111=36,$DE$4>=38,$DE$4<=40),DG111&\"G\",0)","v":{"$error":"#N/A"}},null,null,{"$error":"#N/A"},{"$error":"#N/A"},{"$f":"IF(AND(DL111=36,$DJ$4>=38,$DJ$4<=40),DL111&\"G\",0)","v":{"$error":"#N/A"}}]
[null,42,777,3,null,42,588,3,null,null,null,null,null,null,null,"1900",null,2,1,{"$f":"TRUNC((Frame_Width-2.1875)*32+0.5)/32","v":-2.15625},null,null,null,null,null,null,null,null,null,null,null,null,null,"Lock Rail Reinf.",{"$f":"((TRUNC((Frame_Width-2.14315)*32+0.5)/32)-0.25)/12","v":-0.19791666666666666},0.39200000000000002,{"$f":"AI112*AJ112","v":-7.7583333333333337E-2},null,null,null,{"$error":"#N/A"},0,{"$f":"IF(AND(AP112=22,$AN$4>=55,$AN$4<=60),\"Dbl.\"&AP112&\"F\",0)","v":{"$error":"#N/A"}},null,null,{"$error":"#N/A"},0,{"$f":"IF(AND(AU112=22,$AS$4>=55,$AS$4<=60),\"Dbl.\"&AU112&\"F\",0)","v":{"$error":"#N/A"}},null,null,null,null,null,null,null,null,null,null,null,null,null,null,null,null,null,null,null,null,null,null,null,null,null,null,null,null,null,null,null,null,null,null,null,null,null,null,null,null,null,null,null,null,null,null,null,null,null,null,null,null,null,null,null,null,null,null,null,null,null,{"$error":"#N/A"},{"$error":"#N/A"},{"$f":"IF(AND(DG112=36,$DE$4>=41,$DE$4<=43),DG112&\"H\",0)","v":{"$error":"#N/A"}},null,null,{"$error":"#N/A"},{"$error":"#N/A"},{"$f":"IF(AND(DL112=36,$DJ$4>=41,$DJ$4<=43),DL112&\"H\",0)","v":{"$error":"#N/A"}}]
[null,43,877,3,null,43,688,3,null,null,null,null,null,null,null,"1920",null,2,1,{"$f":"TRUNC((Frame_Width/2-2.4375)*32+0.5)/32","v":-2.40625},null,null,null,null,null,null,null,null,"0501","Length","Weight/ft","Weight",null,"Lock Rail Reinf.",{"$f":"((((Frame_Width-3.625)-0.5)/2)*2)/12","v":-0.34375},0.22900000000000001,{"$f":"AI113*AJ113","v":-7.8718750000000004E-2},null,null,null,{"$error":"#N/A"},0,{"$f":"IF(AND(AP113=22,$AN$4>=61,$AN$4<=68),\"Dbl.\"&AP113&\"G\",0)","v":{"$error":"#N/A"}},null,null,{"$error":"#N/A"},0,{"$f":"IF(AND(AU113=22,$AS$4>=61,$AS$4<=68),\"Dbl.\"&AU113&\"G\",0)","v":{"$error":"#N/A"}},null,null,null,null,null,null,null,null,null,null,null,null,null,null,null,null,null,null,null,null,null,null,null,null,null,null,null,null,null,null,null,null,null,null,null,null,null,null,null,null,null,null,null,null,null,null,null,null,null,null,null,null,null,null,null,null,null,null,null,null,null,{"$error":"#N/A"},{"$error":"#N/A"},{"$f":"IF(AND(DG113=36,$DE$4>=44,$DE$4<=45),DG113&\"I\",0)","v":{"$error":"#N/A"}},null,null,{"$error":"#N/A"},{"$error":"#N/A"},{"$f":"IF(AND(DL113=36,$DJ$4>=44,$DJ$4<=45),DL113&\"I\",0)","v":{"$error":"#N/A"}}]
[null,44,877,3,null,44,688,3,null,null,null,null,null,null,null,"1930",null,2,1,{"$f":"TRUNC((Frame_Width/3-2.53125)*32+0.5)/32","v":-2.5},null,null,null,null,null,null,null,null,"Top Top Rail",{"$f":"(Frame_Width-4.25)/12","v":-0.35416666666666669},0.36899999999999999,{"$f":"AD114*AE114","v":-0.13068750000000001},null,"Handle Rail Reinf.",{"$f":"((((Frame_Width-3.625)-0.5)/2)*2)/12","v":-0.34375},0.53600000000000003,-0.18425000000000002,null,null,null,{"$error":"#N/A"},0,{"$f":"IF(AND(AP114=22,$AN$4>=69,$AN$4<=74),\"Dbl.\"&AP114&\"H\",0)","v":{"$error":"#N/A"}},null,null,{"$error":"#N/A"},0,{"$f":"IF(AND(AU114=22,$AS$4>=69,$AS$4<=74),\"Dbl.\"&AU114&\"H\",0)","v":{"$error":"#N/A"}},null,null,null,null,null,null,null,null,null,null,null,null,null,null,null,null,null,null,null,null,null,null,null,null,null,null,null,null,null,null,null,null,null,null,null,null,null,null,null,null,null,null,null,null,null,null,null,null,null,null,null,null,null,null,null,null,null,null,null,null,null,{"$error":"#N/A"},{"$f":"IF(AND($DF$4<=38,$DF$4>36),38,0)","v":{"$error":"#N/A"}},{"$f":"IF(AND(DG114=38,$DE$4>=11,$DE$4<=16),DG114&\"A\",0)","v":{"$error":"#N/A"}},null,null,{"$error":"#N/A"},{"$f":"IF(AND($DK$4<=38,$DK$4>36),38,0)","v":{"$error":"#N/A"}},{"$f":"IF(AND(DL114=38,$DJ$4>=11,$DJ$4<=16),DL114&\"A\",0)","v":{"$error":"#N/A"}}]
[null,45,878,3,null,45,788,3,null,null,null,null,null,null,null,"1901",1.875,2,null,{"$f":"Frame_Width-2.1875","v":-2.1875},{"$f":"INT((Frame_Height-(Q115+R115+0.5+ACHEIGHT))*16+0.5)/16","v":-4.375},null,null,null,null,null,null,null,"Top Bottom Rail",{"$f":"(Frame_Width-4.25)/12","v":-0.35416666666666669},0.36899999999999999,-0.13068750000000001,null,"Bottom Stile Reinf.",{"$f":"(CMR!$E$91-2.09375)/12","v":-0.17447916666666666},0.53600000000000003,-9.3520833333333331E-2,null,null,null,{"$error":"#N/A"},0,{"$f":"IF(AND(AP115=22,$AN$4>=75,$AN$4<=80),\"Dbl.\"&AP115&\"I\",0)","v":{"$error":"#N/A"}},null,null,{"$error":"#N/A"},0,{"$f":"IF(AND(AU115=22,$AS$4>=75,$AS$4<=80),\"Dbl.\"&AU115&\"I\",0)","v":{"$error":"#N/A"}},null,null,null,null,null,null,null,null,null,null,null,null,null,null,null,null,null,null,null,null,null,null,null,null,null,null,null,null,null,null,null,null,null,null,null,null,null,null,null,null,null,null,null,null,null,null,null,null,null,null,null,null,null,null,null,null,null,null,null,null,null,{"$error":"#N/A"},{"$error":"#N/A"},{"$f":"IF(AND(DG115=38,$DE$4>=17,$DE$4<=22),DG115&\"B\",0)","v":{"$error":"#N/A"}},null,null,{"$error":"#N/A"},{"$error":"#N/A"},{"$f":"IF(AND(DL115=38,$DJ$4>=17,$DJ$4<=22),DL115&\"B\",0)","v":{"$error":"#N/A"}}]
[null,46,878,3,null,46,788,3,null,null,null,null,null,null,null,"1921",1.875,2,null,{"$f":"Frame_Width/2-2.4375","v":-2.4375},{"$f":"INT((Frame_Height-(Q116+R116+0.5+ACHEIGHT))*16+0.5)/16","v":-4.375},null,null,null,null,null,null,null,"Top Stile",{"$f":"(2*(CMR!$L$42-2.25))/12","v":-0.375},0.36899999999999999,-0.138375,null,"Bottom Glass",{"$f":"(CMR!$E$94*CMR!$E$96)/144","v":9.7927517361111105E-2},{"$f":"$L$12","v":""},{"$error":"#VALUE!"},null,null,null,{"$error":"#N/A"},{"$f":"IF(AND($AO$4<=24,$AO$4>22),24,0)","v":0},{"$f":"IF(AND(AP116=24,$AN$4>=6,$AN$4<=10),AP116&\"A\",0)","v":{"$error":"#N/A"}},null,null,{"$error":"#N/A"},{"$f":"IF(AND($AT$4<=24,$AT$4>22),24,0)","v":0},{"$f":"IF(AND(AU116=24,$AS$4>=6,$AS$4<=10),AU116&\"A\",0)","v":{"$error":"#N/A"}},null,null,null,null,null,null,null,null,null,null,null,null,null,null,null,null,null,null,null,null,null,null,null,null,null,null,null,null,null,null,null,null,null,null,null,null,null,null,null,null,null,null,null,null,null,null,null,null,null,null,null,null,null,null,null,null,null,null,null,null,null,{"$error":"#N/A"},{"$error":"#N/A"},{"$f":"IF(AND(DG116=38,$DE$4>=23,$DE$4<=27),DG116&\"C\",0)","v":{"$error":"#N/A"}},null,null,{"$error":"#N/A"},{"$error":"#N/A"},{"$f":"IF(AND(DL116=38,$DJ$4>=23,$DJ$4<=27),DL116&\"C\",0)","v":{"$error":"#N/A"}}]
[null,47,888,3,null,47,888,3,null,null,null,null,null,null,null,"1931",1.875,2,null,{"$f":"Frame_Width/3-2.5","v":-2.5},{"$f":"INT((Frame_Height-(Q117+R117+0.5+ACHEIGHT))*16+0.5)/16","v":-4.375},null,null,null,null,null,null,null,"Top Rail Reinf.",{"$f":"(TRUNC(((Frame_Width-4.25)-6)/2)*2)/12","v":-0.83333333333333337},0.26400000000000001,-0.22000000000000003,null,"Bottom Spacer",{"$f":"((CMR!$E$94*2)+(CMR!$E$96*2))/12","v":-1.2864583333333333},5.3600000000000002E-2,-6.8954166666666664E-2,null,null,null,{"$error":"#N/A"},0,{"$f":"IF(AND(AP117=24,$AN$4>=11,$AN$4<=17),AP117&\"B\",0)","v":{"$error":"#N/A"}},null,null,{"$error":"#N/A"},0,{"$f":"IF(AND(AU117=24,$AS$4>=11,$AS$4<=17),AU117&\"B\",0)","v":{"$error":"#N/A"}},null,null,null,null,null,null,null,null,null,null,null,null,null,null,null,null,null,null,null,null,null,null,null,null,null,null,null,null,null,null,null,null,null,null,null,null,null,null,null,null,null,null,null,null,null,null,null,null,null,null,null,null,null,null,null,null,null,null,null,null,null,{"$error":"#N/A"},{"$error":"#N/A"},{"$f":"IF(AND(DG117=38,$DE$4>=28,$DE$4<=32),DG117&\"D\",0)","v":{"$error":"#N/A"}},null,null,{"$error":"#N/A"},{"$error":"#N/A"},{"$f":"IF(AND(DL117=38,$DJ$4>=28,$DJ$4<=32),DL117&\"D\",0)","v":{"$error":"#N/A"}}]
[null,48,888,3,null,48,888,3,null,null,null,null,null,null,null,null,null,null,null,null,null,null,null,null,null,null,null,null,"Top Stile Reinf",{"$f":"IF(CMR!$L$47>26.1875,((TRUNC((CMR!$L$43-10)/2)*2)/12)*2,0)","v":0},0.26400000000000001,0,null,"Bottom Hardware",1,0.36,0.36,null,null,null,{"$error":"#N/A"},0,{"$f":"IF(AND(AP118=24,$AN$4>=18,$AN$4<=22),AP118&\"C\",0)","v":{"$error":"#N/A"}},null,null,{"$error":"#N/A"},0,{"$f":"IF(AND(AU118=24,$AS$4>=18,$AS$4<=22),AU118&\"C\",0)","v":{"$error":"#N/A"}},null,null,null,null,null,null,null,null,null,null,null,null,null,null,null,null,null,null,null,null,null,null,null,null,null,null,null,null,null,null,null,null,null,null,null,null,null,null,null,null,null,null,null,null,null,null,null,null,null,null,null,null,null,null,null,null,null,null,null,null,null,{"$error":"#N/A"},{"$error":"#N/A"},{"$f":"IF(AND(DG118=38,$DE$4>=33,$DE$4<=34),DG118&\"E\",0)","v":{"$error":"#N/A"}},null,null,{"$error":"#N/A"},{"$error":"#N/A"},{"$f":"IF(AND(DL118=38,$DJ$4>=33,$DJ$4<=34),DL118&\"E\",0)","v":{"$error":"#N/A"}}]
[null,49,889,3,null,49,889,3,null,null,null,null,null,null,null,null,null,null,null,null,null,null,null,null,null,null,null,null,"Top Glass",{"$f":"(CMR!$L$45*CMR!$L$47)/144","v":0.17103407118055555},{"$f":"$L$12","v":""},{"$error":"#VALUE!"},null,"Bottom Bead",{"$f":"(((Frame_Width-4.45565)*2)+((CMR!$E$91-4.09375)*2))/12","v":-1.4249000000000001},4.5999999999999999E-2,-6.5545400000000004E-2,null,null,null,{"$error":"#N/A"},0,{"$f":"IF(AND(AP119=24,$AN$4>=23,$AN$4<=25),AP119&\"D\",0)","v":{"$error":"#N/A"}},null,null,{"$error":"#N/A"},0,{"$f":"IF(AND(AU119=24,$AS$4>=23,$AS$4<=25),AU119&\"D\",0)","v":{"$error":"#N/A"}},null,null,null,null,null,null,null,null,null,null,null,null,null,null,null,null,null,null,null,null,null,null,null,null,null,null,null,null,null,null,null,null,null,null,null,null,null,null,null,null,null,null,null,null,null,null,null,null,null,null,null,null,null,null,null,null,null,null,null,null,null,{"$error":"#N/A"},{"$error":"#N/A"},{"$f":"IF(AND(DG119=38,$DE$4>=35,$DE$4<=37),DG119&\"F\",0)","v":{"$error":"#N/A"}},null,null,{"$error":"#N/A"},{"$error":"#N/A"},{"$f":"IF(AND(DL119=38,$DJ$4>=35,$DJ$4<=37),DL119&\"F\",0)","v":{"$error":"#N/A"}}]
[null,50,889,3,null,50,889,3,null,null,null,null,null,null,null,null,null,null,null,null,null,null,null,null,null,null,null,null,"Top Spacer",{"$f":"((CMR!$L$45*2)+(CMR!$L$47*2))/12","v":-1.6875},5.3600000000000002E-2,-9.0450000000000003E-2,null,null,null,"Top Sash",0,null,null,null,{"$error":"#N/A"},0,{"$f":"IF(AND(AP120=24,$AN$4>=26,$AN$4<=28),AP120&\"E\",0)","v":{"$error":"#N/A"}},null,null,{"$error":"#N/A"},0,{"$f":"IF(AND(AU120=24,$AS$4>=26,$AS$4<=28),AU120&\"E\",0)","v":{"$error":"#N/A"}},null,null,null,null,null,null,null,null,null,null,null,null,null,null,null,null,null,null,null,null,null,null,null,null,null,null,null,null,null,null,null,null,null,null,null,null,null,null,null,null,null,null,null,null,null,null,null,null,null,null,null,null,null,null,null,null,null,null,null,null,null,{"$error":"#N/A"},{"$error":"#N/A"},{"$f":"IF(AND(DG120=38,$DE$4>=38,$DE$4<=40),DG120&\"G\",0)","v":{"$error":"#N/A"}},null,null,{"$error":"#N/A"},{"$error":"#N/A"},{"$f":"IF(AND(DL120=38,$DJ$4>=38,$DJ$4<=40),DL120&\"G\",0)","v":{"$error":"#N/A"}}]
[null,51,899,3,null,51,"899",3,null,null,null,null,null,null,null,null,null,null,null,null,null,null,null,null,null,null,null,null,"Top Hardware",1,0.2,0.2,null,null,null,"Bottom Sash",{"$f":"IF(ModelNo=\"3100\",SUM(AK109:AK119),0)","v":0},null,null,null,{"$error":"#N/A"},0,{"$f":"IF(AND(AP121=24,$AN$4>=29,$AN$4<=30),AP121&\"F\",0)","v":{"$error":"#N/A"}},null,null,{"$error":"#N/A"},0,{"$f":"IF(AND(AU121=24,$AS$4>=29,$AS$4<=30),AU121&\"F\",0)","v":{"$error":"#N/A"}},null,null,null,null,null,null,null,null,null,null,null,null,null,null,null,null,null,null,null,null,null,null,null,null,null,null,null,null,null,null,null,null,null,null,null,null,null,null,null,null,null,null,null,null,null,null,null,null,null,null,null,null,null,null,null,null,null,null,null,null,null,{"$error":"#N/A"},{"$error":"#N/A"},{"$f":"IF(AND(DG121=38,$DE$4>=41,$DE$4<=43),DG121&\"H\",0)","v":{"$error":"#N/A"}},null,null,{"$error":"#N/A"},{"$error":"#N/A"},{"$f":"IF(AND(DL121=38,$DJ$4>=41,$DJ$4<=43),DL121&\"H\",0)","v":{"$error":"#N/A"}}]
[null,52,899,3,null,52,"899",3,null,null,null,null,null,null,null,null,null,null,null,null,null,null,null,null,null,null,null,null,"Top Handle Bead",{"$f":"(Frame_Width-5.912)/12","v":-0.49266666666666664},0.104,-5.1237333333333329E-2,null,null,null,null,null,null,null,null,{"$error":"#N/A"},0,{"$f":"IF(AND(AP122=24,$AN$4>=31,$AN$4<=34),AP122&\"G\",0)","v":{"$error":"#N/A"}},null,null,{"$error":"#N/A"},0,{"$f":"IF(AND(AU122=24,$AS$4>=31,$AS$4<=34),AU122&\"G\",0)","v":{"$error":"#N/A"}},null,null,null,null,null,null,null,null,null,null,null,null,null,null,null,null,null,null,null,null,null,null,null,null,null,null,null,null,null,null,null,null,null,null,null,null,null,null,null,null,null,null,null,null,null,null,null,null,null,null,null,null,null,null,null,null,null,null,null,null,null,{"$error":"#N/A"},{"$error":"#N/A"},{"$f":"IF(AND(DG122=38,$DE$4>=44,$DE$4<=45),DG122&\"I\",0)","v":{"$error":"#N/A"}},null,null,{"$error":"#N/A"},{"$error":"#N/A"},{"$f":"IF(AND(DL122=38,$DJ$4>=44,$DJ$4<=45),DL122&\"I\",0)","v":{"$error":"#N/A"}}]
[null,53,999,3,null,53,"999",3,null,null,null,null,null,null,null,null,null,null,null,null,null,null,null,null,null,null,null,null,"Top Bead",{"$f":"((Frame_Width-4.25)+((CMR!$L$42-5.0625)*2))/12","v":-1.1979166666666667},7.3999999999999996E-2,{"$f":"AD123*AE123","v":-8.864583333333334E-2},null,"i201","Length","Weight/ft","Weight",null,null,null,{"$error":"#N/A"},0,{"$f":"IF(AND(AP123=24,$AN$4>=35,$AN$4<=37),AP123&\"H\",0)","v":{"$error":"#N/A"}},null,null,{"$error":"#N/A"},0,{"$f":"IF(AND(AU123=24,$AS$4>=35,$AS$4<=37),AU123&\"H\",0)","v":{"$error":"#N/A"}},null,null,null,null,null,null,null,null,null,null,null,null,null,null,null,null,null,null,null,null,null,null,null,null,null,null,null,null,null,null,null,null,null,null,null,null,null,null,null,null,null,null,null,null,null,null,null,null,null,null,null,null,null,null,null,null,null,null,null,null,null,{"$error":"#N/A"},{"$f":"IF(AND($DF$4<=40,$DF$4>38),40,0)","v":{"$error":"#N/A"}},{"$f":"IF(AND(DG123=40,$DE$4>=11,$DE$4<=16),DG123&\"A\",0)","v":{"$error":"#N/A"}},null,null,{"$error":"#N/A"},{"$f":"IF(AND($DK$4<=40,$DK$4>38),40,0)","v":{"$error":"#N/A"}},{"$f":"IF(AND(DL123=40,$DJ$4>=11,$DJ$4<=16),DL123&\"A\",0)","v":{"$error":"#N/A"}}]
[null,54,999,3,null,54,"999",3,null,null,null,null,null,null,null,null,null,null,null,null,null,null,null,null,null,null,null,null,"Bottom Top Rail",{"$f":"(Frame_Width-3.25)/12","v":-0.27083333333333331},0.437,-0.11835416666666666,null,"Top Top Rail",{"$f":"(Frame_Width-3.25)/12","v":-0.27083333333333331},0.25700000000000001,{"$f":"AI124*AJ124","v":-6.9604166666666661E-2},null,null,null,{"$error":"#N/A"},0,{"$f":"IF(AND(AP124=24,$AN$4>=38,$AN$4<=40),AP124&\"I\",0)","v":{"$error":"#N/A"}},null,null,{"$error":"#N/A"},0,{"$f":"IF(AND(AU124=24,$AS$4>=38,$AS$4<=40),AU124&\"I\",0)","v":{"$error":"#N/A"}},null,null,null,null,null,null,null,null,null,null,null,null,null,null,null,null,null,null,null,null,null,null,null,null,null,null,null,null,null,null,null,null,null,null,null,null,null,null,null,null,null,null,null,null,null,null,null,null,null,null,null,null,null,null,null,null,null,null,null,null,null,{"$error":"#N/A"},{"$error":"#N/A"},{"$f":"IF(AND(DG124=40,$DE$4>=17,$DE$4<=22),DG124&\"B\",0)","v":{"$error":"#N/A"}},null,null,{"$error":"#N/A"},{"$error":"#N/A"},{"$f":"IF(AND(DL124=40,$DJ$4>=17,$DJ$4<=22),DL124&\"B\",0)","v":{"$error":"#N/A"}}]
[null,55,6679,4,null,55,"4888",4,null,null,null,null,null,null,null,null,null,null,null,null,null,null,null,null,null,null,null,null,"Bottom Bottom Rail",{"$f":"(Frame_Width-3.25)/12","v":-0.27083333333333331},0.437,-0.11835416666666666,null,"Top Bottom Rail",{"$f":"(Frame_Width-3.25)/12","v":-0.27083333333333331},0.27300000000000002,-7.3937500000000003E-2,null,null,null,{"$f":"IF(AND(AP125>0,AQ125>0),AP125,0)","v":{"$error":"#N/A"}},0,{"$f":"IF(AND(AP125=24,$AN$4>=41,$AN$4<=44),\"Dbl.\"&AP125&\"C\",0)","v":{"$error":"#N/A"}},null,null,{"$error":"#N/A"},0,{"$f":"IF(AND(AU125=24,$AS$4>=41,$AS$4<=44),\"Dbl.\"&AU125&\"C\",0)","v":{"$error":"#N/A"}},null,null,null,null,null,null,null,null,null,null,null,null,null,null,null,null,null,null,null,null,null,null,null,null,null,null,null,null,null,null,null,null,null,null,null,null,null,null,null,null,null,null,null,null,null,null,null,null,null,null,null,null,null,null,null,null,null,null,null,null,null,{"$error":"#N/A"},{"$error":"#N/A"},{"$f":"IF(AND(DG125=40,$DE$4>=23,$DE$4<=27),DG125&\"C\",0)","v":{"$error":"#N/A"}},null,null,{"$error":"#N/A"},{"$error":"#N/A"},{"$f":"IF(AND(DL125=40,$DJ$4>=23,$DJ$4<=27),DL125&\"C\",0)","v":{"$error":"#N/A"}}]
[null,56,6679,4,null,56,"4888",4,null,null,null,null,null,null,null,null,null,null,null,null,null,null,null,null,null,null,null,null,"Bottom Stile",{"$f":"(2*(CMR!$L$43-1.25))/12","v":-0.20833333333333334},0.437,-9.1041666666666674E-2,null,"Top Stile",{"$f":"(2*(CMR!$E$26-1.5625))/12","v":-0.26041666666666669},0.23300000000000001,-6.067708333333334E-2,null,null,null,{"$error":"#N/A"},0,{"$f":"IF(AND(AP126=24,$AN$4>=45,$AN$4<=50),\"Dbl.\"&AP126&\"D\",0)","v":{"$error":"#N/A"}},null,null,{"$error":"#N/A"},0,{"$f":"IF(AND(AU126=24,$AS$4>=45,$AS$4<=50),\"Dbl.\"&AU126&\"D\",0)","v":{"$error":"#N/A"}},null,null,null,null,null,null,null,null,null,null,null,null,null,null,null,null,null,null,null,null,null,null,null,null,null,null,null,null,null,null,null,null,null,null,null,null,null,null,null,null,null,null,null,null,null,null,null,null,null,null,null,null,null,null,null,null,null,null,null,null,null,{"$error":"#N/A"},{"$error":"#N/A"},{"$f":"IF(AND(DG126=40,$DE$4>=28,$DE$4<=32),DG126&\"D\",0)","v":{"$error":"#N/A"}},null,null,{"$error":"#N/A"},{"$error":"#N/A"},{"$f":"IF(AND(DL126=40,$DJ$4>=28,$DJ$4<=32),DL126&\"D\",0)","v":{"$error":"#N/A"}}]
[null,57,6779,4,null,57,"5888",4,null,null,null,null,null,null,null,null,null,null,null,null,null,null,null,null,null,null,null,null,"Bottom Rail Reinf.",{"$f":"(TRUNC(((Frame_Width-3.25)-6)/2)*2)/12","v":-0.66666666666666663},0.43440000000000001,-0.28959999999999997,null,"Keeper Rail Reinf.",{"$f":"(TRUNC(Frame_Width-3.25)-6)/12","v":-0.75},0.43099999999999999,-0.32324999999999998,null,null,null,{"$error":"#N/A"},0,{"$f":"IF(AND(AP127=24,$AN$4>=51,$AN$4<=56),\"Dbl.\"&AP127&\"E\",0)","v":{"$error":"#N/A"}},null,null,{"$error":"#N/A"},0,{"$f":"IF(AND(AU127=24,$AS$4>=51,$AS$4<=56),\"Dbl.\"&AU127&\"E\",0)","v":{"$error":"#N/A"}},null,null,null,null,null,null,null,null,null,null,null,null,null,null,null,null,null,null,null,null,null,null,null,null,null,null,null,null,null,null,null,null,null,null,null,null,null,null,null,null,null,null,null,null,null,null,null,null,null,null,null,null,null,null,null,null,null,null,null,null,null,{"$error":"#N/A"},{"$error":"#N/A"},{"$f":"IF(AND(DG127=40,$DE$4>=33,$DE$4<=34),DG127&\"E\",0)","v":{"$error":"#N/A"}},null,null,{"$error":"#N/A"},{"$error":"#N/A"},{"$f":"IF(AND(DL127=40,$DJ$4>=33,$DJ$4<=34),DL127&\"E\",0)","v":{"$error":"#N/A"}}]
[null,58,6779,4,null,58,"5888",4,null,null,null,null,null,null,null,null,null,null,null,null,null,null,null,null,null,null,null,null,"Bottom Stile Reinf.",{"$f":"IF(CMR!$L$48>26.1875,((TRUNC((CMR!$L$43-4)/2)*2)/12)*2,0)","v":0},0.43440000000000001,0,null,"Top Stile Reinf",{"$f":"(2*(CMR!$E$26-3.5625))/12","v":-0.59375},0.43099999999999999,-0.25590625,null,null,null,{"$error":"#N/A"},0,{"$f":"IF(AND(AP128=24,$AN$4>=57,$AN$4<=60),\"Dbl.\"&AP128&\"F\",0)","v":{"$error":"#N/A"}},null,null,{"$error":"#N/A"},0,{"$f":"IF(AND(AU128=24,$AS$4>=57,$AS$4<=60),\"Dbl.\"&AU128&\"F\",0)","v":{"$error":"#N/A"}},null,null,null,null,null,null,null,null,null,null,null,null,null,null,null,null,null,null,null,null,null,null,null,null,null,null,null,null,null,null,null,null,null,null,null,null,null,null,null,null,null,null,null,null,null,null,null,null,null,null,null,null,null,null,null,null,null,null,null,null,null,{"$error":"#N/A"},{"$error":"#N/A"},{"$f":"IF(AND(DG128=40,$DE$4>=35,$DE$4<=37),DG128&\"F\",0)","v":{"$error":"#N/A"}},null,null,{"$error":"#N/A"},{"$error":"#N/A"},{"$f":"IF(AND(DL128=40,$DJ$4>=35,$DJ$4<=37),DL128&\"F\",0)","v":{"$error":"#N/A"}}]
[null,59,7779,4,null,59,"6888",4,null,null,null,null,null,null,null,null,null,null,null,null,null,null,null,null,null,null,null,null,"Bottom Glass",{"$f":"(CMR!$L$46*CMR!$L$48)/144","v":0.17103407118055555},{"$f":"$L$12","v":""},{"$error":"#VALUE!"},null,"Top Glass",{"$f":"(CMR!$E$29*CMR!$E$31)/144","v":0.10685221354166667},{"$f":"$L$12","v":""},{"$error":"#VALUE!"},null,null,null,{"$error":"#N/A"},0,{"$f":"IF(AND(AP129=24,$AN$4>=61,$AN$4<=68),\"Dbl.\"&AP129&\"G\",0)","v":{"$error":"#N/A"}},null,null,{"$error":"#N/A"},0,{"$f":"IF(AND(AU129=24,$AS$4>=61,$AS$4<=68),\"Dbl.\"&AU129&\"G\",0)","v":{"$error":"#N/A"}},null,null,null,null,null,null,null,null,null,null,null,null,null,null,null,null,null,null,null,null,null,null,null,null,null,null,null,null,null,null,null,null,null,null,null,null,null,null,null,null,null,null,null,null,null,null,null,null,null,null,null,null,null,null,null,null,null,null,null,null,null,{"$error":"#N/A"},{"$error":"#N/A"},{"$f":"IF(AND(DG129=40,$DE$4>=38,$DE$4<=40),DG129&\"G\",0)","v":{"$error":"#N/A"}},null,null,{"$error":"#N/A"},{"$error":"#N/A"},{"$f":"IF(AND(DL129=40,$DJ$4>=38,$DJ$4<=40),DL129&\"G\",0)","v":{"$error":"#N/A"}}]
[null,60,7779,4,null,60,"6888",4,null,null,null,null,null,null,null,null,null,null,null,null,null,null,null,null,null,null,null,null,"Bottom Spacer",{"$f":"((CMR!$L$46*2)+(CMR!$L$48*2))/12","v":-1.6875},5.3600000000000002E-2,-9.0450000000000003E-2,null,"Top Spacer",{"$f":"((CMR!$E$29*2)+(CMR!$E$31*2))/12","v":-1.3385416666666667},5.3600000000000002E-2,-7.1745833333333342E-2,null,null,null,{"$error":"#N/A"},0,{"$f":"IF(AND(AP130=24,$AN$4>=69,$AN$4<=74),\"Dbl.\"&AP130&\"H\",0)","v":{"$error":"#N/A"}},null,null,{"$error":"#N/A"},0,{"$f":"IF(AND(AU130=24,$AS$4>=69,$AS$4<=74),\"Dbl.\"&AU130&\"H\",0)","v":{"$error":"#N/A"}},null,null,null,null,null,null,null,null,null,null,null,null,null,null,null,null,null,null,null,null,null,null,null,null,null,null,null,null,null,null,null,null,null,null,null,null,null,null,null,null,null,null,null,null,null,null,null,null,null,null,null,null,null,null,null,null,null,null,null,null,null,{"$error":"#N/A"},{"$error":"#N/A"},{"$f":"IF(AND(DG130=40,$DE$4>=41,$DE$4<=42),DG130&\"H\",0)","v":{"$error":"#N/A"}},null,null,{"$error":"#N/A"},{"$error":"#N/A"},{"$f":"IF(AND(DL130=40,$DJ$4>=41,$DJ$4<=42),DL130&\"H\",0)","v":{"$error":"#N/A"}}]
[null,61,6799,4,null,61,"7888",4,null,null,null,null,null,null,null,null,null,null,null,null,null,null,null,null,null,null,null,null,"Bottom Hardware",1,0.36,0.36,null,"Top Hardware",1,{"$f":"IF(Frame_Width>36,0.258,0.2)","v":0.2},0.2,null,null,null,{"$error":"#N/A"},0,{"$f":"IF(AND(AP131=24,$AN$4>=75,$AN$4<=80),\"Dbl.\"&AP131&\"I\",0)","v":{"$error":"#N/A"}},null,null,{"$error":"#N/A"},0,{"$f":"IF(AND(AU131=24,$AS$4>=75,$AS$4<=80),\"Dbl.\"&AU131&\"I\",0)","v":{"$error":"#N/A"}},null,null,null,null,null,null,null,null,null,null,null,null,null,null,null,null,null,null,null,null,null,null,null,null,null,null,null,null,null,null,null,null,null,null,null,null,null,null,null,null,null,null,null,null,null,null,null,null,null,null,null,null,null,null,null,null,null,null,null,null,null,{"$error":"#N/A"},{"$error":"#N/A"},{"$f":"IF(AND(DG131=40,$DE$4>=43,$DE$4<=45),DG131&\"I\",0)","v":{"$error":"#N/A"}},null,null,{"$error":"#N/A"},{"$error":"#N/A"},{"$f":"IF(AND(DL131=40,$DJ$4>=43,$DJ$4<=45),DL131&\"I\",0)","v":{"$error":"#N/A"}}]
[null,62,6799,4,null,62,"7888",4,null,null,null,null,null,null,null,null,null,null,null,null,null,null,null,null,null,null,null,null,"Bottom Keeper Bead",{"$f":"(Frame_Width-5.912)/12","v":-0.49266666666666664},0.109,-5.370066666666666E-2,null,"Top Bead",{"$f":"(((Frame_Width-4.3125)*2)+((CMR!$E$26-2.625)*2))/12","v":-1.15625},2.8000000000000001E-2,-3.2375000000000001E-2,null,null,null,{"$f":"IF(AND(AP132>0,AQ132>0),AP132,0)","v":{"$error":"#N/A"}},{"$f":"IF(AND($AO$4<=26,$AO$4>24),26,0)","v":0},{"$f":"IF(AND(AP132=26,$AN$4>=6,$AN$4<=11),AP132&\"A\",0)","v":{"$error":"#N/A"}},null,null,{"$error":"#N/A"},{"$f":"IF(AND($AT$4<=26,$AT$4>24),26,0)","v":0},{"$f":"IF(AND(AU132=26,$AS$4>=6,$AS$4<=11),AU132&\"A\",0)","v":{"$error":"#N/A"}},null,null,null,null,null,null,null,null,null,null,null,null,null,null,null,null,null,null,null,null,null,null,null,null,null,null,null,null,null,null,null,null,null,null,null,null,null,null,null,null,null,null,null,null,null,null,null,null,null,null,null,null,null,null,null,null,null,null,null,null,null,{"$error":"#N/A"},{"$f":"IF(AND($DF$4<=42,$DF$4>40),42,0)","v":{"$error":"#N/A"}},{"$f":"IF(AND(DG132=42,$DE$4>=11,$DE$4<=16),DG132&\"A\",0)","v":{"$error":"#N/A"}},null,null,{"$error":"#N/A"},{"$f":"IF(AND($DK$4<=42,$DK$4>40),42,0)","v":{"$error":"#N/A"}},{"$f":"IF(AND(DL132=42,$DJ$4>=11,$DJ$4<=16),DL132&\"A\",0)","v":{"$error":"#N/A"}}]
[null,63,7799,4,null,63,"8888",4,null,null,null,null,null,null,null,null,null,null,null,null,null,null,null,null,null,null,null,null,"Bottom Bead",{"$f":"((Frame_Width-5.912)+((CMR!$L$43-5.0625)*2))/12","v":-1.3364166666666666},7.3999999999999996E-2,-9.8894833333333321E-2,null,"Bottom Top Rail",{"$f":"(Frame_Width-2.25)/12","v":-0.1875},0.246,-4.6124999999999999E-2,null,null,null,{"$error":"#N/A"},0,{"$f":"IF(AND(AP133=26,$AN$4>=12,$AN$4<=17),AP133&\"B\",0)","v":{"$error":"#N/A"}},null,null,{"$f":"IF(AND(AU133>0,AV133>0),AU133,0)","v":{"$error":"#N/A"}},0,{"$f":"IF(AND(AU133=26,$AS$4>=12,$AS$4<=17),AU133&\"B\",0)","v":{"$error":"#N/A"}},null,null,null,null,null,null,null,null,null,null,null,null,null,null,null,null,null,null,null,null,null,null,null,null,null,null,null,null,null,null,null,null,null,null,null,null,null,null,null,null,null,null,null,null,null,null,null,null,null,null,null,null,null,null,null,null,null,null,null,null,null,{"$f":"IF(AND(DG133>0,DH133>0),DG133,0)","v":{"$error":"#N/A"}},{"$error":"#N/A"},{"$f":"IF(AND(DG133=42,$DE$4>=17,$DE$4<=22),DG133&\"B\",0)","v":{"$error":"#N/A"}},null,null,{"$f":"IF(AND(DL133>0,DM133>0),DL133,0)","v":{"$error":"#N/A"}},{"$error":"#N/A"},{"$f":"IF(AND(DL133=42,$DJ$4>=17,$DJ$4<=22),DL133&\"B\",0)","v":{"$error":"#N/A"}}]
[null,64,7799,4,null,64,"8888",4,null,null,null,null,null,null,null,null,null,null,null,null,null,null,null,null,null,null,null,null,null,null,"Top Sash",{"$f":"IF(OR(ModelNo=\"0501\",ModelNo=\"B501\",ModelNo=\"U501\"),(SUM(AF114:AF123))+5,0)","v":0},null,"Bottom Bottom Rail",{"$f":"(Frame_Width-2.25)/12","v":-0.1875},0.25700000000000001,-4.8187500000000001E-2,null,null,null,{"$error":"#N/A"},0,{"$f":"IF(AND(AP134=26,$AN$4>=18,$AN$4<=22),AP134&\"C\",0)","v":{"$error":"#N/A"}},null,null,{"$error":"#N/A"},0,{"$f":"IF(AND(AU134=26,$AS$4>=18,$AS$4<=22),AU134&\"C\",0)","v":{"$error":"#N/A"}},null,null,null,null,null,null,null,null,null,null,null,null,null,null,null,null,null,null,null,null,null,null,null,null,null,null,null,null,null,null,null,null,null,null,null,null,null,null,null,null,null,null,null,null,null,null,null,null,null,null,null,null,null,null,null,null,null,null,null,null,null,{"$error":"#N/A"},{"$error":"#N/A"},{"$f":"IF(AND(DG134=42,$DE$4>=23,$DE$4<=27),DG134&\"C\",0)","v":{"$error":"#N/A"}},null,null,{"$error":"#N/A"},{"$error":"#N/A"},{"$f":"IF(AND(DL134=42,$DJ$4>=23,$DJ$4<=27),DL134&\"C\",0)","v":{"$error":"#N/A"}}]
[null,65,7899,4,null,65,"8889",4,null,null,null,null,null,null,null,null,null,null,null,null,null,null,null,null,null,null,null,null,null,null,"Bottom Sash",{"$f":"IF(OR(ModelNo=\"0501\",ModelNo=\"B501\",ModelNo=\"U501\"),SUM(AF124:AF133),0)","v":0},null,"Bottom Stile",{"$f":"(2*(CMR!$E$27-0.5625))/12","v":-9.375E-2},0.23300000000000001,-2.1843750000000002E-2,null,null,null,{"$error":"#N/A"},0,{"$f":"IF(AND(AP135=26,$AN$4>=23,$AN$4<=26),AP135&\"D\",0)","v":{"$error":"#N/A"}},null,null,{"$error":"#N/A"},0,{"$f":"IF(AND(AU135=26,$AS$4>=23,$AS$4<=26),AU135&\"D\",0)","v":{"$error":"#N/A"}},null,null,null,null,null,null,null,null,null,null,null,null,null,null,null,null,null,null,null,null,null,null,null,null,null,null,null,null,null,null,null,null,null,null,null,null,null,null,null,null,null,null,null,null,null,null,null,null,null,null,null,null,null,null,null,null,null,null,null,null,null,{"$error":"#N/A"},{"$error":"#N/A"},{"$f":"IF(AND(DG135=42,$DE$4>=28,$DE$4<=31),DG135&\"D\",0)","v":{"$error":"#N/A"}},null,null,{"$error":"#N/A"},{"$error":"#N/A"},{"$f":"IF(AND(DL135=42,$DJ$4>=28,$DJ$4<=31),DL135&\"D\",0)","v":{"$error":"#N/A"}}]
[null,66,7899,4,null,66,"8889",4,null,null,null,null,null,null,null,null,null,null,null,null,null,null,null,null,null,null,null,null,null,null,null,null,null,"Lock Rail Reinf.",{"$f":"(Frame_Width-3)/12","v":-0.25},0.56010000000000004,-0.14002500000000001,null,null,null,{"$error":"#N/A"},0,{"$f":"IF(AND(AP136=26,$AN$4>=27,$AN$4<=30),AP136&\"E\",0)","v":{"$error":"#N/A"}},null,null,{"$error":"#N/A"},0,{"$f":"IF(AND(AU136=26,$AS$4>=27,$AS$4<=30),AU136&\"E\",0)","v":{"$error":"#N/A"}},null,null,null,null,null,null,null,null,null,null,null,null,null,null,null,null,null,null,null,null,null,null,null,null,null,null,null,null,null,null,null,null,null,null,null,null,null,null,null,null,null,null,null,null,null,null,null,null,null,null,null,null,null,null,null,null,null,null,null,null,null,{"$error":"#N/A"},{"$error":"#N/A"},{"$f":"IF(AND(DG136=42,$DE$4>=32,$DE$4<=34),DG136&\"E\",0)","v":{"$error":"#N/A"}},null,null,{"$error":"#N/A"},{"$error":"#N/A"},{"$f":"IF(AND(DL136=42,$DJ$4>=32,$DJ$4<=34),DL136&\"E\",0)","v":{"$error":"#N/A"}}]
[null,67,8899,4,null,67,"8899",4,null,null,null,null,null,null,null,null,null,null,null,null,null,null,null,null,null,null,null,null,"V100","Length","Weight/ft","Weight",null,"Bottom Rail Reinf.",{"$f":"(Frame_Width-8.25)/12","v":-0.6875},0.43,{"$f":"AI137*AJ137","v":-0.29562499999999997},null,null,null,{"$error":"#N/A"},0,{"$f":"IF(AND(AP137=26,$AN$4>=31,$AN$4<=34),AP137&\"F\",0)","v":{"$error":"#N/A"}},null,null,{"$error":"#N/A"},0,{"$f":"IF(AND(AU137=26,$AS$4>=31,$AS$4<=34),AU137&\"F\",0)","v":{"$error":"#N/A"}},null,null,null,null,null,null,null,null,null,null,null,null,null,null,null,null,null,null,null,null,null,null,null,null,null,null,null,null,null,null,null,null,null,null,null,null,null,null,null,null,null,null,null,null,null,null,null,null,null,null,null,null,null,null,null,null,null,null,null,null,null,{"$error":"#N/A"},{"$error":"#N/A"},{"$f":"IF(AND(DG137=42,$DE$4>=35,$DE$4<=37),DG137&\"F\",0)","v":{"$error":"#N/A"}},null,null,{"$error":"#N/A"},{"$error":"#N/A"},{"$f":"IF(AND(DL137=42,$DJ$4>=35,$DJ$4<=37),DL137&\"F\",0)","v":{"$error":"#N/A"}}]
[null,68,8899,4,null,68,"8899",4,null,null,null,null,null,null,null,null,null,null,null,null,null,null,null,null,null,null,null,null,"Top Top Rail",0,0,{"$f":"AD138*AE138","v":0},null,"Bottom Stile Reinf.",{"$f":"2*((CMR!$E$27-2.5625)/12)","v":-0.42708333333333331},0.43,-0.18364583333333331,null,null,null,{"$error":"#N/A"},0,{"$f":"IF(AND(AP138=26,$AN$4>=35,$AN$4<=38),AP138&\"G\",0)","v":{"$error":"#N/A"}},null,null,{"$error":"#N/A"},0,{"$f":"IF(AND(AU138=26,$AS$4>=35,$AS$4<=38),AU138&\"G\",0)","v":{"$error":"#N/A"}},null,null,null,null,null,null,null,null,null,null,null,null,null,null,null,null,null,null,null,null,null,null,null,null,null,null,null,null,null,null,null,null,null,null,null,null,null,null,null,null,null,null,null,null,null,null,null,null,null,null,null,null,null,null,null,null,null,null,null,null,null,{"$error":"#N/A"},{"$error":"#N/A"},{"$f":"IF(AND(DG138=42,$DE$4>=38,$DE$4<=40),DG138&\"G\",0)","v":{"$error":"#N/A"}},null,null,{"$error":"#N/A"},{"$error":"#N/A"},{"$f":"IF(AND(DL138=42,$DJ$4>=38,$DJ$4<=40),DL138&\"G\",0)","v":{"$error":"#N/A"}}]
[null,69,8999,4,null,69,"8999",4,null,null,null,null,null,null,null,null,null,null,null,null,null,null,null,null,null,null,null,null,"Top Bottom Rail",0,0,0,null,"Bottom Glass",{"$f":"(CMR!$E$30*CMR!$E$32)/144","v":5.8024088541666664E-2},{"$f":"$L$12","v":""},{"$error":"#VALUE!"},null,null,null,{"$error":"#N/A"},0,{"$f":"IF(AND(AP139=26,$AN$4>=39,$AN$4<=42),AP139&\"H\",0)","v":{"$error":"#N/A"}},null,null,{"$error":"#N/A"},0,{"$f":"IF(AND(AU139=26,$AS$4>=39,$AS$4<=42),AU139&\"H\",0)","v":{"$error":"#N/A"}},null,null,null,null,null,null,null,null,null,null,null,null,null,null,null,null,null,null,null,null,null,null,null,null,null,null,null,null,null,null,null,null,null,null,null,null,null,null,null,null,null,null,null,null,null,null,null,null,null,null,null,null,null,null,null,null,null,null,null,null,null,{"$error":"#N/A"},{"$error":"#N/A"},{"$f":"IF(AND(DG139=42,$DE$4>=41,$DE$4<=43),DG139&\"H\",0)","v":{"$error":"#N/A"}},null,null,{"$error":"#N/A"},{"$error":"#N/A"},{"$f":"IF(AND(DL139=42,$DJ$4>=41,$DJ$4<=43),DL139&\"H\",0)","v":{"$error":"#N/A"}}]
[null,70,8999,4,null,70,"8999",4,null,null,null,null,null,null,null,null,null,null,null,null,null,null,null,null,null,null,null,null,"Top Stile",0,0,0,null,"Bottom Spacer",{"$f":"((CMR!$E$30*2)+(CMR!$E$32*2))/12","v":-1.0052083333333333},5.3600000000000002E-2,-5.3879166666666665E-2,null,null,null,{"$error":"#N/A"},0,{"$f":"IF(AND(AP140=26,$AN$4>=43,$AN$4<=45),AP140&\"I\",0)","v":{"$error":"#N/A"}},null,null,{"$error":"#N/A"},0,{"$f":"IF(AND(AU140=26,$AS$4>=43,$AS$4<=45),AU140&\"I\",0)","v":{"$error":"#N/A"}},null,null,null,null,null,null,null,null,null,null,null,null,null,null,null,null,null,null,null,null,null,null,null,null,null,null,null,null,null,null,null,null,null,null,null,null,null,null,null,null,null,null,null,null,null,null,null,null,null,null,null,null,null,null,null,null,null,null,null,null,null,{"$error":"#N/A"},{"$error":"#N/A"},{"$f":"IF(AND(DG140=42,$DE$4>=44,$DE$4<=45),DG140&\"I\",0)","v":{"$error":"#N/A"}},null,null,{"$error":"#N/A"},{"$error":"#N/A"},{"$f":"IF(AND(DL140=42,$DJ$4>=44,$DJ$4<=45),DL140&\"I\",0)","v":{"$error":"#N/A"}}]
[null,71,9999,4,null,71,"9999",4,null,null,null,null,null,null,null,null,null,null,null,null,null,null,null,null,null,null,null,null,"Top Rail Reinf.",0,0,0,null,"Bottom Hardware",1,{"$f":"IF(Frame_Width>36,0.482,0.36)","v":0.36},0.36,null,null,null,{"$error":"#N/A"},0,{"$f":"IF(AND(AP141=26,$AN$4>=46,$AN$4<=52),\"Dbl.\"&AP141&\"D\",0)","v":{"$error":"#N/A"}},null,null,{"$error":"#N/A"},0,{"$f":"IF(AND(AU141=26,$AS$4>=46,$AS$4<=52),\"Dbl.\"&AU141&\"D\",0)","v":{"$error":"#N/A"}},null,null,null,null,null,null,null,null,null,null,null,null,null,null,null,null,null,null,null,null,null,null,null,null,null,null,null,null,null,null,null,null,null,null,null,null,null,null,null,null,null,null,null,null,null,null,null,null,null,null,null,null,null,null,null,null,null,null,null,null,null,{"$error":"#N/A"},{"$f":"IF(AND($DF$4<=44,$DF$4>42),44,0)","v":{"$error":"#N/A"}},{"$f":"IF(AND(DG141=44,$DE$4>=11,$DE$4<=16),DG141&\"A\",0)","v":{"$error":"#N/A"}},null,null,{"$error":"#N/A"},{"$f":"IF(AND($DK$4<=44,$DK$4>42),44,0)","v":{"$error":"#N/A"}},{"$f":"IF(AND(DL141=44,$DJ$4>=11,$DJ$4<=16),DL141&\"A\",0)","v":{"$error":"#N/A"}}]
[null,72,9999,4,null,72,"9999",4,null,null,null,null,null,null,null,null,null,null,null,null,null,null,null,null,null,null,null,null,"Top Stile Reinf",0,0,0,null,"Bottom Bead",{"$f":"(((Frame_Width-3.3125)*2)+((CMR!$E$27-1.625)*2))/12","v":-0.82291666666666663},2.8000000000000001E-2,-2.3041666666666665E-2,null,null,null,{"$error":"#N/A"},0,{"$f":"IF(AND(AP142=26,$AN$4>=53,$AN$4<=60),\"Dbl.\"&AP142&\"E\",0)","v":{"$error":"#N/A"}},null,null,{"$error":"#N/A"},0,{"$f":"IF(AND(AU142=26,$AS$4>=53,$AS$4<=60),\"Dbl.\"&AU142&\"E\",0)","v":{"$error":"#N/A"}},null,null,null,null,null,null,null,null,null,null,null,null,null,null,null,null,null,null,null,null,null,null,null,null,null,null,null,null,null,null,null,null,null,null,null,null,null,null,null,null,null,null,null,null,null,null,null,null,null,null,null,null,null,null,null,null,null,null,null,null,null,{"$error":"#N/A"},{"$error":"#N/A"},{"$f":"IF(AND(DG142=44,$DE$4>=17,$DE$4<=22),DG142&\"B\",0)","v":{"$error":"#N/A"}},null,null,{"$error":"#N/A"},{"$error":"#N/A"},{"$f":"IF(AND(DL142=44,$DJ$4>=17,$DJ$4<=22),DL142&\"B\",0)","v":{"$error":"#N/A"}}]
[null,null,null,null,null,null,null,null,null,null,null,null,null,null,null,null,null,null,null,null,null,null,null,null,null,null,null,null,"Top Glass",0,0,0,null,null,null,"Top Sash",{"$f":"IF(ModelNo=\"i201\",(SUM(AK124:AK132))+5,0)","v":0},null,null,null,{"$error":"#N/A"},0,{"$f":"IF(AND(AP143=26,$AN$4>=61,$AN$4<=68),\"Dbl.\"&AP143&\"F\",0)","v":{"$error":"#N/A"}},null,null,{"$error":"#N/A"},0,{"$f":"IF(AND(AU143=26,$AS$4>=61,$AS$4<=68),\"Dbl.\"&AU143&\"F\",0)","v":{"$error":"#N/A"}},null,null,null,null,null,null,null,null,null,null,null,null,null,null,null,null,null,null,null,null,null,null,null,null,null,null,null,null,null,null,null,null,null,null,null,null,null,null,null,null,null,null,null,null,null,null,null,null,null,null,null,null,null,null,null,null,null,null,null,null,null,{"$error":"#N/A"},{"$error":"#N/A"},{"$f":"IF(AND(DG143=44,$DE$4>=23,$DE$4<=27),DG143&\"C\",0)","v":{"$error":"#N/A"}},null,null,{"$error":"#N/A"},{"$error":"#N/A"},{"$f":"IF(AND(DL143=44,$DJ$4>=23,$DJ$4<=27),DL143&\"C\",0)","v":{"$error":"#N/A"}}]
[null,null,null,null,null,null,null,null,null,null,null,null,null,null,null,null,null,null,null,null,null,null,null,null,null,null,null,null,"Top Spacer",0,0,0,null,null,null,"Bottom Sash",{"$f":"IF(ModelNo=\"i201\",SUM(AK133:AK142),0)","v":0},null,null,null,{"$error":"#N/A"},0,{"$f":"IF(AND(AP144=26,$AN$4>=69,$AN$4<=76),\"Dbl.\"&AP144&\"G\",0)","v":{"$error":"#N/A"}},null,null,{"$error":"#N/A"},0,{"$f":"IF(AND(AU144=26,$AS$4>=69,$AS$4<=76),\"Dbl.\"&AU144&\"G\",0)","v":{"$error":"#N/A"}},null,null,null,null,null,null,null,null,null,null,null,null,null,null,null,null,null,null,null,null,null,null,null,null,null,null,null,null,null,null,null,null,null,null,null,null,null,null,null,null,null,null,null,null,null,null,null,null,null,null,null,null,null,null,null,null,null,null,null,null,null,{"$error":"#N/A"},{"$error":"#N/A"},{"$f":"IF(AND(DG144=44,$DE$4>=28,$DE$4<=32),DG144&\"D\",0)","v":{"$error":"#N/A"}},null,null,{"$error":"#N/A"},{"$error":"#N/A"},{"$f":"IF(AND(DL144=44,$DJ$4>=28,$DJ$4<=32),DL144&\"D\",0)","v":{"$error":"#N/A"}}]
[null,null,null,null,null,null,null,null,null,null,null,null,null,null,null,null,null,null,null,null,null,null,null,null,null,null,null,null,"Top Hardware",0,0,0,null,null,null,null,null,null,null,null,{"$error":"#N/A"},0,{"$f":"IF(AND(AP145=26,$AN$4>=77,$AN$4<=80),\"Dbl.\"&AP145&\"H\",0)","v":{"$error":"#N/A"}},null,null,{"$error":"#N/A"},0,{"$f":"IF(AND(AU145=26,$AS$4>=77,$AS$4<=80),\"Dbl.\"&AU145&\"H\",0)","v":{"$error":"#N/A"}},null,null,null,null,null,null,null,null,null,null,null,null,null,null,null,null,null,null,null,null,null,null,null,null,null,null,null,null,null,null,null,null,null,null,null,null,null,null,null,null,null,null,null,null,null,null,null,null,null,null,null,null,null,null,null,null,null,null,null,null,null,{"$error":"#N/A"},{"$error":"#N/A"},{"$f":"IF(AND(DG145=44,$DE$4>=33,$DE$4<=34),DG145&\"E\",0)","v":{"$error":"#N/A"}},null,null,{"$error":"#N/A"},{"$error":"#N/A"},{"$f":"IF(AND(DL145=44,$DJ$4>=33,$DJ$4<=34),DL145&\"E\",0)","v":{"$error":"#N/A"}}]
[null,null,null,null,null,null,null,null,null,null,null,null,null,null,null,null,null,null,null,null,null,null,null,null,null,null,null,null,"Top Bead",0,0,0,null,null,null,null,null,null,null,null,{"$error":"#N/A"},{"$f":"IF(AND($AO$4<=28,$AO$4>26),28,0)","v":0},{"$f":"IF(AND(AP146=28,$AN$4>=7,$AN$4<=12),AP146&\"A\",0)","v":{"$error":"#N/A"}},null,null,{"$error":"#N/A"},{"$f":"IF(AND($AT$4<=28,$AT$4>26),28,0)","v":0},{"$f":"IF(AND(AU146=28,$AS$4>=7,$AS$4<=12),AU146&\"A\",0)","v":{"$error":"#N/A"}},null,null,null,null,null,null,null,null,null,null,null,null,null,null,null,null,null,null,null,null,null,null,null,null,null,null,null,null,null,null,null,null,null,null,null,null,null,null,null,null,null,null,null,null,null,null,null,null,null,null,null,null,null,null,null,null,null,null,null,null,null,{"$error":"#N/A"},{"$error":"#N/A"},{"$f":"IF(AND(DG146=44,$DE$4>=35,$DE$4<=37),DG146&\"F\",0)","v":{"$error":"#N/A"}},null,null,{"$error":"#N/A"},{"$error":"#N/A"},{"$f":"IF(AND(DL146=44,$DJ$4>=35,$DJ$4<=37),DL146&\"F\",0)","v":{"$error":"#N/A"}}]
[null,null,null,null,null,null,null,null,null,null,null,null,null,null,null,null,null,null,null,null,null,null,null,null,null,null,null,null,"Bottom Top Rail",{"$f":"(Frame_Width-2.1875)/12","v":-0.18229166666666666},0.224,-4.0833333333333333E-2,null,"V200","Length","Weight/ft","Weight",null,null,null,{"$error":"#N/A"},0,{"$f":"IF(AND(AP147=28,$AN$4>=13,$AN$4<=18),AP147&\"B\",0)","v":{"$error":"#N/A"}},null,null,{"$error":"#N/A"},0,{"$f":"IF(AND(AU147=28,$AS$4>=13,$AS$4<=18),AU147&\"B\",0)","v":{"$error":"#N/A"}},null,null,null,null,null,null,null,null,null,null,null,null,null,null,null,null,null,null,null,null,null,null,null,null,null,null,null,null,null,null,null,null,null,null,null,null,null,null,null,null,null,null,null,null,null,null,null,null,null,null,null,null,null,null,null,null,null,null,null,null,null,{"$error":"#N/A"},{"$error":"#N/A"},{"$f":"IF(AND(DG147=44,$DE$4>=38,$DE$4<=40),DG147&\"G\",0)","v":{"$error":"#N/A"}},null,null,{"$error":"#N/A"},{"$error":"#N/A"},{"$f":"IF(AND(DL147=44,$DJ$4>=38,$DJ$4<=40),DL147&\"G\",0)","v":{"$error":"#N/A"}}]
[null,null,null,null,null,null,null,null,null,null,null,null,null,null,null,null,null,null,null,null,null,null,null,null,null,null,null,null,"Bottom Bottom Rail",{"$f":"(Frame_Width-2.1875)/12","v":-0.18229166666666666},0.19900000000000001,-3.6276041666666668E-2,null,"Top Top Rail",0,0,{"$f":"AI148*AJ148","v":0},null,null,null,{"$error":"#N/A"},0,{"$f":"IF(AND(AP148=28,$AN$4>=19,$AN$4<=23),AP148&\"C\",0)","v":{"$error":"#N/A"}},null,null,{"$error":"#N/A"},0,{"$f":"IF(AND(AU148=28,$AS$4>=19,$AS$4<=23),AU148&\"C\",0)","v":{"$error":"#N/A"}},null,null,null,null,null,null,null,null,null,null,null,null,null,null,null,null,null,null,null,null,null,null,null,null,null,null,null,null,null,null,null,null,null,null,null,null,null,null,null,null,null,null,null,null,null,null,null,null,null,null,null,null,null,null,null,null,null,null,null,null,null,{"$error":"#N/A"},{"$error":"#N/A"},{"$f":"IF(AND(DG148=44,$DE$4>=41,$DE$4<=43),DG148&\"H\",0)","v":{"$error":"#N/A"}},null,null,{"$error":"#N/A"},{"$error":"#N/A"},{"$f":"IF(AND(DL148=44,$DJ$4>=41,$DJ$4<=43),DL148&\"H\",0)","v":{"$error":"#N/A"}}]
[null,null,null,null,null,null,null,null,null,null,null,null,null,null,null,null,null,null,null,null,null,null,null,null,null,null,null,null,"Bottom Stile",{"$f":"((CMR!$L$100-0.844)*2)/12","v":-0.14066666666666666},0.19900000000000001,-2.7992666666666666E-2,null,"Top Bottom Rail",0,0,0,null,null,null,{"$error":"#N/A"},0,{"$f":"IF(AND(AP149=28,$AN$4>=24,$AN$4<=28),AP149&\"D\",0)","v":{"$error":"#N/A"}},null,null,{"$error":"#N/A"},0,{"$f":"IF(AND(AU149=28,$AS$4>=24,$AS$4<=28),AU149&\"D\",0)","v":{"$error":"#N/A"}},null,null,null,null,null,null,null,null,null,null,null,null,null,null,null,null,null,null,null,null,null,null,null,null,null,null,null,null,null,null,null,null,null,null,null,null,null,null,null,null,null,null,null,null,null,null,null,null,null,null,null,null,null,null,null,null,null,null,null,null,null,{"$error":"#N/A"},{"$error":"#N/A"},{"$f":"IF(AND(DG149=44,$DE$4>=44,$DE$4<=45),DG149&\"I\",0)","v":{"$error":"#N/A"}},null,null,{"$error":"#N/A"},{"$error":"#N/A"},{"$f":"IF(AND(DL149=44,$DJ$4>=44,$DJ$4<=45),DL149&\"I\",0)","v":{"$error":"#N/A"}}]
[null,null,null,null,null,null,null,null,null,null,null,null,null,null,null,null,null,null,null,null,null,null,null,null,null,null,null,null,"Bottom Rail Reinf.",{"$f":"(TRUNC(((Frame_Width-8.188)-0.5)/2)*2)/12","v":-0.66666666666666663},0.13300000000000001,-8.8666666666666671E-2,null,"Top Stile",0,0,0,null,null,null,{"$error":"#N/A"},0,{"$f":"IF(AND(AP150=28,$AN$4>=29,$AN$4<=32),AP150&\"E\",0)","v":{"$error":"#N/A"}},null,null,{"$error":"#N/A"},0,{"$f":"IF(AND(AU150=28,$AS$4>=29,$AS$4<=32),AU150&\"E\",0)","v":{"$error":"#N/A"}}]
[null,null,null,null,null,null,null,null,null,null,null,null,null,null,null,null,null,null,null,null,null,null,null,null,null,null,null,null,"Bottom Stile Reinf.",{"$f":"(TRUNC((((CMR!$L$100-0.844)-1.46875)-0.25)/2)*2)/12","v":-0.16666666666666666},0.10100000000000001,-1.6833333333333332E-2,null,"Top Rail Reinf.",0,0,0,null,null,null,{"$error":"#N/A"},0,{"$f":"IF(AND(AP151=28,$AN$4>=33,$AN$4<=36),AP151&\"F\",0)","v":{"$error":"#N/A"}},null,null,{"$error":"#N/A"},0,{"$f":"IF(AND(AU151=28,$AS$4>=33,$AS$4<=36),AU151&\"F\",0)","v":{"$error":"#N/A"}}]
[null,null,null,null,null,null,null,null,null,null,null,null,null,null,null,null,null,null,null,null,null,null,null,null,null,null,null,null,"Bottom Glass",{"$f":"(CMR!$L$103*CMR!$L$105)/144","v":5.4456922743055552E-2},{"$f":"$L$12","v":""},{"$error":"#VALUE!"},null,"Top Stile Reinf",0,0,0,null,null,null,{"$error":"#N/A"},0,{"$f":"IF(AND(AP152=28,$AN$4>=37,$AN$4<=40),AP152&\"G\",0)","v":{"$error":"#N/A"}},null,null,{"$error":"#N/A"},0,{"$f":"IF(AND(AU152=28,$AS$4>=37,$AS$4<=40),AU152&\"G\",0)","v":{"$error":"#N/A"}}]
[null,null,null,null,null,null,null,null,null,null,null,null,null,null,null,null,null,null,null,null,null,null,null,null,null,null,null,null,"Bottom Spacer",{"$f":"((CMR!$L$103*2)+(CMR!$L$105*2))/12","v":-0.953125},5.3600000000000002E-2,-5.1087500000000001E-2,null,"Top Glass",0,0,0,null,null,null,{"$error":"#N/A"},0,{"$f":"IF(AND(AP153=28,$AN$4>=41,$AN$4<=43),AP153&\"H\",0)","v":{"$error":"#N/A"}},null,null,{"$error":"#N/A"},0,{"$f":"IF(AND(AU153=28,$AS$4>=41,$AS$4<=43),AU153&\"H\",0)","v":{"$error":"#N/A"}}]
[null,null,null,null,null,null,null,null,null,null,null,null,null,null,null,null,null,null,null,null,null,null,null,null,null,null,null,null,"Bottom Hardware",1,0.36,0.36,null,"Top Spacer",0,0,0,null,null,null,{"$error":"#N/A"},0,{"$f":"IF(AND(AP154=28,$AN$4>=44,$AN$4<=45),AP154&\"I\",0)","v":{"$error":"#N/A"}},null,null,{"$error":"#N/A"},0,{"$f":"IF(AND(AU154=28,$AS$4>=44,$AS$4<=45),AU154&\"I\",0)","v":{"$error":"#N/A"}}]
[null,null,null,null,null,null,null,null,null,null,null,null,null,null,null,null,null,null,null,null,null,null,null,null,null,null,null,null,"Bottom Bead",{"$f":"(((Frame_Width-2.9375)*2)+((CMR!$L$100-1.625)*2))/12","v":-0.76041666666666663},2.1000000000000001E-2,-1.596875E-2,null,"Top Hardware",0,0,0,null,null,null,{"$error":"#N/A"},0,{"$f":"IF(AND(AP155=28,$AN$4=46),\"Dbl.\"&AP155&\"C\",0)","v":{"$error":"#N/A"}},null,null,{"$error":"#N/A"},0,{"$f":"IF(AND(AU155=28,$AS$4=46),\"Dbl.\"&AU155&\"C\",0)","v":{"$error":"#N/A"}}]
[null,null,null,null,null,null,null,null,null,null,null,null,null,null,null,null,null,null,null,null,null,null,null,null,null,null,null,null,null,null,"Top Sash",0,null,"Top Bead",0,0,0,null,null,null,{"$error":"#N/A"},0,{"$f":"IF(AND(AP156=28,$AN$4>=47,$AN$4<=56),\"Dbl.\"&AP156&\"D\",0)","v":{"$error":"#N/A"}},null,null,{"$error":"#N/A"},0,{"$f":"IF(AND(AU156=28,$AS$4>=47,$AS$4<=56),\"Dbl.\"&AU156&\"D\",0)","v":{"$error":"#N/A"}}]
[null,null,null,null,null,null,null,null,null,null,null,null,null,null,null,null,null,null,null,null,null,null,null,null,null,null,null,null,null,null,"Bottom Sash",{"$f":"IF(OR(ModelNo=\"V100\",ModelNo=\"V100\",ModelNo=\"V100\"),SUM(AF147:AF155),0)","v":0},null,"Bottom Top Rail",{"$f":"(Frame_Width-2.1875)/12","v":-0.18229166666666666},0.224,-4.0833333333333333E-2,null,null,null,{"$error":"#N/A"},0,{"$f":"IF(AND(AP157=28,$AN$4>=57,$AN$4<=64),\"Dbl.\"&AP157&\"E\",0)","v":{"$error":"#N/A"}},null,null,{"$error":"#N/A"},0,{"$f":"IF(AND(AU157=28,$AS$4>=57,$AS$4<=64),\"Dbl.\"&AU157&\"E\",0)","v":{"$error":"#N/A"}}]
[null,null,null,null,null,null,null,null,null,null,null,null,null,null,null,null,null,null,null,null,null,null,null,null,null,null,null,null,null,null,null,null,null,"Bottom Bottom Rail",{"$f":"(Frame_Width-2.1875)/12","v":-0.18229166666666666},0.19900000000000001,-3.6276041666666668E-2,null,null,null,{"$error":"#N/A"},0,{"$f":"IF(AND(AP158=28,$AN$4>=65,$AN$4<=72),\"Dbl.\"&AP158&\"F\",0)","v":{"$error":"#N/A"}},null,null,{"$error":"#N/A"},0,{"$f":"IF(AND(AU158=28,$AS$4>=65,$AS$4<=72),\"Dbl.\"&AU158&\"F\",0)","v":{"$error":"#N/A"}}]
[null,null,null,null,null,null,null,null,null,null,null,null,null,null,null,null,null,null,null,null,null,null,null,null,null,null,null,null,"V101","Length","Weight/ft","Weight",null,"Bottom Stile",{"$f":"((CMR!$L$125-0.875)*2)/12","v":-0.14583333333333334},0.19900000000000001,-2.9020833333333336E-2,null,null,null,{"$error":"#N/A"},0,{"$f":"IF(AND(AP159=28,$AN$4>=73,$AN$4<=80),\"Dbl.\"&AP159&\"G\",0)","v":{"$error":"#N/A"}},null,null,{"$error":"#N/A"},0,{"$f":"IF(AND(AU159=28,$AS$4>=73,$AS$4<=80),\"Dbl.\"&AU159&\"G\",0)","v":{"$error":"#N/A"}}]
[null,null,null,null,null,null,null,null,null,null,null,null,null,null,null,null,null,null,null,null,null,null,null,null,null,null,null,null,"Top Top Rail",{"$f":"(Frame_Width-3.4375)/12","v":-0.28645833333333331},0.20799999999999999,{"$f":"AD160*AE160","v":-5.9583333333333328E-2},null,"Bottom Rail Reinf.",{"$f":"(TRUNC(((Frame_Width-3.625)-0.5)/2)*2-2)/12","v":-0.5},0.13300000000000001,-6.6500000000000004E-2,null,null,null,{"$error":"#N/A"},{"$f":"IF(AND($AO$4<=30,$AO$4>28),30,0)","v":0},{"$f":"IF(AND(AP160=30,$AN$4>=8,$AN$4<=13),AP160&\"A\",0)","v":{"$error":"#N/A"}},null,null,{"$error":"#N/A"},{"$f":"IF(AND($AT$4<=30,$AT$4>28),30,0)","v":0},{"$f":"IF(AND(AU160=30,$AS$4>=8,$AS$4<=13),AU160&\"A\",0)","v":{"$error":"#N/A"}}]
[null,null,null,null,null,null,null,null,null,null,null,null,null,null,null,null,null,null,null,null,null,null,null,null,null,null,null,null,"Top Bottom Rail",{"$f":"(Frame_Width-3.4375)/12","v":-0.28645833333333331},0.23799999999999999,-6.8177083333333333E-2,null,"Bottom Stile Reinf.",{"$f":"(TRUNC((((TRUNC(((CMR!$L$125-0.8125)*32+0.5))/32-0.0625)-1.46875)-0.25)/2)*2)/12","v":-0.16666666666666666},0.10100000000000001,-1.6833333333333332E-2,null,null,null,{"$error":"#N/A"},0,{"$f":"IF(AND(AP161=30,$AN$4>=14,$AN$4<=19),AP161&\"B\",0)","v":{"$error":"#N/A"}},null,null,{"$error":"#N/A"},0,{"$f":"IF(AND(AU161=30,$AS$4>=14,$AS$4<=19),AU161&\"B\",0)","v":{"$error":"#N/A"}}]
[null,null,null,null,null,null,null,null,null,null,null,null,null,null,null,null,null,null,null,null,null,null,null,null,null,null,null,null,"Top Stile",{"$f":"(2*(CMR!$L$115-1.5625))/12","v":-0.26041666666666669},0.19900000000000001,-5.182291666666667E-2,null,"Bottom Glass",{"$f":"(CMR!$L$128*CMR!$L$130)/144","v":5.46875E-2},{"$f":"$L$12","v":""},{"$error":"#VALUE!"},null,null,null,{"$error":"#N/A"},0,{"$f":"IF(AND(AP162=30,$AN$4>=20,$AN$4<=24),AP162&\"C\",0)","v":{"$error":"#N/A"}},null,null,{"$error":"#N/A"},0,{"$f":"IF(AND(AU162=30,$AS$4>=20,$AS$4<=24),AU162&\"C\",0)","v":{"$error":"#N/A"}}]
[null,null,null,null,null,null,null,null,null,null,null,null,null,null,null,null,null,null,null,null,null,null,null,null,null,null,null,null,"Top Rail Reinf.",{"$f":"(TRUNC(((Frame_Width-9.4375)+0.5)/2)*2)/12","v":-0.66666666666666663},0.10100000000000001,-6.7333333333333328E-2,null,"Bottom Spacer",{"$f":"((CMR!$L$128*2)+(CMR!$L$130*2))/12","v":-0.95833333333333337},5.3600000000000002E-2,-5.1366666666666672E-2,null,null,null,{"$error":"#N/A"},0,{"$f":"IF(AND(AP163=30,$AN$4>=25,$AN$4<=29),AP163&\"D\",0)","v":{"$error":"#N/A"}},null,null,{"$error":"#N/A"},0,{"$f":"IF(AND(AU163=30,$AS$4>=25,$AS$4<=29),AU163&\"D\",0)","v":{"$error":"#N/A"}}]
[null,null,null,null,null,null,null,null,null,null,null,null,null,null,null,null,null,null,null,null,null,null,null,null,null,null,null,null,"Top Stile Reinf",{"$f":"((TRUNC(((CMR!$L$115-2.5625)+0.5)/2)*2)/12)*2","v":-0.33333333333333331},0.13300000000000001,-4.4333333333333336E-2,null,"Bottom Hardware",1,0.36,0.36,null,null,null,{"$f":"IF(AND(AP164>0,AQ164>0),AP164,0)","v":{"$error":"#N/A"}},0,{"$f":"IF(AND(AP164=30,$AN$4>=30,$AN$4<=33),AP164&\"E\",0)","v":{"$error":"#N/A"}},null,null,{"$error":"#N/A"},0,{"$f":"IF(AND(AU164=30,$AS$4>=30,$AS$4<=33),AU164&\"E\",0)","v":{"$error":"#N/A"}}]
[null,null,null,null,null,null,null,null,null,null,null,null,null,null,null,null,null,null,null,null,null,null,null,null,null,null,null,null,"Top Glass",{"$f":"(CMR!$L$118*CMR!$L$120)/144","v":9.3587239583333329E-2},{"$f":"$L$12","v":""},{"$error":"#VALUE!"},null,"Bottom Bead",{"$f":"(((Frame_Width-2.9375)*2)+((CMR!$L$125-1.625)*2))/12","v":-0.76041666666666663},2.1000000000000001E-2,-1.596875E-2,null,null,null,{"$error":"#N/A"},0,{"$f":"IF(AND(AP165=30,$AN$4>=34,$AN$4<=37),AP165&\"F\",0)","v":{"$error":"#N/A"}},null,null,{"$error":"#N/A"},0,{"$f":"IF(AND(AU165=30,$AS$4>=34,$AS$4<=37),AU165&\"F\",0)","v":{"$error":"#N/A"}}]
[null,null,null,null,null,null,null,null,null,null,null,null,null,null,null,null,null,null,null,null,null,null,null,null,null,null,null,null,"Top Spacer",{"$f":"((CMR!$L$118*2)+(CMR!$L$120*2))/12","v":-1.2604166666666667},5.3600000000000002E-2,-6.7558333333333345E-2,null,null,null,"Top Sash",0,null,null,null,{"$error":"#N/A"},0,{"$f":"IF(AND(AP166=30,$AN$4>=38,$AN$4<=40),AP166&\"G\",0)","v":{"$error":"#N/A"}},null,null,{"$error":"#N/A"},0,{"$f":"IF(AND(AU166=30,$AS$4>=38,$AS$4<=40),AU166&\"G\",0)","v":{"$error":"#N/A"}}]
[null,null,null,null,null,null,null,null,null,null,null,null,null,null,null,null,null,null,null,null,null,null,null,null,null,null,null,null,"Top Hardware",1,0.2,0.2,null,null,null,"Bottom Sash",{"$f":"IF(ModelNo=\"V200\",SUM(AK157:AK165),0)","v":0},null,null,null,{"$error":"#N/A"},0,{"$f":"IF(AND(AP167=30,$AN$4>=41,$AN$4<=43),AP167&\"H\",0)","v":{"$error":"#N/A"}},null,null,{"$error":"#N/A"},0,{"$f":"IF(AND(AU167=30,$AS$4>=41,$AS$4<=43),AU167&\"H\",0)","v":{"$error":"#N/A"}}]
[null,null,null,null,null,null,null,null,null,null,null,null,null,null,null,null,null,null,null,null,null,null,null,null,null,null,null,null,"Top Bead",{"$f":"(((Frame_Width-4.2)*2)+((CMR!$L$115-2.875)*2))/12","v":-1.1791666666666667},2.1000000000000001E-2,-2.4762500000000003E-2,null,null,null,null,null,null,null,null,{"$error":"#N/A"},0,{"$f":"IF(AND(AP168=30,$AN$4>=44,$AN$4<=45),AP168&\"I\",0)","v":{"$error":"#N/A"}},null,null,{"$error":"#N/A"},0,{"$f":"IF(AND(AU168=30,$AS$4>=44,$AS$4<=45),AU168&\"I\",0)","v":{"$error":"#N/A"}}]
[null,null,null,null,null,null,null,null,null,null,null,null,null,null,null,null,null,null,null,null,null,null,null,null,null,null,null,null,"Bottom Top Rail",{"$f":"(Frame_Width-2.1875)/12","v":-0.18229166666666666},0.224,-4.0833333333333333E-2,null,"3001","Length","Weight/ft","Weight",null,null,null,{"$error":"#N/A"},0,{"$f":"IF(AND(AP169=30,$AN$4>=46,$AN$4<=48),\"Dbl.\"&AP169&\"C\",0)","v":{"$error":"#N/A"}},null,null,{"$error":"#N/A"},0,{"$f":"IF(AND(AU169=30,$AS$4>=46,$AS$4<=48),\"Dbl.\"&AU169&\"C\",0)","v":{"$error":"#N/A"}}]
[null,null,null,null,null,null,null,null,null,null,null,null,null,null,null,null,null,null,null,null,null,null,null,null,null,null,null,null,"Bottom Bottom Rail",{"$f":"(Frame_Width-2.1875)/12","v":-0.18229166666666666},0.19900000000000001,-3.6276041666666668E-2,null,"Top Top Rail",{"$f":"Data!D1120/12","v":-0.34375},0.29699999999999999,{"$f":"AI170*AJ170","v":-0.10209375},null,null,null,{"$error":"#N/A"},0,{"$f":"IF(AND(AP170=30,$AN$4>=49,$AN$4<=58),\"Dbl.\"&AP170&\"D\",0)","v":{"$error":"#N/A"}},null,null,{"$error":"#N/A"},0,{"$f":"IF(AND(AU170=30,$AS$4>=49,$AS$4<=58),\"Dbl.\"&AU170&\"D\",0)","v":{"$error":"#N/A"}}]
[null,null,null,null,null,null,null,null,null,null,null,null,null,null,null,null,null,null,null,null,null,null,null,null,null,null,null,null,"Bottom Stile",{"$f":"(2*(CMR!$L$116-0.3125))/12","v":-5.2083333333333336E-2},0.19900000000000001,-1.0364583333333335E-2,null,"Top Bottom Rail",{"$f":"Data!D1120/12","v":-0.34375},0.28899999999999998,-9.9343749999999995E-2,null,null,null,{"$error":"#N/A"},0,{"$f":"IF(AND(AP171=30,$AN$4>=59,$AN$4<=66),\"Dbl.\"&AP171&\"E\",0)","v":{"$error":"#N/A"}},null,null,{"$error":"#N/A"},0,{"$f":"IF(AND(AU171=30,$AS$4>=59,$AS$4<=66),\"Dbl.\"&AU171&\"E\",0)","v":{"$error":"#N/A"}}]
[null,null,null,null,null,null,null,null,null,null,null,null,null,null,null,null,null,null,null,null,null,null,null,null,null,null,null,null,"Bottom Rail Reinf.",{"$f":"(TRUNC(((Frame_Width-8.1875)+0.5)/2)*2)/12","v":-0.5},0.13300000000000001,-6.6500000000000004E-2,null,"Top Stile",{"$f":"(2*Data!D1121)/12","v":-0.23958333333333334},0.218,-5.2229166666666667E-2,null,null,null,{"$error":"#N/A"},0,{"$f":"IF(AND(AP172=30,$AN$4>=67,$AN$4<=74),\"Dbl.\"&AP172&\"F\",0)","v":{"$error":"#N/A"}},null,null,{"$error":"#N/A"},0,{"$f":"IF(AND(AU172=30,$AS$4>=67,$AS$4<=74),\"Dbl.\"&AU172&\"F\",0)","v":{"$error":"#N/A"}}]
[null,null,null,null,null,null,null,null,null,null,null,null,null,null,null,null,null,null,null,null,null,null,null,null,null,null,null,null,"Bottom Stile Reinf.",{"$f":"((TRUNC(((CMR!$L$116-1.3125)+0.5)/2)*2)/12)*2","v":0},0.13300000000000001,0,null,"Keeper Rail Reinf.",{"$f":"(TRUNC((Data!D1120-6.5)/2)*2)/12","v":-0.83333333333333337},{"$f":"IF(OR(EXTSELECT=2,Frame_Width<48,Frame_Height<84),0.0516,IF(OR(EXTSELECT=3,Frame_Width>48,Frame_Height>84),0.3784,0))","v":5.16E-2},-4.3000000000000003E-2,null,null,null,{"$error":"#N/A"},0,{"$f":"IF(AND(AP173=30,$AN$4>=75,$AN$4<=80),\"Dbl.\"&AP173&\"G\",0)","v":{"$error":"#N/A"}},null,null,{"$error":"#N/A"},0,{"$f":"IF(AND(AU173=30,$AS$4>=75,$AS$4<=80),\"Dbl.\"&AU173&\"G\",0)","v":{"$error":"#N/A"}}]
[null,null,null,null,null,null,null,null,null,null,null,null,null,null,null,null,null,null,null,null,null,null,null,null,null,null,null,null,"Bottom Glass",{"$f":"(CMR!$L$119*CMR!$L$121)/144","v":3.8791232638888888E-2},{"$f":"$L$12","v":""},{"$error":"#VALUE!"},null,"Top Stile Reinf",{"$f":"IF(OR(Frame_Width>48,Frame_Height>84,EXTTYPE=\"Steel\"),((TRUNC(((DDIM3001-1.4375)-8)/2)*2)/12)*2,0)","v":0},0.45600000000000002,0,null,null,null,{"$error":"#N/A"},{"$f":"IF(AND($AO$4<=32,$AO$4>30),32,0)","v":0},{"$f":"IF(AND(AP174=32,$AN$4>=8,$AN$4<=14),AP174&\"A\",0)","v":{"$error":"#N/A"}},null,null,{"$error":"#N/A"},{"$f":"IF(AND($AT$4<=32,$AT$4>30),32,0)","v":0},{"$f":"IF(AND(AU174=32,$AS$4>=8,$AS$4<=14),AU174&\"A\",0)","v":{"$error":"#N/A"}}]
[null,null,null,null,null,null,null,null,null,null,null,null,null,null,null,null,null,null,null,null,null,null,null,null,null,null,null,null,"Bottom Spacer",{"$f":"((CMR!$L$119*2)+(CMR!$L$121*2))/12","v":-0.84375},5.3600000000000002E-2,-4.5225000000000001E-2,null,"Top Glass",{"$f":"(CMR!$E$119*CMR!$E$121)/144","v":0.12103949652777778},{"$f":"$L$12","v":""},{"$error":"#VALUE!"},null,null,null,{"$error":"#N/A"},0,{"$f":"IF(AND(AP175=32,$AN$4>=15,$AN$4<=20),AP175&\"B\",0)","v":{"$error":"#N/A"}},null,null,{"$error":"#N/A"},0,{"$f":"IF(AND(AU175=32,$AS$4>=15,$AS$4<=20),AU175&\"B\",0)","v":{"$error":"#N/A"}}]
[null,null,null,null,null,null,null,null,null,null,null,null,null,null,null,null,null,null,null,null,null,null,null,null,null,null,null,null,"Bottom Hardware",1,0.36,0.36,null,"Top Spacer",{"$f":"((CMR!$E$119*2)+(CMR!$E$121*2))/12","v":-1.4635416666666667},5.3600000000000002E-2,-7.844583333333334E-2,null,null,null,{"$error":"#N/A"},0,{"$f":"IF(AND(AP176=32,$AN$4>=21,$AN$4<=25),AP176&\"C\",0)","v":{"$error":"#N/A"}},null,null,{"$error":"#N/A"},0,{"$f":"IF(AND(AU176=32,$AS$4>=21,$AS$4<=25),AU176&\"C\",0)","v":{"$error":"#N/A"}}]
[null,null,null,null,null,null,null,null,null,null,null,null,null,null,null,null,null,null,null,null,null,null,null,null,null,null,null,null,"Bottom Bead",{"$f":"(((Frame_Width-2.95)*2)+((CMR!$L$116-1.0625)*2))/12","v":-0.66875000000000007},2.1000000000000001E-2,-1.4043750000000002E-2,null,"Top Hardware",1,0.4,0.4,null,null,null,{"$error":"#N/A"},0,{"$f":"IF(AND(AP177=32,$AN$4>=26,$AN$4<=30),AP177&\"D\",0)","v":{"$error":"#N/A"}},null,null,{"$error":"#N/A"},0,{"$f":"IF(AND(AU177=32,$AS$4>=26,$AS$4<=30),AU177&\"D\",0)","v":{"$error":"#N/A"}}]
[null,null,null,null,null,null,null,null,null,null,null,null,null,null,null,null,null,null,null,null,null,null,null,null,null,null,null,null,null,null,"Top Sash",{"$f":"IF(ModelNo=\"V101\",(SUM(AF160:AF168))+5,0)","v":0},null,"Top Bead",{"$f":"(((Frame_Width-5.125)*2)+((DDIM3001-4.3125)*2))/12","v":-1.5729166666666667},7.1999999999999995E-2,-0.11325,null,null,null,{"$error":"#N/A"},0,{"$f":"IF(AND(AP178=32,$AN$4>=31,$AN$4<=34),AP178&\"E\",0)","v":{"$error":"#N/A"}},null,null,{"$error":"#N/A"},0,{"$f":"IF(AND(AU178=32,$AS$4>=31,$AS$4<=34),AU178&\"E\",0)","v":{"$error":"#N/A"}}]
[null,null,null,null,null,null,null,null,null,null,null,null,null,null,null,null,null,null,null,null,null,null,null,null,null,null,null,null,null,null,"Bottom Sash",{"$f":"IF(ModelNo=\"V101\",SUM(AF169:AF177),0)","v":0},null,"Bottom Top Rail",{"$f":"Data!D1122/12","v":-0.26041666666666669},0.33,-8.5937500000000014E-2,null,null,null,{"$error":"#N/A"},0,{"$f":"IF(AND(AP179=32,$AN$4>=35,$AN$4<=37),AP179&\"F\",0)","v":{"$error":"#N/A"}},null,null,{"$error":"#N/A"},0,{"$f":"IF(AND(AU179=32,$AS$4>=35,$AS$4<=37),AU179&\"F\",0)","v":{"$error":"#N/A"}}]
[null,null,null,null,null,null,null,null,null,null,null,null,null,null,null,null,null,null,null,null,null,null,null,null,null,null,null,null,null,null,null,null,null,"Bottom Bottom Rail",{"$f":"Data!D1122/12","v":-0.26041666666666669},0.30599999999999999,-7.9687500000000008E-2,null,null,null,{"$error":"#N/A"},0,{"$f":"IF(AND(AP180=32,$AN$4>=38,$AN$4<=40),AP180&\"G\",0)","v":{"$error":"#N/A"}},null,null,{"$error":"#N/A"},0,{"$f":"IF(AND(AU180=32,$AS$4>=38,$AS$4<=40),AU180&\"G\",0)","v":{"$error":"#N/A"}}]
[null,null,null,null,null,null,null,null,null,null,null,null,null,null,null,null,null,null,null,null,null,null,null,null,null,null,null,null,"03A0","Length","Weight/ft","Weight",null,"Bottom Stile",{"$f":"(2*Data!D1123)/12","v":-7.2916666666666671E-2},0.219,-1.596875E-2,null,null,null,{"$error":"#N/A"},0,{"$f":"IF(AND(AP181=32,$AN$4>=41,$AN$4<=43),AP181&\"H\",0)","v":{"$error":"#N/A"}},null,null,{"$error":"#N/A"},0,{"$f":"IF(AND(AU181=32,$AS$4>=41,$AS$4<=43),AU181&\"H\",0)","v":{"$error":"#N/A"}}]
[null,null,null,null,null,null,null,null,null,null,null,null,null,null,null,null,null,null,null,null,null,null,null,null,null,null,null,null,"Bottom Top Rail",{"$f":"(Frame_Width-3.25)/12","v":-0.27083333333333331},0.33,{"$f":"AD182*AE182","v":-8.9374999999999996E-2},null,"Bottom Rail Reinf.",{"$f":"(TRUNC(((Frame_Width-3.125)-6)/2)*2)/12","v":-0.66666666666666663},{"$f":"IF(OR(EXTSELECT=2,Frame_Width<48,Frame_Height<84),0.0516,IF(OR(EXTSELECT=3,Frame_Width>48,Frame_Height>84),0.57,0))","v":5.16E-2},-3.44E-2,null,null,null,{"$error":"#N/A"},0,{"$f":"IF(AND(AP182=32,$AN$4>=44,$AN$4<=45),AP182&\"I\",0)","v":{"$error":"#N/A"}},null,null,{"$error":"#N/A"},0,{"$f":"IF(AND(AU182=32,$AS$4>=44,$AS$4<=45),AU182&\"I\",0)","v":{"$error":"#N/A"}}]
[null,null,null,null,null,null,null,null,null,null,null,null,null,null,null,null,null,null,null,null,null,null,null,null,null,null,null,null,"Bottom Bottom Rail",{"$f":"(Frame_Width-3.25)/12","v":-0.27083333333333331},0.30599999999999999,-8.287499999999999E-2,null,"Bottom Stile Reinf.",{"$f":"IF(OR(Frame_Width>48,Frame_Height>84,EXTTYPE=\"Steel\"),((TRUNC((CDIM3001-2)/2)*2)/12)*2,0)","v":0},0.53600000000000003,0,null,null,null,{"$error":"#N/A"},0,{"$f":"IF(AND(AP183=32,$AN$4>=46,$AN$4<=50),\"Dbl.\"&AP183&\"C\",0)","v":{"$error":"#N/A"}},null,null,{"$error":"#N/A"},0,{"$f":"IF(AND(AU183=32,$AS$4>=46,$AS$4<=50),\"Dbl.\"&AU183&\"C\",0)","v":{"$error":"#N/A"}}]
[null,null,null,null,null,null,null,null,null,null,null,null,null,null,null,null,null,null,null,null,null,null,null,null,null,null,null,null,"Bottom Stile",{"$f":"(2*(CDIM03A0-0.6875))/12","v":-0.11458333333333333},0.24,-2.7499999999999997E-2,null,"Bottom Glass",{"$f":"(CMR!$E$120*CMR!$E$122)/144","v":9.228515625E-2},{"$f":"$L$12","v":""},{"$error":"#VALUE!"},null,null,null,{"$error":"#N/A"},0,{"$f":"IF(AND(AP184=32,$AN$4>=51,$AN$4<=60),\"Dbl.\"&AP184&\"D\",0)","v":{"$error":"#N/A"}},null,null,{"$error":"#N/A"},0,{"$f":"IF(AND(AU184=32,$AS$4>=51,$AS$4<=60),\"Dbl.\"&AU184&\"D\",0)","v":{"$error":"#N/A"}}]
[null,null,null,null,null,null,null,null,null,null,null,null,null,null,null,null,null,null,null,null,null,null,null,null,null,null,null,null,"Bottom Rail Reinf.",{"$f":"(TRUNC(((Frame_Width-3.25)-6)/2)*2)/12","v":-0.66666666666666663},{"$f":"IF(OR(EXTSELECT=2,Frame_Width<48,Frame_Height<84),0.0516,IF(OR(EXTSELECT=3,Frame_Width>48,Frame_Height>84),0.57,0))","v":5.16E-2},-3.44E-2,null,"Bottom Spacer",{"$f":"((CMR!$E$120*2)+(CMR!$E$122*2))/12","v":-1.296875},5.3600000000000002E-2,-6.9512500000000005E-2,null,null,null,{"$error":"#N/A"},0,{"$f":"IF(AND(AP185=32,$AN$4>=61,$AN$4<=68),\"Dbl.\"&AP185&\"E\",0)","v":{"$error":"#N/A"}},null,null,{"$error":"#N/A"},0,{"$f":"IF(AND(AU185=32,$AS$4>=61,$AS$4<=68),\"Dbl.\"&AU185&\"E\",0)","v":{"$error":"#N/A"}}]
[null,null,null,null,null,null,null,null,null,null,null,null,null,null,null,null,null,null,null,null,null,null,null,null,null,null,null,null,"Bottom Stile Reinf.",{"$f":"IF(OR(Frame_Height>84,Frame_Width>48,EXTTYPE=\"Steel\"),((TRUNC((CDIM03A0-4)/2)*2)/12)*2,0)","v":0},0.53600000000000003,0,null,"Bottom Hardware",1,0.36,0.36,null,null,null,{"$error":"#N/A"},0,{"$f":"IF(AND(AP186=32,$AN$4>=69,$AN$4<=74),\"Dbl.\"&AP186&\"F\",0)","v":{"$error":"#N/A"}},null,null,{"$error":"#N/A"},0,{"$f":"IF(AND(AU186=32,$AS$4>=69,$AS$4<=74),\"Dbl.\"&AU186&\"F\",0)","v":{"$error":"#N/A"}}]
[null,null,null,null,null,null,null,null,null,null,null,null,null,null,null,null,null,null,null,null,null,null,null,null,null,null,null,null,"Bottom Glass",{"$f":"(CMR!$E$136*CMR!$E$138)/144","v":0.10367838541666667},{"$f":"$L$12","v":""},{"$error":"#VALUE!"},null,"Bottom Bead",{"$f":"(((Frame_Width-4.625)*2)+((CDIM3001-3.625)*2))/12","v":-1.375},7.1999999999999995E-2,-9.8999999999999991E-2,null,null,null,{"$error":"#N/A"},0,{"$f":"IF(AND(AP187=32,$AN$4>=75,$AN$4<=80),\"Dbl.\"&AP187&\"G\",0)","v":{"$error":"#N/A"}},null,null,{"$error":"#N/A"},0,{"$f":"IF(AND(AU187=32,$AS$4>=75,$AS$4<=80),\"Dbl.\"&AU187&\"G\",0)","v":{"$error":"#N/A"}}]
[null,null,null,null,null,null,null,null,null,null,null,null,null,null,null,null,null,null,null,null,null,null,null,null,null,null,null,null,"Bottom Spacer",{"$f":"((CMR!$E$136*2)+(CMR!$E$138*2))/12","v":-1.3489583333333333},5.3600000000000002E-2,-7.2304166666666669E-2,null,null,null,"Top Sash",{"$f":"IF(ModelNo=\"3001\",(SUM(AK170:AK178))+5,0)","v":0},null,null,null,{"$error":"#N/A"},{"$f":"IF(AND($AO$4<=34,$AO$4>32),34,0)","v":0},{"$f":"IF(AND(AP188=34,$AN$4>=11,$AN$4<=16),AP188&\"A\",0)","v":{"$error":"#N/A"}},null,null,{"$error":"#N/A"},{"$f":"IF(AND($AT$4<=34,$AT$4>32),34,0)","v":0},{"$f":"IF(AND(AU188=34,$AS$4>=11,$AS$4<=16),AU188&\"A\",0)","v":{"$error":"#N/A"}}]
[null,null,null,null,null,null,null,null,null,null,null,null,null,null,null,null,null,null,null,null,null,null,null,null,null,null,null,null,"Bottom Hardware",1,0.36,0.36,null,null,null,"Bottom Sash",{"$f":"IF(ModelNo=\"3001\",SUM(AK179:AK187),0)","v":0},null,null,null,{"$error":"#N/A"},0,{"$f":"IF(AND(AP189=34,$AN$4>=17,$AN$4<=22),AP189&\"B\",0)","v":{"$error":"#N/A"}},null,null,{"$error":"#N/A"},0,{"$f":"IF(AND(AU189=34,$AS$4>=17,$AS$4<=22),AU189&\"B\",0)","v":{"$error":"#N/A"}}]
[null,null,null,null,null,null,null,null,null,null,null,null,null,null,null,null,null,null,null,null,null,null,null,null,null,null,null,null,"Bottom Bead",{"$f":"(((Frame_Width-4.75)*2)+((CDIM03A0-3.875)*2))/12","v":-1.4375},7.1999999999999995E-2,-0.10349999999999999,null,null,null,null,null,null,null,null,{"$error":"#N/A"},0,{"$f":"IF(AND(AP190=34,$AN$4>=23,$AN$4<=27),AP190&\"C\",0)","v":{"$error":"#N/A"}},null,null,{"$error":"#N/A"},0,{"$f":"IF(AND(AU190=34,$AS$4>=23,$AS$4<=27),AU190&\"C\",0)","v":{"$error":"#N/A"}}]
[null,null,null,null,null,null,null,null,null,null,null,null,null,null,null,null,null,null,null,null,null,null,null,null,null,null,null,null,null,null,"Bottom Sash",{"$f":"IF(OR(ModelNo=\"03A0\",ModelNo=\"S140\",ModelNo=\"S144\",ModelNo=\"S146\",ModelNo=\"S140 (HP)\",ModelNo=\"S144 (HP)\",ModelNo=\"S146 (HP)\"),SUM(AF182:AF190),0)","v":0},null,"1700","Length","Weight/ft","Weight",null,null,null,{"$error":"#N/A"},0,{"$f":"IF(AND(AP191=34,$AN$4>=28,$AN$4<=32),AP191&\"D\",0)","v":{"$error":"#N/A"}},null,null,{"$error":"#N/A"},0,{"$f":"IF(AND(AU191=34,$AS$4>=28,$AS$4<=32),AU191&\"D\",0)","v":{"$error":"#N/A"}}]
[null,null,null,null,null,null,null,null,null,null,null,null,null,null,null,null,null,null,null,null,null,null,null,null,null,null,null,null,null,null,null,null,null,"Bottom Top Rail",{"$f":"(Frame_Width-2.1875)/12","v":-0.18229166666666666},0.221,{"$f":"AI192*AJ192","v":-4.028645833333333E-2},null,null,null,{"$error":"#N/A"},0,{"$f":"IF(AND(AP192=34,$AN$4>=33,$AN$4<=34),AP192&\"E\",0)","v":{"$error":"#N/A"}},null,null,{"$error":"#N/A"},0,{"$f":"IF(AND(AU192=34,$AS$4>=33,$AS$4<=34),AU192&\"E\",0)","v":{"$error":"#N/A"}}]
[null,null,null,null,null,null,null,null,null,null,null,null,null,null,null,null,null,null,null,null,null,null,null,null,null,null,null,null,null,null,null,null,null,"Bottom Bottom Rail",{"$f":"(Frame_Width-2.1875)/12","v":-0.18229166666666666},0.19600000000000001,-3.5729166666666666E-2,null,null,null,{"$error":"#N/A"},0,{"$f":"IF(AND(AP193=34,$AN$4>=35,$AN$4<=37),AP193&\"F\",0)","v":{"$error":"#N/A"}},null,null,{"$error":"#N/A"},0,{"$f":"IF(AND(AU193=34,$AS$4>=35,$AS$4<=37),AU193&\"F\",0)","v":{"$error":"#N/A"}}]
[null,null,null,null,null,null,null,null,null,null,null,null,null,null,null,null,null,null,null,null,null,null,null,null,null,null,null,null,"1900","Length","Weight/ft","Weight",null,"Bottom Stile",{"$f":"((CDIM_1700-0.875)*2)/12","v":-0.14583333333333334},0.19600000000000001,-2.8583333333333336E-2,null,null,null,{"$error":"#N/A"},0,{"$f":"IF(AND(AP194=34,$AN$4>=38,$AN$4<=40),AP194&\"G\",0)","v":{"$error":"#N/A"}},null,null,{"$error":"#N/A"},0,{"$f":"IF(AND(AU194=34,$AS$4>=38,$AS$4<=40),AU194&\"G\",0)","v":{"$error":"#N/A"}}]
[null,null,null,null,null,null,null,null,null,null,null,null,null,null,null,null,null,null,null,null,null,null,null,null,null,null,null,null,"Bottom Top Rail",{"$f":"(Frame_Width-2.1875)/12","v":-0.18229166666666666},0.221,{"$f":"AD195*AE195","v":-4.028645833333333E-2},null,"Bottom Rail Reinf.",{"$f":"IF(STILE_REINF>0,(TRUNC(((Frame_Width-3.625)-0.5)/2)*2-2)/12,0)","v":0},0.13300000000000001,0,null,null,null,{"$error":"#N/A"},0,{"$f":"IF(AND(AP195=34,$AN$4>=41,$AN$4<=43),AP195&\"H\",0)","v":{"$error":"#N/A"}},null,null,{"$error":"#N/A"},0,{"$f":"IF(AND(AU195=34,$AS$4>=41,$AS$4<=43),AU195&\"H\",0)","v":{"$error":"#N/A"}}]
[null,null,null,null,null,null,null,null,null,null,null,null,null,null,null,null,null,null,null,null,null,null,null,null,null,null,null,null,"Bottom Bottom Rail",{"$f":"(Frame_Width-2.1875)/12","v":-0.18229166666666666},0.19600000000000001,-3.5729166666666666E-2,null,"Bottom Stile Reinf.",{"$f":"IF(STILE_REINF>0,(((((CDIM_1700-4.03125))/2)*2)/12)*2,0)","v":0},0.13300000000000001,0,null,null,null,{"$f":"IF(AND(AP196>0,AQ196>0),AP196,0)","v":{"$error":"#N/A"}},0,{"$f":"IF(AND(AP196=34,$AN$4>=44,$AN$4<=45),AP196&\"I\",0)","v":{"$error":"#N/A"}},null,null,{"$error":"#N/A"},0,{"$f":"IF(AND(AU196=34,$AS$4>=44,$AS$4<=45),AU196&\"I\",0)","v":{"$error":"#N/A"}}]
[null,null,null,null,null,null,null,null,null,null,null,null,null,null,null,null,null,null,null,null,null,null,null,null,null,null,null,null,"Bottom Stile",{"$f":"((CDIM_1900-0.844)*2)/12","v":-0.14066666666666666},0.19600000000000001,-2.7570666666666667E-2,null,"Bottom Glass",{"$f":"(Data!D1247*Data!D1248)/144","v":5.1188151041666664E-2},{"$f":"$L$12","v":""},{"$error":"#VALUE!"},null,null,null,{"$error":"#N/A"},0,{"$f":"IF(AND(AP197=34,$AN$4>=46,$AN$4<=54),\"Dbl.\"&AP197&\"C\",0)","v":{"$error":"#N/A"}},null,null,{"$f":"IF(AND(AU197>0,AV197>0),AU197,0)","v":{"$error":"#N/A"}},0,{"$f":"IF(AND(AU197=34,$AS$4>=46,$AS$4<=54),\"Dbl.\"&AU197&\"C\",0)","v":{"$error":"#N/A"}}]
[null,null,null,null,null,null,null,null,null,null,null,null,null,null,null,null,null,null,null,null,null,null,null,null,null,null,null,null,"Bottom Rail Reinf.",{"$f":"IF(STILE_REINF>0,(TRUNC(((Frame_Width-8.688)-0.5)/2)*2)/12,0)","v":0},0.13300000000000001,0,null,"Bottom Spacer",{"$f":"((Data!D1247*2)+(Data!D1248*2))/12","v":-0.93229166666666663},5.3600000000000002E-2,-4.9970833333333332E-2,null,null,null,{"$error":"#N/A"},0,{"$f":"IF(AND(AP198=34,$AN$4>=55,$AN$4<=64),\"Dbl.\"&AP198&\"D\",0)","v":{"$error":"#N/A"}},null,null,{"$error":"#N/A"},0,{"$f":"IF(AND(AU198=34,$AS$4>=55,$AS$4<=64),\"Dbl.\"&AU198&\"D\",0)","v":{"$error":"#N/A"}}]
[null,null,null,null,null,null,null,null,null,null,null,null,null,null,null,null,null,null,null,null,null,null,null,null,null,null,null,null,"Bottom Stile Reinf.",{"$f":"IF(STILE_REINF>0,(((((CDIM_1900-4.094))/2)*2)/12)*2,0)","v":0},0.13300000000000001,0,null,"Bottom Hardware",1,0.36,0.36,null,null,null,{"$error":"#N/A"},0,{"$f":"IF(AND(AP199=34,$AN$4>=65,$AN$4<=68),\"Dbl.\"&AP199&\"E\",0)","v":{"$error":"#N/A"}},null,null,{"$error":"#N/A"},0,{"$f":"IF(AND(AU199=34,$AS$4>=65,$AS$4<=68),\"Dbl.\"&AU199&\"E\",0)","v":{"$error":"#N/A"}}]
[null,null,null,null,null,null,null,null,null,null,null,null,null,null,null,null,null,null,null,null,null,null,null,null,null,null,null,null,"Bottom Glass",{"$f":"(Data!D1331*Data!D1332)/144","v":4.9981011284722224E-2},{"$f":"$L$12","v":""},{"$error":"#VALUE!"},null,"Bottom Bead",{"$f":"(((Frame_Width-2.9375)*2)+((CDIM_1700-1.625)*2))/12","v":-0.76041666666666663},2.1000000000000001E-2,-1.596875E-2,null,null,null,{"$error":"#N/A"},0,{"$f":"IF(AND(AP200=34,$AN$4>=69,$AN$4<=74),\"Dbl.\"&AP200&\"F\",0)","v":{"$error":"#N/A"}},null,null,{"$error":"#N/A"},0,{"$f":"IF(AND(AU200=34,$AS$4>=69,$AS$4<=74),\"Dbl.\"&AU200&\"F\",0)","v":{"$error":"#N/A"}}]
[null,null,null,null,null,null,null,null,null,null,null,null,null,null,null,null,null,null,null,null,null,null,null,null,null,null,null,null,"Bottom Spacer",{"$f":"((Data!D1331*2)+(Data!D1332*2))/12","v":-0.921875},5.3600000000000002E-2,-4.9412500000000005E-2,null,null,null,"Bottom=Sash",{"$f":"IF(OR(ModelNo=\"1700\",ModelNo=\"S140\",ModelNo=\"S144\",ModelNo=\"S146\"),SUM(AK192:AK200),0)","v":0},null,null,null,{"$error":"#N/A"},0,{"$f":"IF(AND(AP201=34,$AN$4>=75,$AN$4<=80),\"Dbl.\"&AP201&\"G\",0)","v":{"$error":"#N/A"}},null,null,{"$error":"#N/A"},0,{"$f":"IF(AND(AU201=34,$AS$4>=75,$AS$4<=80),\"Dbl.\"&AU201&\"G\",0)","v":{"$error":"#N/A"}}]
[null,null,null,null,null,null,null,null,null,null,null,null,null,null,null,null,null,null,null,null,null,null,null,null,null,null,null,null,"Bottom Hardware",1,0.36,0.36,null,null,null,null,null,null,null,null,{"$error":"#N/A"},{"$f":"IF(AND($AO$4<=36,$AO$4>34),36,0)","v":0},{"$f":"IF(AND(AP202=36,$AN$4>=11,$AN$4<=16),AP202&\"A\",0)","v":{"$error":"#N/A"}},null,null,{"$error":"#N/A"},{"$f":"IF(AND($AT$4<=36,$AT$4>34),36,0)","v":0},{"$f":"IF(AND(AU202=36,$AS$4>=11,$AS$4<=16),AU202&\"A\",0)","v":{"$error":"#N/A"}}]
[null,null,null,null,null,null,null,null,null,null,null,null,null,null,null,null,null,null,null,null,null,null,null,null,null,null,null,null,"Bottom Bead",{"$f":"(((Frame_Width-2.9375)*2)+((DDIM_1900-1.625)*2))/12","v":-0.76041666666666663},2.1000000000000001E-2,-1.596875E-2,null,"1720","Length","Weight/ft","Weight",null,null,null,{"$error":"#N/A"},0,{"$f":"IF(AND(AP203=36,$AN$4>=17,$AN$4<=22),AP203&\"B\",0)","v":{"$error":"#N/A"}},null,null,{"$error":"#N/A"},0,{"$f":"IF(AND(AU203=36,$AS$4>=17,$AS$4<=22),AU203&\"B\",0)","v":{"$error":"#N/A"}}]
[null,null,null,null,null,null,null,null,null,null,null,null,null,null,null,null,null,null,null,null,null,null,null,null,null,null,null,null,null,null,"Bottom=Sash",{"$f":"IF(OR(ModelNo=\"1900\",ModelNo=\"S140\",ModelNo=\"S144\",ModelNo=\"S146\"),SUM(AF195:AF203),0)","v":0},null,"Bottom Top Rail",{"$f":"(Frame_Width-2.4375)/12","v":-0.203125},0.221,{"$f":"AI204*AJ204","v":-4.4890625000000003E-2},null,null,null,{"$error":"#N/A"},0,{"$f":"IF(AND(AP204=36,$AN$4>=23,$AN$4<=27),AP204&\"C\",0)","v":{"$error":"#N/A"}},null,null,{"$error":"#N/A"},0,{"$f":"IF(AND(AU204=36,$AS$4>=23,$AS$4<=27),AU204&\"C\",0)","v":{"$error":"#N/A"}}]
[null,null,null,null,null,null,null,null,null,null,null,null,null,null,null,null,null,null,null,null,null,null,null,null,null,null,null,null,null,null,null,null,null,"Bottom Bottom Rail",{"$f":"(Frame_Width-2.4375)/12","v":-0.203125},0.19600000000000001,-3.9812500000000001E-2,null,null,null,{"$error":"#N/A"},0,{"$f":"IF(AND(AP205=36,$AN$4>=28,$AN$4<=32),AP205&\"D\",0)","v":{"$error":"#N/A"}},null,null,{"$error":"#N/A"},0,{"$f":"IF(AND(AU205=36,$AS$4>=28,$AS$4<=32),AU205&\"D\",0)","v":{"$error":"#N/A"}}]
[null,null,null,null,null,null,null,null,null,null,null,null,null,null,null,null,null,null,null,null,null,null,null,null,null,null,null,null,"1920","Length","Weight/ft","Weight",null,"Bottom Stile",{"$f":"((CDIM_1720-0.84375)*2)/12","v":-0.140625},0.19600000000000001,-2.75625E-2,null,null,null,{"$error":"#N/A"},0,{"$f":"IF(AND(AP206=36,$AN$4>=33,$AN$4<=34),AP206&\"E\",0)","v":{"$error":"#N/A"}},null,null,{"$error":"#N/A"},0,{"$f":"IF(AND(AU206=36,$AS$4>=33,$AS$4<=34),AU206&\"E\",0)","v":{"$error":"#N/A"}}]
[null,null,null,null,null,null,null,null,null,null,null,null,null,null,null,null,null,null,null,null,null,null,null,null,null,null,null,null,"Bottom Top Rail",{"$f":"(Frame_Width/2-2.4375)/12","v":-0.203125},0.221,{"$f":"AD207*AE207","v":-4.4890625000000003E-2},null,"Bottom Rail Reinf.",{"$f":"IF(STILE_REINF>0,(TRUNC((((Frame_Width/2-2.4375)-6.25)-0.5)/2)*2)/12,0)","v":0},0.13300000000000001,0,null,null,null,{"$error":"#N/A"},0,{"$f":"IF(AND(AP207=36,$AN$4>=35,$AN$4<=37),AP207&\"F\",0)","v":{"$error":"#N/A"}},null,null,{"$error":"#N/A"},0,{"$f":"IF(AND(AU207=36,$AS$4>=35,$AS$4<=37),AU207&\"F\",0)","v":{"$error":"#N/A"}}]
[null,null,null,null,null,null,null,null,null,null,null,null,null,null,null,null,null,null,null,null,null,null,null,null,null,null,null,null,"Bottom Bottom Rail",{"$f":"(Frame_Width/2-2.4375)/12","v":-0.203125},0.19600000000000001,-3.9812500000000001E-2,null,"Bottom Stile Reinf.",{"$f":"IF(STILE_REINF>0,(((((CDIM_1720-4.03125))/2)*2)/12)*2,0)","v":0},0.13300000000000001,0,null,null,null,{"$error":"#N/A"},0,{"$f":"IF(AND(AP208=36,$AN$4>=38,$AN$4<=40),AP208&\"G\",0)","v":{"$error":"#N/A"}},null,null,{"$error":"#N/A"},0,{"$f":"IF(AND(AU208=36,$AS$4>=38,$AS$4<=40),AU208&\"G\",0)","v":{"$error":"#N/A"}}]
[null,null,null,null,null,null,null,null,null,null,null,null,null,null,null,null,null,null,null,null,null,null,null,null,null,null,null,null,"Bottom Stile",{"$f":"((CDIM_1920-0.844)*2)/12","v":-0.14066666666666666},0.19600000000000001,-2.7570666666666667E-2,null,"Bottom Glass",{"$f":"(Data!D1303*Data!D1304)/144","v":5.3615993923611112E-2},{"$f":"$L$12","v":""},{"$error":"#VALUE!"},null,null,null,{"$error":"#N/A"},0,{"$f":"IF(AND(AP209=36,$AN$4>=41,$AN$4<=43),AP209&\"H\",0)","v":{"$error":"#N/A"}},null,null,{"$error":"#N/A"},0,{"$f":"IF(AND(AU209=36,$AS$4>=41,$AS$4<=43),AU209&\"H\",0)","v":{"$error":"#N/A"}}]
[null,null,null,null,null,null,null,null,null,null,null,null,null,null,null,null,null,null,null,null,null,null,null,null,null,null,null,null,"Bottom Rail Reinf.",{"$f":"IF(STILE_REINF>0,(TRUNC(((Frame_Width/2-8.9375)-0.5)/2)*2)/12,0)","v":0},0.13300000000000001,0,null,"Bottom Spacer",{"$f":"((Data!D1303*2)+(Data!D1304*2))/12","v":-0.96354166666666663},5.3600000000000002E-2,-5.1645833333333335E-2,null,null,null,{"$error":"#N/A"},0,{"$f":"IF(AND(AP210=36,$AN$4>=44,$AN$4<=45),AP210&\"I\",0)","v":{"$error":"#N/A"}},null,null,{"$error":"#N/A"},0,{"$f":"IF(AND(AU210=36,$AS$4>=44,$AS$4<=45),AU210&\"I\",0)","v":{"$error":"#N/A"}}]
[null,null,null,null,null,null,null,null,null,null,null,null,null,null,null,null,null,null,null,null,null,null,null,null,null,null,null,null,"Bottom Stile Reinf.",{"$f":"IF(STILE_REINF>0,(((((CDIM_1920-4.094))/2)*2)/12)*2,0)","v":0},0.13300000000000001,0,null,"Bottom Hardware",1,0.36,0.36,null,null,null,{"$error":"#N/A"},0,{"$f":"IF(AND(AP211=36,$AN$4>=46,$AN$4<=54),\"Dbl.\"&AP211&\"C\",0)","v":{"$error":"#N/A"}},null,null,{"$error":"#N/A"},0,{"$f":"IF(AND(AU211=36,$AS$4>=46,$AS$4<=54),\"Dbl.\"&AU211&\"C\",0)","v":{"$error":"#N/A"}}]
[null,null,null,null,null,null,null,null,null,null,null,null,null,null,null,null,null,null,null,null,null,null,null,null,null,null,null,null,"Bottom Glass",{"$f":"(Data!D1387*Data!D1388)/144","v":5.3615993923611112E-2},{"$f":"$L$12","v":""},{"$error":"#VALUE!"},null,"Bottom Bead",{"$f":"(((Data!D1371-0.75)*2)+((Data!D1372-0.781)*2))/12","v":-1.0676666666666665},2.1000000000000001E-2,-2.2421E-2,null,null,null,{"$error":"#N/A"},0,{"$f":"IF(AND(AP212=36,$AN$4>=55,$AN$4<=64),\"Dbl.\"&AP212&\"D\",0)","v":{"$error":"#N/A"}},null,null,{"$error":"#N/A"},0,{"$f":"IF(AND(AU212=36,$AS$4>=55,$AS$4<=64),\"Dbl.\"&AU212&\"D\",0)","v":{"$error":"#N/A"}}]
[null,null,null,null,null,null,null,null,null,null,null,null,null,null,null,null,null,null,null,null,null,null,null,null,null,null,null,null,"Bottom Spacer",{"$f":"((Data!D1387*2)+(Data!D1388*2))/12","v":-0.96354166666666663},5.3600000000000002E-2,-5.1645833333333335E-2,null,null,null,"Bottom=Sash",{"$f":"IF(ModelNo=\"1720\",SUM(AK204:AK212),0)","v":0},null,null,null,{"$error":"#N/A"},0,{"$f":"IF(AND(AP213=36,$AN$4>=65,$AN$4<=68),\"Dbl.\"&AP213&\"E\",0)","v":{"$error":"#N/A"}},null,null,{"$error":"#N/A"},0,{"$f":"IF(AND(AU213=36,$AS$4>=65,$AS$4<=68),\"Dbl.\"&AU213&\"E\",0)","v":{"$error":"#N/A"}}]
[null,null,null,null,null,null,null,null,null,null,null,null,null,null,null,null,null,null,null,null,null,null,null,null,null,null,null,null,"Bottom Hardware",1,0.36,0.36,null,null,null,null,null,null,null,null,{"$error":"#N/A"},0,{"$f":"IF(AND(AP214=36,$AN$4>=69,$AN$4<=74),\"Dbl.\"&AP214&\"F\",0)","v":{"$error":"#N/A"}},null,null,{"$error":"#N/A"},0,{"$f":"IF(AND(AU214=36,$AS$4>=69,$AS$4<=74),\"Dbl.\"&AU214&\"F\",0)","v":{"$error":"#N/A"}}]
[null,null,null,null,null,null,null,null,null,null,null,null,null,null,null,null,null,null,null,null,null,null,null,null,null,null,null,null,"Bottom Bead",{"$f":"(((Frame_Width/2-3.2)*2)+((DDIM_1920-1.625)*2))/12","v":-0.8041666666666667},2.1000000000000001E-2,-1.6887500000000003E-2,null,"1730","Length","Weight/ft","Weight",null,null,null,{"$error":"#N/A"},0,{"$f":"IF(AND(AP215=36,$AN$4>=75,$AN$4<=80),\"Dbl.\"&AP215&\"G\",0)","v":{"$error":"#N/A"}},null,null,{"$error":"#N/A"},0,{"$f":"IF(AND(AU215=36,$AS$4>=75,$AS$4<=80),\"Dbl.\"&AU215&\"G\",0)","v":{"$error":"#N/A"}}]
[null,null,null,null,null,null,null,null,null,null,null,null,null,null,null,null,null,null,null,null,null,null,null,null,null,null,null,null,null,null,"Bottom=Sash",{"$f":"IF(ModelNo=\"1920\",SUM(AF207:AF215),0)","v":0},null,"Bottom Top Rail",{"$f":"(Frame_Width/3-2.53125)/12","v":-0.2109375},0.221,{"$f":"AI216*AJ216","v":-4.6617187499999997E-2},null,null,null,{"$error":"#N/A"},{"$f":"IF(AND($AO$4<=38,$AO$4>36),38,0)","v":0},{"$f":"IF(AND(AP216=38,$AN$4>=11,$AN$4<=16),AP216&\"A\",0)","v":{"$error":"#N/A"}},null,null,{"$error":"#N/A"},{"$f":"IF(AND($AT$4<=38,$AT$4>36),38,0)","v":0},{"$f":"IF(AND(AU216=38,$AS$4>=11,$AS$4<=16),AU216&\"A\",0)","v":{"$error":"#N/A"}}]
[null,null,null,null,null,null,null,null,null,null,null,null,null,null,null,null,null,null,null,null,null,null,null,null,null,null,null,null,null,null,null,null,null,"Bottom Bottom Rail",{"$f":"(Frame_Width/3-2.53125)/12","v":-0.2109375},0.19600000000000001,-4.1343749999999999E-2,null,null,null,{"$error":"#N/A"},0,{"$f":"IF(AND(AP217=38,$AN$4>=17,$AN$4<=22),AP217&\"B\",0)","v":{"$error":"#N/A"}},null,null,{"$f":"IF(AND(AU217>0,AV217>0),AU217,0)","v":{"$error":"#N/A"}},0,{"$f":"IF(AND(AU217=38,$AS$4>=17,$AS$4<=22),AU217&\"B\",0)","v":{"$error":"#N/A"}}]
[null,null,null,null,null,null,null,null,null,null,null,null,null,null,null,null,null,null,null,null,null,null,null,null,null,null,null,null,"1930","Length","Weight/ft","Weight",null,"Bottom Stile",{"$f":"((CDIM_1730-0.84375)*2)/12","v":-0.140625},0.19600000000000001,-2.75625E-2,null,null,null,{"$error":"#N/A"},0,{"$f":"IF(AND(AP218=38,$AN$4>=23,$AN$4<=27),AP218&\"C\",0)","v":{"$error":"#N/A"}},null,null,{"$error":"#N/A"},0,{"$f":"IF(AND(AU218=38,$AS$4>=23,$AS$4<=27),AU218&\"C\",0)","v":{"$error":"#N/A"}}]
[null,null,null,null,null,null,null,null,null,null,null,null,null,null,null,null,null,null,null,null,null,null,null,null,null,null,null,null,"Bottom Top Rail",{"$f":"(Frame_Width/3-2.53125)/12","v":-0.2109375},0.221,{"$f":"AD219*AE219","v":-4.6617187499999997E-2},null,"Bottom Rail Reinf.",{"$f":"IF(STILE_REINF>0,(TRUNC((((Frame_Width/3-2.53125)-7)-0.5)/2)*2)/12,0)","v":0},0.13300000000000001,0,null,null,null,{"$error":"#N/A"},0,{"$f":"IF(AND(AP219=38,$AN$4>=28,$AN$4<=32),AP219&\"D\",0)","v":{"$error":"#N/A"}},null,null,{"$error":"#N/A"},0,{"$f":"IF(AND(AU219=38,$AS$4>=28,$AS$4<=32),AU219&\"D\",0)","v":{"$error":"#N/A"}}]
[null,null,null,null,null,null,null,null,null,null,null,null,null,null,null,null,null,null,null,null,null,null,null,null,null,null,null,null,"Bottom Bottom Rail",{"$f":"(Frame_Width/3-2.53125)/12","v":-0.2109375},0.19600000000000001,-4.1343749999999999E-2,null,"Bottom Stile Reinf.",{"$f":"IF(STILE_REINF>0,(((((CDIM_1730-4.03125))/2)*2)/12)*2,0)","v":0},0.13300000000000001,0,null,null,null,{"$error":"#N/A"},0,{"$f":"IF(AND(AP220=38,$AN$4>=33,$AN$4<=34),AP220&\"E\",0)","v":{"$error":"#N/A"}},null,null,{"$error":"#N/A"},0,{"$f":"IF(AND(AU220=38,$AS$4>=33,$AS$4<=34),AU220&\"E\",0)","v":{"$error":"#N/A"}}]
[null,null,null,null,null,null,null,null,null,null,null,null,null,null,null,null,null,null,null,null,null,null,null,null,null,null,null,null,"Bottom Stile",{"$f":"((CDIM_1930-0.844)*2)/12","v":-0.14066666666666666},0.19600000000000001,-2.7570666666666667E-2,null,"Bottom Glass",{"$f":"(Data!D1317*Data!D1318)/144","v":5.5433485243055552E-2},{"$f":"$L$12","v":""},{"$error":"#VALUE!"},null,null,null,{"$error":"#N/A"},0,{"$f":"IF(AND(AP221=38,$AN$4>=35,$AN$4<=37),AP221&\"F\",0)","v":{"$error":"#N/A"}},null,null,{"$error":"#N/A"},0,{"$f":"IF(AND(AU221=38,$AS$4>=35,$AS$4<=37),AU221&\"F\",0)","v":{"$error":"#N/A"}}]
[null,null,null,null,null,null,null,null,null,null,null,null,null,null,null,null,null,null,null,null,null,null,null,null,null,null,null,null,"Bottom Rail Reinf.",{"$f":"IF(STILE_REINF>0,(TRUNC(((Frame_Width/3-8.9375)-0.5)/2)*2)/12,0)","v":0},0.13300000000000001,0,null,"Bottom Spacer",{"$f":"((Data!D1317*2)+(Data!D1318*2))/12","v":-0.984375},5.3600000000000002E-2,-5.2762500000000004E-2,null,null,null,{"$error":"#N/A"},0,{"$f":"IF(AND(AP222=38,$AN$4>=38,$AN$4<=40),AP222&\"G\",0)","v":{"$error":"#N/A"}},null,null,{"$error":"#N/A"},0,{"$f":"IF(AND(AU222=38,$AS$4>=38,$AS$4<=40),AU222&\"G\",0)","v":{"$error":"#N/A"}}]
[null,null,null,null,null,null,null,null,null,null,null,null,null,null,null,null,null,null,null,null,null,null,null,null,null,null,null,null,"Bottom Stile Reinf.",{"$f":"IF(STILE_REINF>0,(((((CDIM_1930-4.094))/2)*2)/12)*2,0)","v":0},0.13300000000000001,0,null,"Bottom Hardware",1,0.36,0.36,null,null,null,{"$error":"#N/A"},0,{"$f":"IF(AND(AP223=38,$AN$4>=41,$AN$4<=43),AP223&\"H\",0)","v":{"$error":"#N/A"}},null,null,{"$error":"#N/A"},0,{"$f":"IF(AND(AU223=38,$AS$4>=41,$AS$4<=43),AU223&\"H\",0)","v":{"$error":"#N/A"}}]
[null,null,null,null,null,null,null,null,null,null,null,null,null,null,null,null,null,null,null,null,null,null,null,null,null,null,null,null,"Bottom Glass",{"$f":"(Data!D1401*Data!D1402)/144","v":5.4979112413194448E-2},{"$f":"$L$12","v":""},{"$error":"#VALUE!"},null,"Bottom Bead",{"$f":"(((Data!D1385-0.75)*2)+((Data!D1386-0.781)*2))/12","v":-0.79162500000000013},2.1000000000000001E-2,-1.6624125000000003E-2,null,null,null,{"$error":"#N/A"},0,{"$f":"IF(AND(AP224=38,$AN$4>=44,$AN$4<=45),AP224&\"I\",0)","v":{"$error":"#N/A"}},null,null,{"$error":"#N/A"},0,{"$f":"IF(AND(AU224=38,$AS$4>=44,$AS$4<=45),AU224&\"I\",0)","v":{"$error":"#N/A"}}]
[null,null,null,null,null,null,null,null,null,null,null,null,null,null,null,null,null,null,null,null,null,null,null,null,null,null,null,null,"Bottom Spacer",{"$f":"((Data!D1401*2)+(Data!D1402*2))/12","v":-0.97916666666666663},5.3600000000000002E-2,-5.2483333333333333E-2,null,null,null,"Bottom=Sash",{"$f":"IF(ModelNo=\"1730\",SUM(AK216:AK224),0)","v":0},null,null,null,{"$error":"#N/A"},0,{"$f":"IF(AND(AP225=38,$AN$4>=46,$AN$4<=54),\"Dbl.\"&AP225&\"C\",0)","v":{"$error":"#N/A"}},null,null,{"$error":"#N/A"},0,{"$f":"IF(AND(AU225=38,$AS$4>=46,$AS$4<=54),\"Dbl.\"&AU225&\"C\",0)","v":{"$error":"#N/A"}}]
[null,null,null,null,null,null,null,null,null,null,null,null,null,null,null,null,null,null,null,null,null,null,null,null,null,null,null,null,"Bottom Hardware",1,0.36,0.36,null,null,null,null,null,null,null,null,{"$error":"#N/A"},0,{"$f":"IF(AND(AP226=38,$AN$4>=55,$AN$4<=64),\"Dbl.\"&AP226&\"D\",0)","v":{"$error":"#N/A"}},null,null,{"$error":"#N/A"},0,{"$f":"IF(AND(AU226=38,$AS$4>=55,$AS$4<=64),\"Dbl.\"&AU226&\"D\",0)","v":{"$error":"#N/A"}}]
[null,null,null,null,null,null,null,null,null,null,null,null,null,null,null,null,null,null,null,null,null,null,null,null,null,null,null,null,"Bottom Bead",{"$f":"(((Frame_Width/3-3.281)*2)+((DDIM_1930-1.625)*2))/12","v":-0.81766666666666676},2.1000000000000001E-2,-1.7171000000000002E-2,null,"1901/1921/1931","Length","Weight/ft","Weight",null,null,null,{"$error":"#N/A"},0,{"$f":"IF(AND(AP227=38,$AN$4>=65,$AN$4<=68),\"Dbl.\"&AP227&\"E\",0)","v":{"$error":"#N/A"}},null,null,{"$error":"#N/A"},0,{"$f":"IF(AND(AU227=38,$AS$4>=65,$AS$4<=68),\"Dbl.\"&AU227&\"E\",0)","v":{"$error":"#N/A"}}]
[null,null,null,null,null,null,null,null,null,null,null,null,null,null,null,null,null,null,null,null,null,null,null,null,null,null,null,null,null,null,"Bottom=Sash",{"$f":"IF(ModelNo=\"1930\",SUM(AF219:AF227),0)","v":0},null,"Top Top Rail",{"$f":"IF(ModelNo=\"1901\",(Frame_Width-3.4375)/12,IF(ModelNo=\"1921\",(Frame_Width/2-3.6875)/12,IF(ModelNo=\"1931\",(Frame_Width/3-3.75)/12,0)))","v":0},0.20799999999999999,{"$f":"AI228*AJ228","v":0},null,null,null,{"$f":"IF(AND(AP228>0,AQ228>0),AP228,0)","v":{"$error":"#N/A"}},0,{"$f":"IF(AND(AP228=38,$AN$4>=69,$AN$4<=74),\"Dbl.\"&AP228&\"F\",0)","v":{"$error":"#N/A"}},null,null,{"$error":"#N/A"},0,{"$f":"IF(AND(AU228=38,$AS$4>=69,$AS$4<=74),\"Dbl.\"&AU228&\"F\",0)","v":{"$error":"#N/A"}}]
[null,null,null,null,null,null,null,null,null,null,null,null,null,null,null,null,null,null,null,null,null,null,null,null,null,null,null,null,null,null,null,null,null,"Top Bottom Rail",{"$f":"IF(ModelNo=\"1901\",(Frame_Width-3.4375)/12,IF(ModelNo=\"1921\",(Frame_Width/2-3.6875)/12,IF(ModelNo=\"1931\",(Frame_Width/3-3.75)/12,0)))","v":0},0.23799999999999999,0,null,null,null,{"$f":"IF(AND(AP229>0,AQ229>0),AP229,0)","v":{"$error":"#N/A"}},0,{"$f":"IF(AND(AP229=38,$AN$4>=75,$AN$4<=80),\"Dbl.\"&AP229&\"G\",0)","v":{"$error":"#N/A"}},null,null,{"$error":"#N/A"},0,{"$f":"IF(AND(AU229=38,$AS$4>=75,$AS$4<=80),\"Dbl.\"&AU229&\"G\",0)","v":{"$error":"#N/A"}}]
[null,null,null,null,null,null,null,null,null,null,null,null,null,null,null,null,null,null,null,null,null,null,null,null,null,null,null,null,null,null,null,null,null,"Top Stile",{"$f":"(2*(CDIM_1901-0.90625))/12","v":-0.15104166666666666},0.19600000000000001,-2.9604166666666668E-2]
[null,null,null,null,null,null,null,null,null,null,null,null,null,null,null,null,null,null,null,null,null,null,null,null,null,null,null,null,null,null,null,null,null,"Top Rail Reinf.",{"$f":"IF(ModelNo=\"1901\",(Frame_Width-9.4375)/12,IF(ModelNo=\"1921\",(Frame_Width/2-9.6875)/12,IF(ModelNo=\"1931\",(Frame_Width/3-9.75)/12,0)))","v":0},0.10100000000000001,0]
[null,null,null,null,null,null,null,null,null,null,null,null,null,null,null,null,null,null,null,null,null,null,null,null,null,null,null,null,null,null,null,null,null,"Top Stile Reinf",{"$f":"IF(STILE_REINF>0,(((((DDIM_1901-11))/2)*2)/12)*2,0)","v":0},0.13300000000000001,0]
[null,null,null,null,null,null,null,null,null,null,null,null,null,null,null,null,null,null,null,null,null,null,null,null,null,null,null,null,null,null,null,null,null,"Top Glass",{"$f":"IF(ModelNo=\"1901\",(Data!D1417*Data!D1418)/144,IF(ModelNo=\"1921\",(Data!D1434*Data!D1435)/144,IF(ModelNo=\"1931\",(Data!D1451*Data!D1452)/144,0)))","v":0},{"$f":"$L$12","v":""},{"$error":"#VALUE!"}]
[null,null,null,null,null,null,null,null,null,null,null,null,null,null,null,null,null,null,null,null,null,null,null,null,null,null,null,null,null,null,null,null,null,"Top Spacer",{"$f":"IF(ModelNo=\"1901\",((Data!D1417*2)+(Data!D1418*2))/12,IF(ModelNo=\"1921\",((Data!D1434*2)+(Data!D1435*2))/12,IF(ModelNo=\"1931\",((Data!D1451*2)+(Data!D1452*2))/12,0)))","v":0},5.3600000000000002E-2,0]
[null,null,null,null,null,null,null,null,null,null,null,null,null,null,null,null,null,null,null,null,null,null,null,null,null,null,null,null,null,null,null,null,null,"Top Hardware",1,0.2,0.2]
[null,null,null,null,null,null,null,null,null,null,null,null,null,null,null,null,null,null,null,null,null,null,null,null,null,null,null,null,null,null,null,null,null,"Top Bead",{"$f":"(((Frame_Width-4.2)*2)+((DDIM_1901-1.75)*2))/12","v":-0.9916666666666667},2.1000000000000001E-2,-2.0825000000000003E-2]
[null,null,null,null,null,null,null,null,null,null,null,null,null,null,null,null,null,null,null,null,null,null,null,null,null,null,null,null,null,null,null,null,null,"Bottom Top Rail",{"$f":"IF(ModelNo=\"1901\",(Frame_Width-2.1875)/12,IF(ModelNo=\"1921\",(Frame_Width/2-2.4375)/12,IF(ModelNo=\"1931\",(Frame_Width/3-2.5)/12,0)))","v":0},0.221,0]
[null,null,null,null,null,null,null,null,null,null,null,null,null,null,null,null,null,null,null,null,null,null,null,null,null,null,null,null,null,null,null,null,null,"Bottom Bottom Rail",{"$f":"IF(ModelNo=\"1901\",(Frame_Width-2.1875)/12,IF(ModelNo=\"1921\",(Frame_Width/2-2.4375)/12,IF(ModelNo=\"1931\",(Frame_Width/3-2.5)/12,0)))","v":0},0.19600000000000001,0]
[null,null,null,null,null,null,null,null,null,null,null,null,null,null,null,null,null,null,null,null,null,null,null,null,null,null,null,null,null,null,null,null,null,"Bottom Stile",{"$f":"(2*(CDIM_1901-0.90625))/12","v":-0.15104166666666666},0.19600000000000001,-2.9604166666666668E-2]
[null,null,null,null,null,null,null,null,null,null,null,null,null,null,null,null,null,null,null,null,null,null,null,null,null,null,null,null,null,null,null,null,null,"DS_Bott Rail Reinf.",{"$f":"IF(AND(ModelNo=\"1901\",STILE_REINF>0),(Frame_Width-8.4375)/12,IF(AND(ModelNo=\"1921\",STILE_REINF>0),(Frame_Width/2-8.6875)/12,IF(AND(ModelNo=\"1931\",STILE_REINF>0),(Frame_Width/3-8.75)/12,0)))","v":0},0.13300000000000001,0]
[null,null,null,null,null,null,null,null,null,null,null,null,null,null,null,null,null,null,null,null,null,null,null,null,null,null,null,null,null,null,null,null,null,"Bottom Stile Reinf.",{"$f":"IF(STILE_REINF>0,(((((CDIM_1901-4.25))/2)*2)/12)*2,0)","v":0},0.13300000000000001,0]
[null,null,null,null,null,null,null,null,null,null,null,null,null,null,null,null,null,null,null,null,null,null,null,null,null,null,null,null,null,null,null,null,null,"Bottom Glass",{"$f":"IF(ModelNo=\"1901\",(Data!D1419*Data!D1420)/144,IF(ModelNo=\"1921\",(Data!D1436*Data!D1437)/144,IF(ModelNo=\"1931\",(Data!D1453*Data!D1454)/144,0)))","v":0},{"$f":"$L$12","v":""},{"$error":"#VALUE!"},null,{"$f":"IF(ModelNo=\"1901\",(Data!D1419*Data!D1420)/144,IF(ModelNo=\"1921\",(Data!D1436*Data!D1437)/144,IF(ModelNo=\"1931\",(Data!D1453*Data!D1454)/144,0)))","v":0}]
[null,null,null,null,null,null,null,null,null,null,null,null,null,null,null,null,null,null,null,null,null,null,null,null,null,null,null,null,null,null,null,null,null,"Bottom Spacer",{"$f":"IF(ModelNo=\"1901\",((Data!D1419*2)+(Data!D1420*2))/12,IF(ModelNo=\"1921\",((Data!D1436*2)+(Data!D1437*2))/12,IF(ModelNo=\"1931\",((Data!D1453*2)+(Data!D1454*2))/12,0)))","v":0},5.3600000000000002E-2,0,null,{"$f":"IF(ModelNo=\"1901\",((Data!D1419*2)+(Data!D1420*2))/12,IF(ModelNo=\"1921\",((Data!D1436*2)+(Data!D1437*2))/12,IF(ModelNo=\"1931\",((Data!D1453*2)+(Data!D1454*2))/12,0)))","v":0}]
[null,null,null,null,null,null,null,null,null,null,null,null,null,null,null,null,null,null,null,null,null,null,null,null,null,null,null,null,null,null,null,null,null,"Bottom Hardware",1,0.36,0.36]
[null,null,null,null,null,null,null,null,null,null,null,null,null,null,null,null,null,null,null,null,null,null,null,null,null,null,null,null,null,null,null,null,null,"Bottom Bead",{"$f":"(((Frame_Width-2.95)*2)+((CDIM_1901-1.75)*2))/12","v":-0.78333333333333333},2.1000000000000001E-2,-1.6449999999999999E-2]
[null,null,null,null,null,null,null,null,null,null,null,null,null,null,null,null,null,null,null,null,null,null,null,null,null,null,null,null,null,null,null,null,null,null,null,"Top=Sash",{"$f":"IF(OR(ModelNo=\"1901\",ModelNo=\"1921\",ModelNo=\"1931\"),(SUM(AK228:AK236))+3,0)","v":0}]
[null,null,null,null,null,null,null,null,null,null,null,null,null,null,null,null,null,null,null,null,null,null,null,null,null,null,null,null,null,null,null,null,null,null,null,"Bottom=Sash",{"$f":"IF(OR(ModelNo=\"1901\",ModelNo=\"1921\",ModelNo=\"1931\"),SUM(AK237:AK245),0)","v":0}]

{"sheet":"CMR","index":2,"n_rows":205,"n_cols":50,"rows_kept":205,"cut":false,"hidden":true,"merged":[[65,11,65,12],[97,11,97,12],[65,18,65,19],[73,15,73,16],[74,15,74,16],[76,15,76,17],[77,15,77,17],[78,15,78,17],[79,15,79,17],[94,15,94,17],[95,15,95,17],[89,15,89,16],[90,15,90,16],[92,15,92,17],[93,15,93,17],[81,18,81,19],[99,8,99,9],[101,8,101,10],[90,8,90,9],[92,8,92,10],[94,8,94,10],[95,8,95,10],[127,8,127,10],[128,8,128,10],[195,11,195,12],[106,11,106,12],[171,11,171,12],[183,11,183,12],[129,8,129,10],[123,8,123,9],[124,8,124,9],[126,8,126,10],[118,8,118,10],[119,8,119,10],[120,8,120,10],[102,8,102,10],[114,8,114,9],[115,8,115,9],[117,8,117,10],[103,8,103,10],[47,15,47,17],[49,18,49,19],[57,15,57,16],[58,15,58,16],[60,15,60,17],[61,15,61,17],[62,15,62,17],[63,15,63,17],[49,11,49,12],[104,8,104,10],[98,8,98,9],[42,15,42,16],[42,1,42,2],[44,1,44,3],[45,1,45,3],[44,15,44,17],[45,15,45,17],[46,15,46,17],[58,1,58,2],[60,1,60,3],[62,8,62,10],[63,8,63,10],[58,8,58,9],[81,4,81,5],[89,1,89,2],[90,1,90,2],[92,1,92,3],[79,1,79,3],[79,8,79,10],[81,11,81,12],[89,8,89,9],[93,8,93,10],[93,1,93,3],[33,18,33,19],[41,15,41,16],[17,18,17,19],[28,1,28,3],[29,1,29,3],[33,11,33,12],[41,8,41,9],[25,15,25,16],[9,15,9,16],[10,15,10,16],[26,15,26,16],[28,15,28,17],[29,15,29,17],[30,15,30,17],[31,15,31,17],[17,11,17,12],[28,8,28,10],[29,8,29,10],[9,1,9,2],[10,1,10,2],[30,1,30,3],[31,1,31,3],[25,1,25,2],[26,1,26,2],[12,1,12,3],[13,1,13,3],[14,1,14,3],[15,1,15,3],[41,1,41,2],[46,1,46,3],[47,1,47,3],[57,1,57,2],[1,11,1,12],[9,8,9,9],[10,8,10,9],[12,8,12,10],[49,4,49,5],[57,8,57,9],[25,8,25,9],[47,8,47,10],[1,4,1,5],[17,4,17,5],[33,4,33,5],[42,8,42,9],[44,8,44,10],[45,8,45,10],[46,8,46,10],[13,8,13,10],[30,8,30,10],[31,8,31,10],[14,8,14,10],[15,8,15,10],[26,8,26,9],[78,1,78,3],[78,8,78,10],[60,8,60,10],[61,8,61,10],[73,1,73,2],[73,8,73,9],[74,1,74,2],[74,8,74,9],[65,4,65,5],[61,1,61,3],[76,1,76,3],[76,8,76,10],[77,1,77,3],[77,8,77,10],[62,1,62,3],[63,1,63,3],[94,1,94,3],[95,1,95,3],[104,1,104,3],[105,1,105,3],[97,3,97,4],[102,1,102,3],[103,1,103,3],[99,1,99,2],[107,4,107,5],[100,1,100,2],[115,1,115,2],[116,1,116,2],[118,1,118,3],[119,1,119,3],[120,1,120,3],[121,1,121,3],[137,1,137,3],[123,4,123,5],[131,1,131,2],[132,1,132,2],[134,1,134,3],[135,1,135,3],[136,1,136,3]]}
[]
[null,null,"W",null,"0100 / 0700",null,null,null,null,"W",null,"S140, S144, S146",null,null,null,null,null,null,null,"SashW","SashH","GlassW","GlassH","Radius","Weight",null,null,null,null,null,null,null,null,null,null,null,null,null,null,null,null,"1700","1720","1730","1900","1920","1930","1901","1921","1931"]
[null,null,{"$f":"IF(TYPE=1,$C$2,IF(TYPE= \"\",$C$2,\" \"))","v":"W"},1,{"$f":"Frame_Height/2","v":0},{"$f":"TRUNC($E$3*16+0.5)/16","v":0},null,null,null,{"$f":"IF(TYPE=1,$J$2,IF(TYPE= \"\",$J$2,\" \"))","v":"W"},1,{"$f":"Frame_Height/2-CMRD","v":6},{"$f":"TRUNC($L$3*16+0.5)/16","v":6},null,null,"Frame Cut Leg",{"$f":"LEG+6","v":6},null,2,{"$f":"Frame_Width-3.125","v":-3.125},{"$f":"CDIMS140-1.125","v":-1.125},{"$f":"T3-1.6875","v":-4.8125},{"$f":"U3-1.625","v":-2.75},12.5,{"$f":"BSW03A0","v":0},null,null,null,null,null,null,null,null,null,null,null,null,null,null,null,"TGW",{"$f":"IF(AD20>40.5,1,0)","v":0},{"$f":"IF(AD21>40.25,1,0)","v":0},{"$f":"IF(AD22>25.5,1,0)","v":0},{"$f":"IF(AD23>40.5,1,0)","v":0},{"$f":"IF(AD24>40.25,1,0)","v":0},{"$f":"IF(AD25>25.5,1,0)","v":0},{"$f":"IF(AD26>39.25,1,0)","v":0},{"$f":"IF(AD27>39,1,0)","v":0},{"$f":"IF(AD28>30.9375,1,0)","v":0}]
[null,null,{"$f":"IF(TYPE=5,$C$2,IF(TYPE=2,IF(Frame_Height>=54.5,IF(Frame_Height<72.5,$C$2,\"\"),\"\"),\"\"))","v":""},2,{"$f":"CEILING(((Frame_Height/5-0.093)*3-0.03125),0.0625)","v":-0.25},{"$f":"TRUNC($E4*16+0.5)/16","v":-0.1875},5,null,null,{"$f":"IF(TYPE=5,$J$2,IF(TYPE=2,IF(Frame_Height>=54.5,IF(Frame_Height<72.5,$J$2,\"\"),\"\"),\"\"))","v":""},2,{"$f":"CEILING(((Frame_Height/3-0.22)*2-0.03125),0.0625)-CMRD","v":5.5625},{"$f":"TRUNC($L$4*16+0.5)/16","v":5.5625},5,null,"CMRD",{"$f":"Frame_Height-Q3","v":-6},null,3,{"$f":"Frame_Width-3.125","v":-3.125},{"$f":"CDIMS140-1.125","v":-1.125},{"$f":"T4-1.6875","v":-4.8125},{"$f":"U4-1.625","v":-2.75},13,{"$f":"BSW03A0","v":0},null,"Model","TSW","TSH","TGW","TGH","TGSF","BSW","BSH","BGW","BGH","BGSF",null,null,null,"TGH",{"$f":"IF(AE20>35.34375,1,0)","v":0},{"$f":"IF(AE21>35.34375,1,0)","v":0},{"$f":"IF(AE22>35.34375,1,0)","v":0},{"$f":"IF(AE23>35.34375,1,0)","v":0},{"$f":"IF(AE24>35.34375,1,0)","v":0},{"$f":"IF(AE25>35.34375,1,0)","v":0},{"$f":"IF(AE26>35.1875,1,0)","v":0},{"$f":"IF(AE27>35.1875,1,0)","v":0},{"$f":"IF(AE28>35.1875,1,0)","v":0}]
[null,null,{"$f":"IF(TYPE=6,$C$2,IF(AND(TYPE=2,OR(Frame_Height<54.5,Frame_Height>=72.5)),$C$2,\"\"))","v":""},null,{"$f":"TRUNC((Frame_Height/3-0.22)*32+0.5)/16","v":-0.375},{"$f":"TRUNC($E$5*16+0.5)/16","v":-0.3125},6,null,null,{"$f":"IF(TYPE=6,$J$2,IF(AND(TYPE=2,OR(Frame_Height<54.5,Frame_Height>=72.5)),$J$2,\"\"))","v":""},null,{"$f":"TRUNC((Frame_Height/5-0.093)*32+0.5)/16-CMRD","v":5.875},{"$f":"TRUNC($L$5*16+0.5)/16","v":5.875},6,null,"Sash Cut back",{"$f":"IF(OR(EXTSELECT=2,EXTSELECT=3),3.125,IF(OR(EXTSELECT=4,EXTSELECT=5),2.3125,IF(EXTSELECT=6,2.25,0)))","v":0},null,4,{"$f":"Frame_Width-2.3125","v":-2.3125},{"$f":"CDIMS140+0.125","v":0.125},{"$f":"Frame_Width-4","v":-4},{"$f":"CDIMS140-1.5625","v":-1.5625},10,{"$f":"Balance!AF23","v":0},null,"0100",null,null,null,null,null,{"$f":"Data!D2","v":-2.3125},{"$f":"Data!D3","v":0.125},{"$f":"Data!D4","v":-3.9375},{"$f":"Data!D5","v":-1.5},{"$f":"(AI5*AJ5)/144","v":4.1015625E-2},null,null,null,"BGW",{"$f":"IF(AI20>40.5,1,0)","v":0},{"$f":"IF(AI21>40.25,1,0)","v":0},{"$f":"IF(AI22>25.46875,1,0)","v":0},{"$f":"IF(AI23>40.5,1,0)","v":0},{"$f":"IF(AI24>40.25,1,0)","v":0},{"$f":"IF(AI25>25.5,1,0)","v":0},{"$f":"IF(AG26>40.5,1,0)","v":0},{"$f":"IF(AI27>40.25,1,0)","v":0},{"$f":"IF(AI28>32.1875,1,0)","v":0}]
[null,null,{"$f":"IF(TYPE=7,$C$2,IF(TYPE=3,IF(Frame_Height>=54.5,IF(Frame_Height<72.5,$C$2,\"\"),\"\"),\"\"))","v":""},3,{"$f":"TRUNC((Frame_Height/5+0.156)*32+0.5)/16","v":0.3125},{"$f":"TRUNC($E$6*16+0.5)/16","v":0.3125},7,null,null,{"$f":"IF(TYPE=7,$J$2,IF(TYPE=3,IF(Frame_Height>=54.5,IF(Frame_Height<72.5,$J$2,\"\"),\"\"),\"\"))","v":""},3,{"$f":"TRUNC((Frame_Height/3+0.44)*32+0.5)/16-CMRD","v":6.875},{"$f":"TRUNC($L$6*16+0.5)/16","v":6.875},7,null,null,null,null,5,{"$f":"Frame_Width-2.3125","v":-2.3125},{"$f":"CDIMS140+0.125","v":0.125},{"$f":"Frame_Width-4","v":-4},{"$f":"CDIMS140-1.5625","v":-1.5625},10,{"$f":"Balance!AF23","v":0},null,"01HP",null,null,null,null,null,{"$f":"Data!D17","v":-2.3125},{"$f":"Data!D18","v":0.125},{"$f":"Data!D19","v":-3.9375},{"$f":"Data!D20","v":-1.5},4.1015625E-2,null,null,null,"BGH",{"$f":"IF(AJ20>35.34375,1,0)","v":0},{"$f":"IF(AJ21>35.34375,1,0)","v":0},{"$f":"IF(AJ22>35.34375,1,0)","v":0},{"$f":"IF(AJ23>35.3125,1,0)","v":0},{"$f":"IF(AJ24>35.34375,1,0)","v":0},{"$f":"IF(AJ25>35.3125,1,0)","v":0},{"$f":"IF(AJ26>35.1875,1,0)","v":0},{"$f":"IF(AJ27>35.1875,1,0)","v":0},{"$f":"IF(AJ28>35.1875,1,0)","v":0}]
[null,null,{"$f":"IF(TYPE=8,$C$2,IF(AND(TYPE=3,OR(Frame_Height<54.5,Frame_Height>=72.5)),$C$2,\"\"))","v":""},null,{"$f":"TRUNC((Frame_Height/3+0.44)*16+0.5)/16","v":0.4375},{"$f":"TRUNC($E$7*16+0.5)/16","v":0.4375},8,null,null,{"$f":"IF(TYPE=8,$J$2,IF(AND(TYPE=3,OR(Frame_Height<54.5,Frame_Height>=72.5)),$J$2,\"\"))","v":""},null,{"$f":"TRUNC((Frame_Height/5+0.156)*16+0.5)/16-CMRD","v":6.125},{"$f":"TRUNC($L$7*16+0.5)/16","v":6.125},8,null,null,null,null,6,{"$f":"Frame_Width-2.25","v":-2.25},{"$f":"CDIMS140-0.75","v":-0.75},{"$f":"Frame_Width-3.9375","v":-3.9375},{"$f":"CDIMS140-2.4375","v":-2.4375},11.75,{"$f":"Balance!AF67","v":0},null,"0301",{"$f":"Data!D325","v":-3.25},{"$f":"Data!D326","v":-1.625},{"$f":"Data!D329","v":-4.875},{"$f":"Data!D330","v":-3.25},{"$f":"(AD7*AE7)/144","v":0.11002604166666667},{"$f":"Data!D327","v":-2.25},{"$f":"Data!D328","v":-0.625},{"$f":"Data!D331","v":-3.875},{"$f":"Data!D332","v":-2.25},6.0546875E-2,null,null,null,null,{"$f":"MAX(AP3:AP6)","v":0},0,0,0,0,0,0,0,0]
[null,null,{"$f":"IF(TYPE=4,$C$2,\"\")","v":""},4,{"$f":"CMR","v":0},{"$f":"TRUNC($E$8*16+0.5)/16","v":0},null,null,null,{"$f":"IF(TYPE=4,$J$2,\"\")","v":""},4,{"$f":"CMR-CMRD","v":6},{"$f":"TRUNC($L$8*16+0.5)/16","v":6},null,null,null,null,null,7,{"$f":"Frame_Width-2.1875","v":-2.1875},{"$f":"CDIMS140-0.84375","v":-0.84375},{"$f":"T8-1.3125","v":-3.5},{"$f":"U8-1.3125","v":-2.15625},12,{"$f":"Balance!AK201","v":0},null,"0501",{"$f":"Data!D404","v":-4.25},{"$f":"Data!D405","v":-2.25},{"$f":"Data!D408","v":-6.0625},{"$f":"Data!D409","v":-4.0625},{"$f":"(AD8*AE8)/144","v":0.17103407118055555},{"$f":"Data!D406","v":-3.25},{"$f":"Data!D407","v":-1.25},{"$f":"Data!D410","v":-6.0625},{"$f":"Data!D411","v":-4.0625},0.17103407118055555,null,null,"Stile Reinf. Driver >>",{"$f":"MAX(AP8:AX8,AO9,AO10)","v":0},{"$f":"IF(ModelNo=1700,HLOOKUP(Model_Select,REINF_CHART,6,FALSE),0)","v":0},{"$f":"IF(ModelNo=1720,HLOOKUP(Model_Select,REINF_CHART,6,FALSE),0)","v":0},{"$f":"IF(ModelNo=1730,HLOOKUP(Model_Select,REINF_CHART,6,FALSE),0)","v":0},{"$f":"IF(ModelNo=1900,HLOOKUP(Model_Select,REINF_CHART,6,FALSE),0)","v":0},{"$f":"IF(ModelNo=1920,HLOOKUP(Model_Select,REINF_CHART,6,FALSE),0)","v":0},{"$f":"IF(ModelNo=1930,HLOOKUP(Model_Select,REINF_CHART,6,FALSE),0)","v":0},{"$f":"IF(ModelNo=1901,HLOOKUP(Model_Select,REINF_CHART,6,FALSE),0)","v":0},{"$f":"IF(ModelNo=1921,HLOOKUP(Model_Select,REINF_CHART,6,FALSE),0)","v":0},{"$f":"IF(ModelNo=1931,HLOOKUP(Model_Select,REINF_CHART,6,FALSE),0)","v":0}]
[null,null,null,null,null,null,null,null,null,null,null,null,null,null,null,null,null,null,8,{"$f":"Frame_Width-2.1875","v":-2.1875},{"$f":"CDIMS140-1.03125","v":-1.03125},{"$f":"T9-1.3125","v":-3.5},{"$f":"U9-1.3125","v":-2.34375},12,{"$f":"Balance!AF204","v":0},null,"0601",{"$f":"Data!D500","v":-4.25},{"$f":"Data!D501","v":-1.9375},{"$f":"Data!D504","v":-6.0625},{"$f":"Data!D505","v":-3.75},{"$f":"(AD9*AE9)/144","v":0.15787760416666666},{"$f":"Data!D502","v":-3.25},{"$f":"Data!D503","v":-0.9375},{"$f":"Data!D506","v":-6.0625},{"$f":"Data!D507","v":-3.75},0.15787760416666666,null,null,"Oriel >>",{"$f":"IF(TYPE>1,1,0)","v":0}]
[null,"Dim.,\"D\"",null,"=",{"$f":"IF($C$3=$C$2,$F$3,IF($C$4=$C$2,$F$4,IF($C$5=$C$2,$F$5,IF($C$6=$C$2,$F$6,IF($C$7=$C$2,$F$7,IF($C$8=$C$2,$F$8,$F$3))))))","v":0},null,null,null,"Dim.,\"D\"",null,"=",{"$f":"IF($J$3=$J$2,$M$3,IF($J$4=$J$2,$M$4,IF($J$5=$J$2,$M$5,IF($J$6=$J$2,$M$6,IF($J$7=$J$2,$M$7,IF($J$8=$J$2,$M$8,$M$3))))))","v":6},null,null,null,null,null,null,null,{"$f":"VLOOKUP(EXTSELECT,$S$3:$Y$9,2,FALSE)","v":{"$error":"#N/A"}},{"$f":"VLOOKUP(EXTSELECT,$S$3:$Y$9,3,FALSE)","v":{"$error":"#N/A"}},{"$f":"VLOOKUP(EXTSELECT,$S$3:$Y$9,4,FALSE)","v":{"$error":"#N/A"}},{"$f":"VLOOKUP(EXTSELECT,$S$3:$Y$9,5,FALSE)","v":{"$error":"#N/A"}},{"$f":"VLOOKUP(EXTSELECT,$S$3:$Y$9,6,FALSE)","v":{"$error":"#N/A"}},{"$f":"VLOOKUP(EXTSELECT,$S$3:$Y$9,7,FALSE)","v":{"$error":"#N/A"}},null,"0700",null,null,null,null,null,{"$f":"Data!D522","v":-2.3125},{"$f":"Data!D523","v":0.125},{"$f":"Data!D524","v":-3.9375},{"$f":"Data!D525","v":-1.5},4.1015625E-2,null,null,"HP >>",{"$f":"IF(EXTTYPE=\"HP Package\",1,0)","v":0}]
[null,"Dim.,\"C\"",null,"=",{"$f":"Frame_Height-$E$10","v":0},null,null,null,"Dim.,\"C\"",null,"=",{"$f":"Q3-DDIMS140","v":0},null,null,null,null,null,null,null,null,null,null,null,null,null,null,"07HP",null,null,null,null,null,{"$f":"Data!D537","v":-2.3125},{"$f":"Data!D538","v":0.125},{"$f":"Data!D539","v":-3.9375},{"$f":"Data!D540","v":-1.5},4.1015625E-2]
[null,null,null,null,null,null,null,null,null,null,null,null,null,null,null,null,null,null,null,null,null,null,null,null,null,null,"i201",{"$f":"Data!D866","v":-3.25},{"$f":"Data!D867","v":-1.5625},{"$f":"Data!D870","v":-4.875},{"$f":"Data!D871","v":-3.15625},{"$f":"(AD12*AE12)/144","v":0.10685221354166667},{"$f":"Data!D868","v":-2.25},{"$f":"Data!D869","v":-0.5625},{"$f":"Data!D872","v":-3.875},{"$f":"Data!D873","v":-2.15625},5.8024088541666664E-2]
[null,"Top Glass Width",null,null,{"$f":"TRUNC((Frame_Width-2)*16+0.5)/16","v":-1.9375},null,null,null,"Top Glass Width",null,null,{"$f":"TRUNC((Frame_Width-2*EXT)*16+0.5)/16","v":0},"Glass R:",{"$f":"FrameR-EXT","v":{"$error":"#DIV/0!"}},"F",{"$f":"IF(Frame_Width>=(Frame_Height-LEG),2*(ASIN((EXT*2)/(2*N13))),2*(ASIN(((N13-(Frame_Width-2*EXT))*2)/(2*N13))))","v":{"$error":"#DIV/0!"}},null,null,null,null,null,null,null,null,null,null,"S140",null,null,null,null,null,{"$f":"IF(AND(Frame_Width>0,Frame_Height>0,LEG>0),BSW_S140,0)","v":0},{"$f":"IF(AND(Frame_Width>0,Frame_Height>0,LEG>0),BSH_S140,0)","v":0},{"$f":"IF(AND(Frame_Width>0,Frame_Height>0,LEG>0),BGW_S140,0)","v":0},{"$f":"IF(AND(Frame_Width>0,Frame_Height>0,LEG>0),BGH_S140,0)","v":0},{"$f":"IF(AND(Frame_Width>0,Frame_Height>0,LEG>0),(AI13*AJ13)/144,0)","v":0}]
[null,"Bottom Glass Width",null,null,{"$f":"TRUNC((Frame_Width-4)*16+0.5)/16","v":-3.9375},null,null,null,"Bottom Glass Width",null,null,{"$f":"IF(EXTSELECT=5,$L$30,IF(EXTSELECT=2,$E$136,TRUNC((Frame_Width-4)*16+0.5)/16))","v":-3.9375}," Glass h:",{"$f":"IF(ModelNo=\"S146\",N13-(SQRT((4*N13^2)-(L13*2+(2*EXT))^2))/2,N13-(SQRT((4*N13^2)-(L13)^2)/2))","v":{"$error":"#DIV/0!"}},"d",{"$f":"N13*COS(P13/2)","v":{"$error":"#DIV/0!"}},null,null,null,null,null,null,null,null,null,null,"S144",null,null,null,null,null,{"$f":"IF(AND(Frame_Width>0,Frame_Height>0,LEG>0),BSW_S140,0)","v":0},{"$f":"IF(AND(Frame_Width>0,Frame_Height>0,LEG>0),BSH_S140,0)","v":0},{"$f":"IF(AND(Frame_Width>0,Frame_Height>0,LEG>0),BGW_S140,0)","v":0},{"$f":"IF(AND(Frame_Width>0,Frame_Height>0,LEG>0),BGH_S140,0)","v":0},{"$f":"IF(AND(Frame_Width>0,Frame_Height>0,LEG>0),(AI14*AJ14)/144,0)","v":0}]
[null,"Top Glass Height",null,null,{"$f":"TRUNC(($E$10-1.9375)*16+0.5)/16","v":-1.875},null,null,null,"Top Glass Height",null,null,{"$f":"IF(ModelNo=\"S146\",Frame_Height-($L$11+$N$15+EXT+P15),Frame_Height-($L$11+N15+EXT))","v":-0.51370000000000005},null,{"$f":"IF(OR(EXTSELECT=4,EXTSELECT=5),0.9198,IF(OR(EXTSELECT=2,EXTSELECT=3),0.264,IF(OR(EXTSELECT=7,EXTSELECT=8),0.407,0.5137)))","v":0.51370000000000005},"h",{"$f":"N13-P14","v":{"$error":"#DIV/0!"}},null,null,null,null,null,null,null,null,null,null,"S146",null,null,null,null,null,{"$f":"IF(AND(Frame_Width>0,Frame_Height>0,LEG>0),BSW_S140,0)","v":0},{"$f":"IF(AND(Frame_Width>0,Frame_Height>0,LEG>0),BSH_S140,0)","v":0},{"$f":"IF(AND(Frame_Width>0,Frame_Height>0,LEG>0),BGW_S140,0)","v":0},{"$f":"IF(AND(Frame_Width>0,Frame_Height>0,LEG>0),BGH_S140,0)","v":0},{"$f":"IF(AND(Frame_Width>0,Frame_Height>0,LEG>0),(AI15*AJ15)/144,0)","v":0}]
[null,"Bottom Glass Height",null,null,{"$f":"TRUNC(($E$11-1.5625)*16+0.5)/16","v":-1.5},null,null,null,"Bottom Glass Height",null,null,{"$f":"IF(EXTSELECT=5,$L$32,IF(EXTSELECT=2,$E$138,TRUNC(($L$11-1.5625)*16+0.5)/16))","v":-1.5},"Top Glass Leg:",{"$f":"IF(ModelNo=\"S146\",L15-N14+P15,L15-N14)","v":{"$error":"#DIV/0!"}},null,{"$f":"IF(ModelNo=\"S146\",((Frame_Height-LEG)/2)+(((Frame_Width*2)^2)/(8*(Frame_Height-LEG))),((Frame_Height-LEG)/2)+((Frame_Width^2)/(8*(Frame_Height-LEG))))","v":{"$error":"#DIV/0!"}},null,null,null,null,null,null,null,null,null,null,"3100",null,null,null,null,null,{"$f":"Data!D823","v":-2.125},{"$f":"Data!D824","v":-0.34375},{"$f":"Data!D825","v":-4.75},{"$f":"Data!D826","v":-2.96875},9.7927517361111105E-2]
[null,null,null,null,null,null,null,null,null,null,null,null,null,null,null,null,null,null,null,null,null,null,null,null,null,null,"03A0",null,null,null,null,null,{"$f":"Data!D1178","v":-3.125},{"$f":"Data!D1179","v":-0.75},{"$f":"Data!D1180","v":-5.25},{"$f":"Data!D1181","v":-2.84375},0.10367838541666667]
[null,null,"W",null,"0201",null,null,null,null,"W",null,"02A0",null,null,null,null,null,null,null,null,null,null,null,null,null,null,"L201",{"$f":"Data!D1228","v":-3.25},{"$f":"Data!D1229","v":-1.5625},{"$f":"Data!D1232","v":-4.875},{"$f":"Data!D1233","v":-3.15625},{"$f":"(AD18*AE18)/144","v":0.10685221354166667},{"$f":"Data!D1230","v":-2.25},{"$f":"Data!D1231","v":-0.5625},{"$f":"Data!D1234","v":-3.875},{"$f":"Data!D1235","v":-2.15625},5.8024088541666664E-2]
[null,null,{"$f":"IF(TYPE=1,C18,IF(TYPE= \"\",C18,\" \"))","v":"W"},1,{"$f":"Frame_Height/2","v":0},{"$f":"TRUNC(E19*16+0.5)/16","v":0},null,null,null,{"$f":"IF(TYPE=1,$J$18,IF(TYPE= \"\",$J$18,\" \"))","v":"W"},1,{"$f":"Frame_Height/2","v":0},{"$f":"TRUNC($L$19*16+0.5)/16","v":0},null,null,null,null,null,null,null,null,null,null,null,null,null,"3001",{"$f":"Data!D1120","v":-4.125},{"$f":"Data!D1121","v":-1.4375},{"$f":"Data!D1124","v":-5.75},{"$f":"Data!D1125","v":-3.03125},0.12103949652777778,{"$f":"Data!D1122","v":-3.125},{"$f":"Data!D1123","v":-0.4375},{"$f":"Data!D1126","v":-5.25},{"$f":"Data!D1127","v":-2.53125},9.228515625E-2]
[null,null,{"$f":"IF(TYPE=5,C18,IF(TYPE=2,IF(Frame_Height>=54.5,IF(Frame_Height<72.5,C18,\"\"),\"\"),\"\"))","v":""},2,{"$f":"INT((Frame_Height/5)*48+0.5)/16","v":0},0,5,null,null,{"$f":"IF(TYPE=5,$J$18,IF(TYPE=2,IF(Frame_Height>=54.5,IF(Frame_Height<72.5,$J$18,\"\"),\"\"),\"\"))","v":""},2,{"$f":"INT((Frame_Height/5)*48+0.5)/16","v":0},{"$f":"TRUNC($L$20*16+0.5)/16","v":0},5,null,null,null,null,null,null,null,null,null,null,null,null,"1700",null,null,{"$f":"Data!D1249","v":-3.46875},{"$f":"Data!D1250","v":-2.125},5.1188151041666664E-2,{"$f":"Data!D1245","v":-2.15625},{"$f":"Data!D1246","v":-0.8125},{"$f":"Data!D1247","v":-3.46875},{"$f":"Data!D1248","v":-2.125},5.1188151041666664E-2]
[null,null,{"$f":"IF(TYPE=6,C18,IF(AND(TYPE=2,OR(Frame_Height<54.5,Frame_Height>=72.5)),C18,\"\"))","v":""},null,{"$f":"INT((Frame_Height/3-0.22)*32+0.5)/16","v":-0.4375},-0.375,6,null,null,{"$f":"IF(TYPE=6,$J$18,IF(AND(TYPE=2,OR(Frame_Height<54.5,Frame_Height>=72.5)),$J$18,\"\"))","v":""},null,{"$f":"INT((Frame_Height/3-0.22)*32+0.5)/16","v":-0.4375},{"$f":"TRUNC($L$21*16+0.5)/16","v":-0.375},6,null,null,null,null,null,null,null,null,null,null,null,null,"1720",null,null,{"$f":"Data!D1305","v":-3.71875},{"$f":"Data!D1306","v":-2.125},5.4877387152777776E-2,{"$f":"Data!D1301","v":-2.40625},{"$f":"Data!D1302","v":-0.8125},{"$f":"Data!D1303","v":-3.6875},{"$f":"Data!D1304","v":-2.09375},5.3615993923611112E-2]
[null,null,{"$f":"IF(TYPE=7,C18,IF(TYPE=3,IF(Frame_Height>=54.5,IF(Frame_Height<72.5,C18,\"\"),\"\"),\"\"))","v":""},3,{"$f":"INT((Frame_Height/5+0.55)*32+0.5)/16","v":1.125},1.125,7,null,null,{"$f":"IF(TYPE=7,$J$18,IF(TYPE=3,IF(Frame_Height>=54.5,IF(Frame_Height<72.5,$J$18,\"\"),\"\"),\"\"))","v":""},3,{"$f":"INT((Frame_Height/5+0.55)*32+0.5)/16","v":1.125},{"$f":"TRUNC($L$22*16+0.5)/16","v":1.125},7,null,null,null,null,null,null,null,null,null,null,null,null,"1730",null,null,{"$f":"Data!D1319","v":-3.8125},{"$f":"Data!D1320","v":-2.125},5.6260850694444448E-2,{"$f":"Data!D1315","v":-2.5},{"$f":"Data!D1316","v":-0.8125},{"$f":"Data!D1317","v":-3.8125},{"$f":"Data!D1318","v":-2.09375},5.5433485243055552E-2]
[null,null,{"$f":"IF(TYPE=8,C18,IF(AND(TYPE=3,OR(Frame_Height<54.5,Frame_Height>=72.5)),C18,\"\"))","v":""},null,{"$f":"INT((Frame_Height/3+1.4)*16+0.5)/16","v":1.375},1.375,8,null,null,{"$f":"IF(TYPE=8,$J$18,IF(AND(TYPE=3,OR(Frame_Height<54.5,Frame_Height>=72.5)),$J$18,\"\"))","v":""},null,{"$f":"INT((Frame_Height/3+1.4)*16+0.5)/16","v":1.375},{"$f":"TRUNC($L$23*16+0.5)/16","v":1.375},8,null,null,null,null,null,null,null,null,null,null,null,null,"1900",null,null,{"$f":"Data!D1333","v":-3.46875},{"$f":"Data!D1334","v":-2.125},5.1188151041666664E-2,{"$f":"Data!D1329","v":-2.15625},{"$f":"Data!D1330","v":-0.8125},{"$f":"Data!D1331","v":-3.4375},{"$f":"Data!D1332","v":-2.09375},4.9981011284722224E-2]
[null,null,{"$f":"IF(TYPE=4,C18,\"\")","v":""},4,{"$f":"CMR","v":0},0,null,null,null,{"$f":"IF(TYPE=4,$J$18,\"\")","v":""},4,{"$f":"CMR","v":0},{"$f":"TRUNC($L$24*16+0.5)/16","v":0},null,null,null,null,null,null,null,null,null,null,null,null,null,"1920",null,null,{"$f":"Data!D1389","v":-3.71875},{"$f":"Data!D1390","v":-2.125},5.4877387152777776E-2,{"$f":"Data!D1385","v":-2.40625},{"$f":"Data!D1386","v":-0.8125},{"$f":"Data!D1387","v":-3.6875},{"$f":"Data!D1388","v":-2.09375},5.3615993923611112E-2]
[null,null,null,null,null,null,null,null,null,null,null,null,null,null,null,null,null,null,null,null,null,null,null,null,null,null,"1930",null,null,{"$f":"Data!D1403","v":-3.8125},{"$f":"Data!D1404","v":-2.125},5.6260850694444448E-2,{"$f":"Data!D1399","v":-2.5},{"$f":"Data!D1400","v":-0.8125},{"$f":"Data!D1401","v":-3.78125},{"$f":"Data!D1402","v":-2.09375},5.4979112413194448E-2]
[null,"Dim.,\"D\"",null,"=",{"$f":"TRUNC((IF(C19=C18,F19,IF(C20=C18,F20,IF(C21=C18,F21,IF(C22=C18,F22,IF(C23=C18,F23,IF(C24=C18,F24,F19)))))))*32+0.5)/32","v":0},null,null,null,"Dim.,\"D\"",null,"=",{"$f":"IF($J$19=$J$18,$M$19,IF($J$20=$J$18,$M$20,IF($J$21=$J$18,$M$21,IF($J$22=$J$18,$M$22,IF($J$23=$J$18,$M$23,IF($J$24=$J$18,$M$24,$M$19))))))","v":0},null,null,null,null,null,null,null,null,null,null,null,null,null,null,"1901",{"$f":"Data!D1413","v":-3.4375},{"$f":"Data!D1414","v":-0.90625},{"$f":"Data!D1417","v":-4.75},{"$f":"Data!D1418","v":-2.21875},7.3187934027777776E-2,{"$f":"Data!D1415","v":-2.1875},{"$f":"Data!D1416","v":-0.90625},{"$f":"Data!D1419","v":-3.5},{"$f":"Data!D1420","v":-2.21875},5.3927951388888888E-2]
[null,"Dim.,\"C\"",null,"=",{"$f":"TRUNC((Frame_Height-E26)*32+0.5)/32","v":0},null,null,null,"Dim.,\"C\"",null,"=",{"$f":"Frame_Height-$L$26","v":0},null,null,null,null,null,null,null,null,null,null,null,null,null,null,"1921",{"$f":"Data!D1430","v":-3.6875},{"$f":"Data!D1431","v":-0.90625},{"$f":"Data!D1434","v":-5},{"$f":"Data!D1435","v":-2.21875},7.7039930555555552E-2,{"$f":"Data!D1432","v":-2.4375},{"$f":"Data!D1433","v":-0.90625},{"$f":"Data!D1436","v":-3.75},{"$f":"Data!D1437","v":-2.21875},5.7779947916666664E-2]
[null,null,null,null,null,null,null,null,null,null,null,null,null,null,null,null,null,null,null,null,null,null,null,null,null,null,"1931",{"$f":"Data!D1447","v":-3.75},{"$f":"Data!D1448","v":-0.90625},{"$f":"Data!D1451","v":-5.0625},{"$f":"Data!D1452","v":-2.21875},7.80029296875E-2,{"$f":"Data!D1449","v":-2.5},{"$f":"Data!D1450","v":-0.90625},{"$f":"Data!D1453","v":-3.8125},{"$f":"Data!D1454","v":-2.21875},5.8742947048611112E-2]
[null,"Top Glass Width",null,null,{"$f":"TRUNC((Frame_Width-4.9375)*16+0.5)/16","v":-4.875},null,null,null,"Top Glass Width",null,null,{"$f":"TRUNC((Frame_Width-3.4375)*16+0.5)/16","v":-3.375},null,null,null,null,null,null,null,null,null,null,null,null,null,null,{"$f":"ModelNo","v":"Select Model"},{"$f":"VLOOKUP(ModelNo,ORL_LIMIT,2,FALSE)","v":{"$error":"#N/A"}},{"$f":"VLOOKUP(ModelNo,ORL_LIMIT,3,FALSE)","v":{"$error":"#N/A"}},{"$f":"VLOOKUP(ModelNo,ORL_LIMIT,4,FALSE)","v":{"$error":"#N/A"}},{"$f":"VLOOKUP(ModelNo,ORL_LIMIT,5,FALSE)","v":{"$error":"#N/A"}},{"$f":"VLOOKUP(ModelNo,ORL_LIMIT,6,FALSE)","v":{"$error":"#N/A"}},{"$f":"VLOOKUP(ModelNo,ORL_LIMIT,7,FALSE)","v":{"$error":"#N/A"}},{"$f":"VLOOKUP(ModelNo,ORL_LIMIT,8,FALSE)","v":{"$error":"#N/A"}},{"$f":"VLOOKUP(ModelNo,ORL_LIMIT,9,FALSE)","v":{"$error":"#N/A"}},{"$f":"VLOOKUP(ModelNo,ORL_LIMIT,10,FALSE)","v":{"$error":"#N/A"}},{"$f":"VLOOKUP(ModelNo,ORL_LIMIT,11,FALSE)","v":{"$error":"#N/A"}}]
[null,"Bottom Glass Width",null,null,{"$f":"TRUNC((Frame_Width-3.9375)*16+0.5)/16","v":-3.875},null,null,null,"Bottom Glass Width",null,null,{"$f":"TRUNC((Frame_Width-3.90625)*16+0.5)/16","v":-3.875},null,null,null,null,null,null,null,null,null,null,null,null,null,null,{"$f":"IF(OR(TSH>50,BSH>50),\"SH MUST BE < 50\",\"\")","v":{"$error":"#N/A"}}]
[null,"Top Glass Height",null,null,{"$f":"TRUNC((E26-3.1875)*32+0.5)/32","v":-3.15625},null,null,null,"Top Glass Height",null,null,{"$f":"TRUNC(($L$26-2.25)*16+0.5)/16","v":-2.1875},null,null,null,null,null,null,null,null,null,null,null,null,null,null,{"$f":"IF(AND(OR(Glass<4,Glass>5),OR(TGSF>15,BGSF>15)),\"GLASS MUST BE < 15 SF\",IF(AND(OR(Glass=4,Glass=5),OR(TGSF>11,BGSF>11)),\"GLASS MUST BE <11 SF\",\"\"))","v":{"$error":"#N/A"}}]
[null,"Bottom Glass Height",null,null,{"$f":"TRUNC((E27-2.1875)*32+0.5)/32","v":-2.15625},null,null,null,"Bottom Glass Height",null,null,{"$f":"TRUNC(($L$27-2.40625)*16+0.5)/16","v":-2.375}]
[]
[null,null,"W",null,"0301",null,null,null,null,"W",null,"0501"]
[null,null,{"$f":"IF(TYPE=1,$C34,IF(TYPE=\"\",$C34,\" \"))","v":"W"},1,{"$f":"Frame_Height/2","v":0},{"$f":"TRUNC($E35*16+0.5)/16","v":0},null,null,null,{"$f":"IF(TYPE=1,J34,IF(TYPE= \"\",J34,\" \"))","v":"W"},1,{"$f":"Frame_Height/2","v":0},{"$f":"TRUNC(L35*16+0.5)/16","v":0}]
[null,null,{"$f":"IF(TYPE=5,$C34,IF(TYPE=2,IF(Frame_Height>=54.5,IF(Frame_Height<72.5,$C34,\"\"),\"\"),\"\"))","v":""},2,{"$f":"INT((Frame_Height/5)*48+0.5)/16","v":0},0,5,null,null,{"$f":"IF(TYPE=5,J34,IF(TYPE=2,IF(Frame_Height>=54.5,IF(Frame_Height<72.5,J34,\"\"),\"\"),\"\"))","v":""},2,{"$f":"CEILING(((Frame_Height/5-0.24)*3-0.03125),0.0625)","v":-0.75},-0.6875,5]
[null,null,{"$f":"IF(TYPE=6,$C34,IF(AND(TYPE=2,OR(Frame_Height<54.5,Frame_Height>=72.5)),$C34,\"\"))","v":""},null,{"$f":"INT((Frame_Height/3-0.22)*32+0.5)/16","v":-0.4375},-0.375,6,null,null,{"$f":"IF(TYPE=6,J34,IF(AND(TYPE=2,OR(Frame_Height<54.5,Frame_Height>=72.5)),J34,\"\"))","v":""},null,{"$f":"TRUNC((Frame_Height/3-0.62)*32+0.5)/16","v":-1.1875},-1.125,6]
[null,null,{"$f":"IF(TYPE=7,$C34,IF(TYPE=3,IF(Frame_Height>=54.5,IF(Frame_Height<72.5,$C34,\"\"),\"\"),\"\"))","v":""},3,{"$f":"INT((Frame_Height/5+0.55)*32+0.5)/16","v":1.125},1.125,7,null,null,{"$f":"IF(TYPE=7,J34,IF(TYPE=3,IF(Frame_Height>=54.5,IF(Frame_Height<72.5,J34,\"\"),\"\"),\"\"))","v":""},3,{"$f":"TRUNC((Frame_Height/5+0.38)*32+0.5)/16","v":0.75},0.75,7]
[null,null,{"$f":"IF(TYPE=8,$C34,IF(AND(TYPE=3,OR(Frame_Height<54.5,Frame_Height>=72.5)),$C34,\"\"))","v":""},null,{"$f":"INT((Frame_Height/3+1.4)*16+0.5)/16","v":1.375},1.375,8,null,null,{"$f":"IF(TYPE=8,J34,IF(AND(TYPE=3,OR(Frame_Height<54.5,Frame_Height>=72.5)),J34,\"\"))","v":""},null,{"$f":"TRUNC((Frame_Height/3+1.3)*16+0.5)/16","v":1.3125},1.3125,8]
[null,null,{"$f":"IF(TYPE=4,$C34,\"\")","v":""},4,{"$f":"CMR","v":0},0,null,null,null,{"$f":"IF(TYPE=4,J34,\"\")","v":""},4,{"$f":"CMR","v":0},0]
[]
[null,"Dim.,\"D\"",null,"=",{"$f":"IF($C35=$C34,$F35,IF($C36=$C34,$F36,IF($C37=$C34,$F37,IF($C38=$C34,$F38,IF($C39=$C34,$F39,IF($C40=$C34,$F40))))))","v":0},null,null,null,"Dim.,\"D\"",null,"=",{"$f":"IF(J35=J34,M35,IF(J36=J34,M36,IF(J37=J34,M37,IF(J38=J34,M38,IF(J39=J34,M39,IF(J40=J34,M40,M35))))))","v":0}]
[null,"Dim.,\"C\"",null,"=",{"$f":"Frame_Height-$E42","v":0},null,null,null,"Dim.,\"C\"",null,"=",{"$f":"Frame_Height-L42","v":0}]
[]
[null,"Top Glass Width",null,null,{"$f":"TRUNC((Frame_Width-4.9375)*16+0.5)/16","v":-4.875},null,null,null,"Top Glass Width",null,null,{"$f":"TRUNC((Frame_Width-6.125)*16+0.5)/16","v":-6.0625}]
[null,"Bottom Glass Width",null,null,{"$f":"TRUNC((Frame_Width-3.9375)*16+0.5)/16","v":-3.875},null,null,null,"Bottom Glass Width",null,null,{"$f":"TRUNC((Frame_Width-6.125)*16+0.5)/16","v":-6.0625}]
[null,"Top Glass Height",null,null,{"$f":"TRUNC(($E42-3.3125)*16+0.5)/16","v":-3.25},null,null,null,"Top Glass Height",null,null,{"$f":"TRUNC((L42-4.125)*16+0.5)/16","v":-4.0625}]
[null,"Bottom Glass Height",null,null,{"$f":"TRUNC(($E43-2.3125)*16+0.5)/16","v":-2.25},null,null,null,"Bottom Glass Height",null,null,{"$f":"TRUNC((L43-4.125)*16+0.5)/16","v":-4.0625}]
[]
[null,null,"W",null,"0401",null,null,null,null,"W",null,"0601"]
[null,null,{"$f":"IF(TYPE=1,C50,IF(TYPE= \"\",C50,\" \"))","v":"W"},1,{"$f":"Frame_Height/2","v":0},{"$f":"TRUNC(E51*16+0.5)/16","v":0},null,null,null,{"$f":"IF(TYPE=1,J50,IF(TYPE= \"\",J50,\" \"))","v":"W"},1,{"$f":"Frame_Height/2","v":0},{"$f":"TRUNC(L51*16+0.5)/16","v":0}]
[null,null,{"$f":"IF(TYPE=5,C50,IF(TYPE=2,IF(Frame_Height>=54.5,IF(Frame_Height<72.5,C50,\"\"),\"\"),\"\"))","v":""},2,{"$f":"CEILING(((Frame_Height/5-0.2)*3-0.03125),0.0625)","v":-0.625},-0.5625,5,null,null,{"$f":"IF(TYPE=5,J50,IF(TYPE=2,IF(Frame_Height>=54.5,IF(Frame_Height<72.5,J50,\"\"),\"\"),\"\"))","v":""},2,{"$f":"CEILING(((Frame_Height/5-0.24)*3-0.03125),0.0625)","v":-0.75},-0.6875,5]
[null,null,{"$f":"IF(TYPE=6,C50,IF(AND(TYPE=2,OR(Frame_Height<54.5,Frame_Height>=72.5)),C50,\"\"))","v":""},null,{"$f":"TRUNC((Frame_Height/3-0.31)*32+0.5)/16","v":-0.5625},-0.5,6,null,null,{"$f":"IF(TYPE=6,J50,IF(AND(TYPE=2,OR(Frame_Height<54.5,Frame_Height>=72.5)),J50,\"\"))","v":""},null,{"$f":"TRUNC((Frame_Height/3-0.62)*32+0.5)/16","v":-1.1875},-1.125,6]
[null,null,{"$f":"IF(TYPE=7,C50,IF(TYPE=3,IF(Frame_Height>=54.5,IF(Frame_Height<72.5,C50,\"\"),\"\"),\"\"))","v":""},3,{"$f":"TRUNC((Frame_Height/5+0.31)*32+0.5)/16","v":0.625},0.625,7,null,null,{"$f":"IF(TYPE=7,J50,IF(TYPE=3,IF(Frame_Height>=54.5,IF(Frame_Height<72.5,J50,\"\"),\"\"),\"\"))","v":""},3,{"$f":"TRUNC((Frame_Height/5+0.38)*32+0.5)/16","v":0.75},0.75,7]
[null,null,{"$f":"IF(TYPE=8,C50,IF(AND(TYPE=3,OR(Frame_Height<54.5,Frame_Height>=72.5)),C50,\"\"))","v":""},null,{"$f":"TRUNC((Frame_Height/3+0.65)*16+0.5)/16","v":0.625},0.625,8,null,null,{"$f":"IF(TYPE=8,J50,IF(AND(TYPE=3,OR(Frame_Height<54.5,Frame_Height>=72.5)),J50,\"\"))","v":""},null,{"$f":"TRUNC((Frame_Height/3+1.3)*16+0.5)/16","v":1.3125},1.3125,8]
[null,null,{"$f":"IF(TYPE=4,C50,\"\")","v":""},4,{"$f":"CMR","v":0},0,null,null,null,{"$f":"IF(TYPE=4,J50,\"\")","v":""},4,{"$f":"CMR","v":0},0]
[]
[null,"Dim.,\"D\"",null,"=",{"$f":"IF(C51=C50,F51,IF(C52=C50,F52,IF(C53=C50,F53,IF(C54=C50,F54,IF(C55=C50,F55,IF(C56=C50,F56,F51))))))","v":0},null,null,null,"Dim.,\"D\"",null,"=",{"$f":"IF(J51=J50,M51,IF(J52=J50,M52,IF(J53=J50,M53,IF(J54=J50,M54,IF(J55=J50,M55,IF(J56=J50,M56,M51))))))","v":0}]
[null,"Dim.,\"C\"",null,"=",{"$f":"Frame_Height-E58","v":0},null,null,null,"Dim.,\"C\"",null,"=",{"$f":"Frame_Height-L58","v":0}]
[]
[null,"Top Glass Width",null,null,{"$f":"TRUNC((Frame_Width-5)*16+0.5)/16","v":-4.9375},null,null,null,"Top Glass Width",null,null,{"$f":"TRUNC((Frame_Width-6.125)*16+0.5)/16","v":-6.0625}]
[null,"Bottom Glass Width",null,null,{"$f":"TRUNC((Frame_Width-5)*16+0.5)/16","v":-4.9375},null,null,null,"Bottom Glass Width",null,null,{"$f":"TRUNC((Frame_Width-6.125)*16+0.5)/16","v":-6.0625}]
[null,"Top Glass Height",null,null,{"$f":"TRUNC((E58-2.75)*16+0.5)/16","v":-2.6875},null,null,null,"Top Glass Height",null,null,{"$f":"TRUNC((L58-3.8125)*16+0.5)/16","v":-3.75}]
[null,"Bottom Glass Height",null,null,{"$f":"TRUNC((E59-2.75)*16+0.5)/16","v":-2.6875},null,null,null,"Bottom Glass Height",null,null,{"$f":"TRUNC((L59-3.8125)*16+0.5)/16","v":-3.75}]
[]
[null,null,"W",null,"0901, 0981, 09A1, 09B1",null,null,null,null,"W",null,"8001"]
[null,null,{"$f":"IF(TYPE=1,C66,IF(TYPE= \"\",C66,\" \"))","v":"W"},1,{"$f":"Frame_Height/2","v":0},{"$f":"TRUNC(E67*16+0.5)/16","v":0},null,null,null,{"$f":"IF(TYPE=1,J66,IF(TYPE= \"\",J66,\" \"))","v":"W"},1,{"$f":"Frame_Height/2","v":0},{"$f":"TRUNC(L67*16+0.5)/16","v":0}]
[null,null,{"$f":"IF(TYPE=5,C66,IF(TYPE=2,IF(Frame_Height>=54.5,IF(Frame_Height<72.5,C66,\"\"),\"\"),\"\"))","v":""},2,{"$f":"(Frame_Height/3-0.31)*2","v":-0.62},-0.5625,5,null,null,{"$f":"IF(TYPE=5,J66,IF(TYPE=2,IF(Frame_Height>=54.5,IF(Frame_Height<72.5,J66,\"\"),\"\"),\"\"))","v":""},2,{"$f":"CEILING(((Frame_Height/5-0.24)*3-0.03125),0.0625)","v":-0.75},-0.6875,5]
[null,null,{"$f":"IF(TYPE=6,C66,IF(AND(TYPE=2,OR(Frame_Height<54.5,Frame_Height>=72.5)),C66,\"\"))","v":""},null,{"$f":"(Frame_Height/5-0.2)*3","v":-0.60000000000000009},-0.5625,6,null,null,{"$f":"IF(TYPE=6,J66,IF(AND(TYPE=2,OR(Frame_Height<54.5,Frame_Height>=72.5)),J66,\"\"))","v":""},null,{"$f":"TRUNC((Frame_Height/3-0.62)*32+0.5)/16","v":-1.1875},-1.125,6]
[null,null,{"$f":"IF(TYPE=7,C66,IF(TYPE=3,IF(Frame_Height>=54.5,IF(Frame_Height<72.5,C66,\"\"),\"\"),\"\"))","v":""},3,{"$f":"(Frame_Height/3+0.65)","v":0.65},0.625,7,null,null,{"$f":"IF(TYPE=7,J66,IF(TYPE=3,IF(Frame_Height>=54.5,IF(Frame_Height<72.5,J66,\"\"),\"\"),\"\"))","v":""},3,{"$f":"TRUNC((Frame_Height/5+0.38)*32+0.5)/16","v":0.75},0.75,7]
[null,null,{"$f":"IF(TYPE=8,C66,IF(AND(TYPE=3,OR(Frame_Height<54.5,Frame_Height>=72.5)),C66,\"\"))","v":""},null,{"$f":"(Frame_Height/5+0.31)*2","v":0.62},0.625,8,null,null,{"$f":"IF(TYPE=8,J66,IF(AND(TYPE=3,OR(Frame_Height<54.5,Frame_Height>=72.5)),J66,\"\"))","v":""},null,{"$f":"TRUNC((Frame_Height/3+1.3)*16+0.5)/16","v":1.3125},1.3125,8]
[null,null,{"$f":"IF(TYPE=4,C66,\"\")","v":""},4,{"$f":"CMR","v":0},0,null,null,null,{"$f":"IF(TYPE=4,J66,\"\")","v":""},4,{"$f":"CMR","v":0},0]
[]
[null,"Dim.,\"D\"",null,"=",{"$f":"IF(C67=C66,F67,IF(C68=C66,F68,IF(C69=C66,F69,IF(C70=C66,F70,IF(C71=C66,F71,IF(C72=C66,F72,F67))))))","v":0},null,null,null,"Dim.,\"D\"",null,"=",{"$f":"IF(J67=J66,M67,IF(J68=J66,M68,IF(J69=J66,M69,IF(J70=J66,M70,IF(J71=J66,M71,IF(J72=J66,M72,M67))))))","v":0}]
[null,"Dim.,\"C\"",null,"=",{"$f":"Frame_Height-E74","v":0},null,null,null,"Dim.,\"C\"",null,"=",{"$f":"Frame_Height-L74","v":0}]
[]
[null,"Top Glass Width",null,null,{"$f":"TRUNC((Frame_Width-4.875)*16+0.5)/16","v":-4.8125},null,null,null,"Top Glass Width",null,null,{"$f":"TRUNC(((INT((Frame_Width-4.875)*32)/32)-1.875)*32+0.5)/32","v":-6.71875}]
[null,"Bottom Glass Width",null,null,{"$f":"TRUNC((Frame_Width-4.875)*16+0.5)/16","v":-4.8125},null,null,null,"Bottom Glass Width",null,null,{"$f":"TRUNC(((INT((Frame_Width-3.875)*32)/32)-2.875)*32+0.5)/32","v":-6.71875}]
[null,"Top Glass Height",null,null,{"$f":"TRUNC((E74-3.0625)*16+0.5)/16","v":-3},null,null,null,"Top Glass Height",null,null,{"$f":"TRUNC(((INT((L74-1.811-0.0625)*32+0.5)/32)-1.814)*32+0.5)/32","v":-3.65625}]
[null,"Bottom Glass Height",null,null,{"$f":"TRUNC((E75-3.0625)*16+0.5)/16","v":-3},null,null,null,"Bottom Glass Height",null,null,{"$f":"TRUNC(((INT((L75-0.811-0.0625)*32+0.5)/32)-2.814)*32+0.5)/32","v":-3.65625}]
[]
[null,null,"W",null,"3100",null,null,null,null,"W",null,"9001"]
[null,null,{"$f":"IF(TYPE=1,$C82,IF(TYPE= \"\",$C82,\" \"))","v":"W"},1,{"$f":"Frame_Height/2","v":0},{"$f":"TRUNC($E83*16+0.5)/16","v":0},null,null,null,{"$f":"IF(TYPE=1,J82,IF(TYPE= \"\",J82,\" \"))","v":"W"},1,{"$f":"Frame_Height/2","v":0},{"$f":"TRUNC(L83*16+0.5)/16","v":0}]
[null,null,{"$f":"IF(TYPE=5,$C82,IF(TYPE=2,IF(Frame_Height>=54.5,IF(Frame_Height<72.5,$C82,\"\"),\"\"),\"\"))","v":""},2,{"$f":"INT((Frame_Height/5)*16+0.5)/16","v":0},0,5,null,null,{"$f":"IF(TYPE=5,J82,IF(TYPE=2,IF(Frame_Height>=54.5,IF(Frame_Height<72.5,J82,\"\"),\"\"),\"\"))","v":""},2,{"$f":"CEILING(((Frame_Height/5-0.24)*3-0.03125),0.0625)","v":-0.75},-0.6875,5]
[null,null,{"$f":"IF(TYPE=6,$C82,IF(AND(TYPE=2,OR(Frame_Height<54.5,Frame_Height>=72.5)),$C82,\"\"))","v":""},null,{"$f":"INT((Frame_Height/3-0.22)*32+0.5)/16","v":-0.4375},-0.375,6,null,null,{"$f":"IF(TYPE=6,J82,IF(AND(TYPE=2,OR(Frame_Height<54.5,Frame_Height>=72.5)),J82,\"\"))","v":""},null,{"$f":"TRUNC((Frame_Height/3-0.62)*32+0.5)/16","v":-1.1875},-1.125,6]
[null,null,{"$f":"IF(TYPE=7,$C82,IF(TYPE=3,IF(Frame_Height>=54.5,IF(Frame_Height<72.5,$C82,\"\"),\"\"),\"\"))","v":""},3,{"$f":"INT((Frame_Height/5+0.55)*32+0.5)/16","v":1.125},1.125,7,null,null,{"$f":"IF(TYPE=7,J82,IF(TYPE=3,IF(Frame_Height>=54.5,IF(Frame_Height<72.5,J82,\"\"),\"\"),\"\"))","v":""},3,{"$f":"TRUNC((Frame_Height/5+0.38)*32+0.5)/16","v":0.75},0.75,7]
[null,null,{"$f":"IF(TYPE=8,$C82,IF(AND(TYPE=3,OR(Frame_Height<54.5,Frame_Height>=72.5)),$C82,\"\"))","v":""},null,{"$f":"INT((Frame_Height/3+1.4)*16+0.5)/16","v":1.375},1.375,8,null,null,{"$f":"IF(TYPE=8,J82,IF(AND(TYPE=3,OR(Frame_Height<54.5,Frame_Height>=72.5)),J82,\"\"))","v":""},null,{"$f":"TRUNC((Frame_Height/3+1.3)*16+0.5)/16","v":1.3125},1.3125,8]
[null,null,{"$f":"IF(TYPE=4,$C82,\"\")","v":""},4,{"$f":"CMR","v":0},0,null,null,null,{"$f":"IF(TYPE=4,J82,\"\")","v":""},4,{"$f":"CMR","v":0},0]
[]
[null,"Dim.,\"D\"",null,"=",{"$f":"IF(C83=C82,F83,IF(C84=C82,F84,IF(C85=C82,F85,IF(C86=C82,F86,IF(C87=C82,F87,IF(C88=C82,F88,F83))))))","v":0},null,null,null,"Dim.,\"D\"",null,"=",{"$f":"IF(J83=J82,M83,IF(J84=J82,M84,IF(J85=J82,M85,IF(J86=J82,M86,IF(J87=J82,M87,IF(J88=J82,M88,M83))))))","v":0}]
[null,"Dim.,\"C\"",null,"=",{"$f":"Frame_Height-$E90","v":0},null,null,null,"Dim.,\"C\"",null,"=",{"$f":"Frame_Height-L90","v":0}]
[]
[null,"Top Glass Width",null,null,{"$f":"TRUNC((Frame_Width-4.03125)*32+0.5)/32","v":-4},null,null,null,"Top Glass Width",null,null,{"$f":"TRUNC((Frame_Width-6.75)*16+0.5)/16","v":-6.6875}]
[null,"Bottom Glass Width",null,null,{"$f":"TRUNC((Frame_Width-4.76815)*32+0.5)/32","v":-4.75},null,null,null,"Bottom Glass Width",null,null,{"$f":"TRUNC((Frame_Width-6.75)*16+0.5)/16","v":-6.6875}]
[null,"Top Glass Height",null,null,{"$f":"TRUNC(($E90-3.0625)*32+0.5)/32","v":-3.03125},null,null,null,"Top Glass Height",null,null,{"$f":"TRUNC((L90-3.875)*16+0.5)/16","v":-3.8125}]
[null,"Bottom Glass Height",null,null,{"$f":"TRUNC(($E91-3.00375)*32+0.5)/32","v":-2.96875},null,null,null,"Bottom Glass Height",null,null,{"$f":"TRUNC((L91-3.875)*16+0.5)/16","v":-3.8125}]
[]
[null,null,null,3102,null,null,null,null,null,null,null,"V100"]
[null,null,null,null,null,null,null,null,"Dim.,\"D\"",null,"=",{"$f":"IF(TYPE=1,(Frame_Height/2),IF(TYPE=2,CMR))","v":0}]
[null,"Dim.,\"D\"",null,"=",{"$f":"IF(TYPE=1,(Frame_Width/2),IF(TYPE=4,CMR))","v":0},null,null,null,"Dim.,\"C\"",null,"=",{"$f":"Frame_Height-L99","v":0}]
[null,"Dim.,\"C\"",null,"=",{"$f":"Frame_Width-$E100","v":0}]
[null,null,null,null,null,null,null,null,"Top Glass Width",null,null,{"$f":"TRUNC((Frame_Width-3.5)*32+0.5)/32","v":-3.46875}]
[null,"Fixed Glass Width",null,null,{"$f":"$E$100-3.09375","v":-3.09375},null,null,null,"Bottom Glass Width",null,null,{"$f":"TRUNC(((TRUNC((Frame_Width-2.188)*32+0.5)/32)-1.3125)*32+0.5)/32","v":-3.4375}]
[null,"Sash Glass Width",null,null,{"$f":"(TRUNC(($E$101-0.7)*16+0.5)/16)-1.625","v":-2.25},null,null,null,"Top Glass Height",null,null,{"$f":"TRUNC((L99-2.157)*32+0.5)/32","v":-2.125}]
[null,"Fixed Glass Height",null,null,{"$f":"Frame_Height-5.09375","v":-5.09375},null,null,null,"Bottom Glass Height",null,null,{"$f":"TRUNC(((TRUNC(((L100-1.0625)*16+0.5))/16)-1.312)*32+0.5)/32","v":-2.28125}]
[null,"Sash Glass Height",null,null,{"$f":"(TRUNC((Frame_Height-3.4)*16+0.5)/16)-1.625","v":-4.9375}]
[null,null,null,null,null,null,null,null,null,"W",null,"V101"]
[null,null,"W",null,"3001",null,null,null,null,{"$f":"IF(TYPE=1,$J107,IF(TYPE=\"\",$J107,\" \"))","v":"W"},1,{"$f":"Frame_Height/2","v":0},{"$f":"TRUNC($L108*16+0.5)/16","v":0}]
[null,null,{"$f":"IF(TYPE=1,C108,IF(TYPE= \"\",C108,\" \"))","v":"W"},1,{"$f":"Frame_Height/2","v":0},{"$f":"TRUNC(E109*16+0.5)/16","v":0},null,null,null,{"$f":"IF(TYPE=5,$J107,IF(TYPE=2,IF(Frame_Height>=54.5,IF(Frame_Height<72.5,$J107,\"\"),\"\"),\"\"))","v":""},2,{"$f":"INT((Frame_Height/5)*48+0.5)/16","v":0},0,5]
[null,null,{"$f":"IF(TYPE=5,C108,IF(TYPE=2,IF(Frame_Height>=54.5,IF(Frame_Height<72.5,C108,\"\"),\"\"),\"\"))","v":""},2,{"$f":"INT((Frame_Height/5)*48+0.5)/16","v":0},0,5,null,null,{"$f":"IF(TYPE=6,$J107,IF(AND(TYPE=2,OR(Frame_Height<54.5,Frame_Height>=72.5)),$J107,\"\"))","v":""},null,{"$f":"INT((Frame_Height/3-0.22)*32+0.5)/16","v":-0.4375},-0.375,6]
[null,null,{"$f":"IF(TYPE=6,C108,IF(AND(TYPE=2,OR(Frame_Height<54.5,Frame_Height>=72.5)),C108,\"\"))","v":""},null,{"$f":"INT((Frame_Height/3-0.22)*32+0.5)/16","v":-0.4375},-0.375,6,null,null,{"$f":"IF(TYPE=7,$J107,IF(TYPE=3,IF(Frame_Height>=54.5,IF(Frame_Height<72.5,$J107,\"\"),\"\"),\"\"))","v":""},3,{"$f":"INT((Frame_Height/5+0.55)*32+0.5)/16","v":1.125},1.125,7]
[null,null,{"$f":"IF(TYPE=7,C108,IF(TYPE=3,IF(Frame_Height>=54.5,IF(Frame_Height<72.5,C108,\"\"),\"\"),\"\"))","v":""},3,{"$f":"INT((Frame_Height/5+0.55)*32+0.5)/16","v":1.125},1.125,7,null,null,{"$f":"IF(TYPE=8,$J107,IF(AND(TYPE=3,OR(Frame_Height<54.5,Frame_Height>=72.5)),$J107,\"\"))","v":""},null,{"$f":"INT((Frame_Height/3+1.4)*16+0.5)/16","v":1.375},1.375,8]
[null,null,{"$f":"IF(TYPE=8,C108,IF(AND(TYPE=3,OR(Frame_Height<54.5,Frame_Height>=72.5)),C108,\"\"))","v":""},null,{"$f":"INT((Frame_Height/3+1.4)*16+0.5)/16","v":1.375},1.375,8,null,null,{"$f":"IF(TYPE=4,$J107,\"\")","v":""},4,{"$f":"CMR","v":0},0]
[null,null,{"$f":"IF(TYPE=4,C108,\"\")","v":""},4,{"$f":"CMR","v":0},0]
[null,null,null,null,null,null,null,null,"Dim.,\"D\"",null,"=",{"$f":"IF($J108=$J107,$M108,IF($J109=$J107,$M109,IF($J110=$J107,$M110,IF($J111=$J107,$M111,IF($J112=$J107,$M112,IF($J113=$J107,$M113))))))","v":0}]
[null,"Dim.,\"D\"",null,"=",{"$f":"TRUNC((IF(C109=C108,F109,IF(C110=C108,F110,IF(C111=C108,F111,IF(C112=C108,F112,IF(C113=C108,F113,IF(C114=C108,F114,F109)))))))*32+0.5)/32","v":0},null,null,null,"Dim.,\"C\"",null,"=",{"$f":"Frame_Height-$L115","v":0}]
[null,"Dim.,\"C\"",null,"=",{"$f":"TRUNC((Frame_Height-E116)*32+0.5)/32","v":0}]
[null,null,null,null,null,null,null,null,"Top Glass Width",null,null,{"$f":"TRUNC((Frame_Width-4.75)*16+0.5)/16","v":-4.6875}]
[null,"Top Glass Width",null,null,{"$f":"TRUNC((Frame_Width-5.8125)*16+0.5)/16","v":-5.75},null,null,null,"Bottom Glass Width",null,null,{"$f":"TRUNC((Frame_Width-3.5)*16+0.5)/16","v":-3.4375}]
[null,"Bottom Glass Width",null,null,{"$f":"TRUNC((Frame_Width-5.3125)*16+0.5)/16","v":-5.25},null,null,null,"Top Glass Height",null,null,{"$f":"TRUNC(($L115-2.9375)*16+0.5)/16","v":-2.875}]
[null,"Top Glass Height",null,null,{"$f":"(TRUNC((E116-1.4375)*32+0.5)/32)-1.625","v":-3.03125},null,null,null,"Bottom Glass Height",null,null,{"$f":"TRUNC(($L116-1.6875)*16+0.5)/16","v":-1.625}]
[null,"Bottom Glass Height",null,null,{"$f":"(TRUNC((E117-0.4375)*32+0.5)/32)-2.125","v":-2.53125}]
[null,null,null,null,null,null,null,null,null,null,null,"V200"]
[null,null,"W",null,"03A0",null,null,null,"Dim.,\"D\"",null,"=",{"$f":"IF(TYPE=1,(Frame_Height/2),IF(TYPE=2,CMR))","v":0}]
[null,null,{"$f":"IF(TYPE=1,C124,IF(TYPE= \"\",C124,\" \"))","v":"W"},1,{"$f":"Frame_Height/2","v":0},{"$f":"TRUNC(E125*16+0.5)/16","v":0},null,null,"Dim.,\"C\"",null,"=",{"$f":"Frame_Height-L124","v":0}]
[null,null,{"$f":"IF(TYPE=5,C124,IF(TYPE=2,IF(Frame_Height>=54.5,IF(Frame_Height<72.5,C124,\"\"),\"\"),\"\"))","v":""},2,{"$f":"INT((Frame_Height/5)*48+0.5)/16","v":0},0,5]
[null,null,{"$f":"IF(TYPE=6,C124,IF(AND(TYPE=2,OR(Frame_Height<54.5,Frame_Height>=72.5)),C124,\"\"))","v":""},null,{"$f":"INT((Frame_Height/3-0.22)*32+0.5)/16","v":-0.4375},-0.375,6,null,"Top Glass Width",null,null,{"$f":"TRUNC((Frame_Width-3.5625)*32+0.5)/32","v":-3.53125}]
[null,null,{"$f":"IF(TYPE=7,C124,IF(TYPE=3,IF(Frame_Height>=54.5,IF(Frame_Height<72.5,C124,\"\"),\"\"),\"\"))","v":""},3,{"$f":"INT((Frame_Height/5+0.55)*32+0.5)/16","v":1.125},1.125,7,null,"Bottom Glass Width",null,null,{"$f":"TRUNC(((TRUNC((Frame_Width-2.1875)*32+0.5)/32)-1.375)*32+0.5)/32","v":-3.5}]
[null,null,{"$f":"IF(TYPE=8,C124,IF(AND(TYPE=3,OR(Frame_Height<54.5,Frame_Height>=72.5)),C124,\"\"))","v":""},null,{"$f":"INT((Frame_Height/3+1.4)*16+0.5)/16","v":1.375},1.375,8,null,"Top Glass Height",null,null,{"$f":"TRUNC((L124-2.25)*32+0.5)/32","v":-2.21875}]
[null,null,{"$f":"IF(TYPE=4,C124,\"\")","v":""},4,{"$f":"CMR","v":0},0,null,null,"Bottom Glass Height",null,null,{"$f":"TRUNC(((TRUNC(((L125-0.8125)*32+0.5))/32-0.0625)-1.4375)*32+0.5)/32","v":-2.25}]
[]
[null,"Dim.,\"D\"",null,"=",{"$f":"TRUNC((IF(C125=C124,F125,IF(C126=C124,F126,IF(C127=C124,F127,IF(C128=C124,F128,IF(C129=C124,F129,IF(C130=C124,F130,F125)))))))*32+0.5)/32","v":0},null,null,null,null,null,null,"1700"]
[null,"Dim.,\"C\"",null,"=",{"$f":"TRUNC((Frame_Height-E132)*32+0.5)/32","v":0},null,null,null,null,"Dim.,\"D\"","=",{"$f":"IF(TYPE=1,(Frame_Height/2),IF(TYPE=2,CMR))","v":0}]
[null,null,null,null,null,null,null,null,null,"Dim.,\"C\"","=",{"$f":"Frame_Height-L133","v":0}]
[null,"Top Glass Width",null,null,{"$f":"TRUNC((Frame_Width-4.75)*16+0.5)/16","v":-4.6875}]
[null,"Bottom Glass Width",null,null,{"$f":"TRUNC((Frame_Width-5.3125)*16+0.5)/16","v":-5.25}]
[null,"Top Glass Height",null,null,{"$f":"TRUNC((E132-2.625)*32+0.5)/32","v":-2.59375},null,null,null,null,null,null,"1702"]
[null,"Bottom Glass Height",null,null,{"$f":"TRUNC((E133-2.875)*32+0.5)/32","v":-2.84375},null,null,null,null,"Dim.,\"D\"","=",{"$f":"IF(TYPE=1,(Frame_Width/2),IF(TYPE=2,CMR))","v":0}]
[null,null,null,null,null,null,null,null,null,"Dim.,\"C\"","=",{"$f":"Frame_Width-L138","v":0}]
[]
[]
[null,null,null,null,null,null,null,null,null,null,null,"1720"]
[null,null,null,null,null,null,null,null,null,"Dim.,\"D\"","=",{"$f":"IF(TYPE=1,(Frame_Height/2),IF(TYPE=2,CMR))","v":0}]
[null,null,null,null,null,null,null,null,null,"Dim.,\"C\"","=",{"$f":"Frame_Height-L143","v":0}]
[]
[]
[null,null,null,null,null,null,null,null,null,null,null,"1730"]
[null,null,null,null,null,null,null,null,null,"Dim.,\"D\"","=",{"$f":"IF(TYPE=1,(Frame_Height/2),IF(TYPE=2,CMR))","v":0}]
[null,null,null,null,null,null,null,null,null,"Dim.,\"C\"","=",{"$f":"Frame_Height-L148","v":0}]
[]
[]
[null,null,null,null,null,null,null,null,null,null,null,"1900"]
[null,null,null,null,null,null,null,null,null,"Dim.,\"D\"","=",{"$f":"IF(TYPE=1,(Frame_Height/2),IF(TYPE=2,CMR))","v":0}]
[null,null,null,null,null,null,null,null,null,"Dim.,\"C\"","=",{"$f":"Frame_Height-L153","v":0}]
[]
[]
[null,null,null,null,null,null,null,null,null,null,null,"1902"]
[null,null,null,null,null,null,null,null,null,"Dim.,\"D\"","=",{"$f":"IF(TYPE=1,(Frame_Width/2),IF(TYPE=2,CMR))","v":0}]
[null,null,null,null,null,null,null,null,null,"Dim.,\"C\"","=",{"$f":"Frame_Width-L158","v":0}]
[]
[]
[null,null,null,null,null,null,null,null,null,null,null,"1920"]
[null,null,null,null,null,null,null,null,null,"Dim.,\"D\"","=",{"$f":"IF(TYPE=1,(Frame_Height/2),IF(TYPE=2,CMR))","v":0}]
[null,null,null,null,null,null,null,null,null,"Dim.,\"C\"","=",{"$f":"Frame_Height-L163","v":0}]
[]
[]
[null,null,null,null,null,null,null,null,null,null,null,"1930"]
[null,null,null,null,null,null,null,null,null,"Dim.,\"D\"","=",{"$f":"IF(TYPE=1,(Frame_Height/2),IF(TYPE=2,CMR))","v":0}]
[null,null,null,null,null,null,null,null,null,"Dim.,\"C\"","=",{"$f":"Frame_Height-L168","v":0}]
[]
[]
[null,null,null,null,null,null,null,null,null,"W",null,"1901"]
[null,null,null,null,null,null,null,null,null,{"$f":"IF(TYPE=1,$J172,IF(TYPE=\"\",$J172,\" \"))","v":"W"},1,{"$f":"Frame_Height/2","v":0},{"$f":"TRUNC($L173*16+0.5)/16","v":0}]
[null,null,null,null,null,null,null,null,null,{"$f":"IF(TYPE=5,$J172,IF(TYPE=2,IF(Frame_Height>=54.5,IF(Frame_Height<72.5,$J172,\"\"),\"\"),\"\"))","v":""},2,{"$f":"INT((Frame_Height/5)*48+0.5)/16","v":0},0,5]
[null,null,null,null,null,null,null,null,null,{"$f":"IF(TYPE=6,$J172,IF(AND(TYPE=2,OR(Frame_Height<54.5,Frame_Height>=72.5)),$J172,\"\"))","v":""},null,{"$f":"INT((Frame_Height/3-0.22)*32+0.5)/16","v":-0.4375},-0.375,6]
[null,null,null,null,null,null,null,null,null,{"$f":"IF(TYPE=7,$J172,IF(TYPE=3,IF(Frame_Height>=54.5,IF(Frame_Height<72.5,$J172,\"\"),\"\"),\"\"))","v":""},3,{"$f":"INT((Frame_Height/5+0.55)*32+0.5)/16","v":1.125},1.125,7]
[null,null,null,null,null,null,null,null,null,{"$f":"IF(TYPE=8,$J172,IF(AND(TYPE=3,OR(Frame_Height<54.5,Frame_Height>=72.5)),$J172,\"\"))","v":""},null,{"$f":"INT((Frame_Height/3+1.4)*16+0.5)/16","v":1.375},1.375,8]
[null,null,null,null,null,null,null,null,null,{"$f":"IF(TYPE=4,$J172,\"\")","v":""},4,{"$f":"CMR","v":0},0]
[]
[null,null,null,null,null,null,null,null,null,"Dim.,\"D\"","=",{"$f":"IF($J173=$J172,$M173,IF($J174=$J172,$M174,IF($J175=$J172,$M175,IF($J176=$J172,$M176,IF($J177=$J172,$M177,IF($J178=$J172,$M178))))))","v":0}]
[null,null,null,null,null,null,null,null,null,"Dim.,\"C\"","=",{"$f":"Frame_Height-$L180","v":0}]
[]
[]
[null,null,null,null,null,null,null,null,null,"W",null,"1921"]
[null,null,null,null,null,null,null,null,null,{"$f":"IF(TYPE=1,$J184,IF(TYPE=\"\",$J184,\" \"))","v":"W"},1,{"$f":"Frame_Height/2","v":0},{"$f":"TRUNC($L185*16+0.5)/16","v":0}]
[null,null,null,null,null,null,null,null,null,{"$f":"IF(TYPE=5,$J184,IF(TYPE=2,IF(Frame_Height>=54.5,IF(Frame_Height<72.5,$J184,\"\"),\"\"),\"\"))","v":""},2,{"$f":"INT((Frame_Height/5)*48+0.5)/16","v":0},0,5]
[null,null,null,null,null,null,null,null,null,{"$f":"IF(TYPE=6,$J184,IF(AND(TYPE=2,OR(Frame_Height<54.5,Frame_Height>=72.5)),$J184,\"\"))","v":""},null,{"$f":"INT((Frame_Height/3-0.22)*32+0.5)/16","v":-0.4375},-0.375,6]
[null,null,null,null,null,null,null,null,null,{"$f":"IF(TYPE=7,$J184,IF(TYPE=3,IF(Frame_Height>=54.5,IF(Frame_Height<72.5,$J184,\"\"),\"\"),\"\"))","v":""},3,{"$f":"INT((Frame_Height/5+0.55)*32+0.5)/16","v":1.125},1.125,7]
[null,null,null,null,null,null,null,null,null,{"$f":"IF(TYPE=8,$J184,IF(AND(TYPE=3,OR(Frame_Height<54.5,Frame_Height>=72.5)),$J184,\"\"))","v":""},null,{"$f":"INT((Frame_Height/3+1.4)*16+0.5)/16","v":1.375},1.375,8]
[null,null,null,null,null,null,null,null,null,{"$f":"IF(TYPE=4,$J184,\"\")","v":""},4,{"$f":"CMR","v":0},0]
[]
[null,null,null,null,null,null,null,null,null,"Dim.,\"D\"","=",{"$f":"IF($J185=$J184,$M185,IF($J186=$J184,$M186,IF($J187=$J184,$M187,IF($J188=$J184,$M188,IF($J189=$J184,$M189,IF($J190=$J184,$M190))))))","v":0}]
[null,null,null,null,null,null,null,null,null,"Dim.,\"C\"","=",{"$f":"Frame_Height-$L192","v":0}]
[]
[]
[null,null,null,null,null,null,null,null,null,"W",null,"1931"]
[null,null,null,null,null,null,null,null,null,{"$f":"IF(TYPE=1,$J196,IF(TYPE=\"\",$J196,\" \"))","v":"W"},1,{"$f":"Frame_Height/2","v":0},{"$f":"TRUNC($L197*16+0.5)/16","v":0}]
[null,null,null,null,null,null,null,null,null,{"$f":"IF(TYPE=5,$J196,IF(TYPE=2,IF(Frame_Height>=54.5,IF(Frame_Height<72.5,$J196,\"\"),\"\"),\"\"))","v":""},2,{"$f":"INT((Frame_Height/5)*48+0.5)/16","v":0},0,5]
[null,null,null,null,null,null,null,null,null,{"$f":"IF(TYPE=6,$J196,IF(AND(TYPE=2,OR(Frame_Height<54.5,Frame_Height>=72.5)),$J196,\"\"))","v":""},null,{"$f":"INT((Frame_Height/3-0.22)*32+0.5)/16","v":-0.4375},-0.375,6]
[null,null,null,null,null,null,null,null,null,{"$f":"IF(TYPE=7,$J196,IF(TYPE=3,IF(Frame_Height>=54.5,IF(Frame_Height<72.5,$J196,\"\"),\"\"),\"\"))","v":""},3,{"$f":"INT((Frame_Height/5+0.55)*32+0.5)/16","v":1.125},1.125,7]
[null,null,null,null,null,null,null,null,null,{"$f":"IF(TYPE=8,$J196,IF(AND(TYPE=3,OR(Frame_Height<54.5,Frame_Height>=72.5)),$J196,\"\"))","v":""},null,{"$f":"INT((Frame_Height/3+1.4)*16+0.5)/16","v":1.375},1.375,8]
[null,null,null,null,null,null,null,null,null,{"$f":"IF(TYPE=4,$J196,\"\")","v":""},4,{"$f":"CMR","v":0},0]
[]
[null,null,null,null,null,null,null,null,null,"Dim.,\"D\"","=",{"$f":"IF($J197=$J196,$M197,IF($J198=$J196,$M198,IF($J199=$J196,$M199,IF($J200=$J196,$M200,IF($J201=$J196,$M201,IF($J202=$J196,$M202))))))","v":0}]
[null,null,null,null,null,null,null,null,null,"Dim.,\"C\"","=",{"$f":"Frame_Height-$L204","v":0}]

{"sheet":"Data","index":3,"n_rows":1466,"n_cols":60,"rows_kept":1466,"cut":false,"hidden":true,"merged":[]}
[null,"Model","Description","Value"]
[{"$f":"IF(ModelNo=B2,1,\"\")","v":""},"0100","Bottom Sash Width",{"$f":"Frame_Width-2.3125","v":-2.3125},null,{"$f":"G200","v":"Select Model"},"Models","Description","W cut-back","H-cut-back","Width","Height","Min W","Min H","Max W","Max H","Max UI","Type1","Type2","Type3","Type4","Screen1","Screen2","Screen3","Ext./Reinf.","Ext./Reinf.","Ext./Reinf.","Ext./Reinf.","Ext./Reinf.","Ext./Reinf.","Ext./Reinf.","Ext./Reinf.","Glass1","Glass2","Glass3","Glass4","Glass5","Glass6","Glass7","Glass8","Opening",null,null,null,null,null,null,"Triple IG calculation"]
[{"$f":"IF(ModelNo=B3,2,\"\")","v":""},"0100","Bottom Sash Height",{"$f":"CMR!$E$11+0.125","v":0.125},null,1,"Select Model"]
[{"$f":"IF(ModelNo=B4,3,\"\")","v":""},"0100","Bottom Glass Width",{"$f":"CMR!$E$14","v":-3.9375},null,2,"0100","Builder Series Single Hung",0.5,0.5,null,null,14.375,23.75,52,77,129,"Standard","Oriel (2/3 - 1/3)","Cottage (1/3 - 2/3)","Custom","Half",null,null,null,null,null,null,null,null,null,null,"Single Strength (2.5 mm)","Double Strength (3 mm)","Triple Strength (5 mm)",null,null,"Laminated",null,null,"<< Select Opening",null,1,"Single Strength (2.5 mm)",null,null,null,"SS (2.2)","DS (3.2)","4 mm","TS (5.0)",null,null,null,null,"Min. W","Min. H","Max. W","Max. H","Max. UI"]
[{"$f":"IF(ModelNo=B5,4,\"\")","v":""},"0100","Bottom Glass Height",{"$f":"CMR!$E$16","v":-1.5},null,3,"01HP","Builder Series Single Hung High Performance",0.5,0.5,null,null,14.375,23.75,52,84,129,"Standard","Oriel (2/3 - 1/3)","Cottage (1/3 - 2/3)","Custom","Half",null,null,null,null,null,null,null,null,null,null,null,"Double Strength (3 mm)","Triple Strength (5 mm)",null,null,"Laminated",null,null,"<< Select Opening",null,2,"Double Strength (3 mm)",null,null,"Max. Short",{"$f":"IF(TG2W>41,0,41)","v":41},{"$f":"IF(TG2W>56,0,56)","v":56},{"$f":"IF(TG2W>67,0,67)","v":67},{"$f":"IF(TG2W>70,0,70)","v":70},"Annealed",null,null,"Mezzo",25,40]
[{"$f":"IF(ModelNo=B6,5,\"\")","v":""},"0100","Top Glass Width",{"$f":"CMR!$E$13","v":-1.9375},null,4,"0102","Builder Series Single Slider",0.5,0.5,null,null,23.5,14.25,72,60,132,"Standard",null,null,null,"Half",null,null,null,null,null,null,null,null,null,null,"Single Strength (2.5 mm)","Double Strength (3 mm)","Triple Strength (5 mm)",null,null,"Laminated",null,null,"<< Select Opening",null,3,"Triple Strength (5 mm)",null,null,"Max. Long",{"$f":"IF(TG2H>62,0,62)","v":62},{"$f":"IF(TG2H>76,0,76)","v":76},{"$f":"IF(TG2H>90,0,90)","v":90},{"$f":"IF(TG2H>102,0,102)","v":102},"Annealed",null,null,"Mezzo/N.F",26,41]
[{"$f":"IF(ModelNo=B7,6,\"\")","v":""},"0100","Top Glass Height",{"$f":"CMR!$E$15","v":-1.875},null,5,"0103","Builder Series 3 Lite Slider (1/4-1/2-1/4)",0.5,0.5,null,null,48,14.25,108,60,168,"Standard (1/4-1/2-1/4)",null,null,null,"Half",null,null,null,null,null,null,null,null,null,null,"Single Strength (2.5 mm)","Double Strength (3 mm)","Triple Strength (5 mm)",null,null,"Laminated",null,null,"<< Select Opening",null,4,"Triple IG Single Strrength",null,null,"Max Sq.Ft.",{"$f":"IF(TG2A>12,0,12)","v":12},{"$f":"IF(TG2A>22,0,22)","v":22},{"$f":"IF(TG2A>32,0,32)","v":32},{"$f":"IF(TG2A>35,0,35)","v":35},"Annealed",null,null,"New Construction",20,36]
[{"$f":"IF(ModelNo=B8,7,\"\")","v":""},"0100","Astragal Length",{"$f":"TRUNC((Frame_Width-1.218)*32+0.5)/32","v":-1.1875},null,6,"0104","Builder Series Picture Window",0.5,0.5,null,null,11.5,11.5,95,95,154,"Standard",null,null,null,null,null,null,null,null,null,null,null,null,null,null,null,"Double Strength (3 mm)","Triple Strength (5 mm)",null,null,"Laminated",null,null,"<< Select Opening",null,5,"Triple IG Double Strength",null,null,"Max. Short",0,{"$f":"IF(TG2W>42,0,42)","v":42},{"$f":"IF(TG2W>70,0,70)","v":70},{"$f":"IF(TG2W>70,0,70)","v":70},"Tempered",null,null,"0700 Series",20,36]
[{"$f":"IF(ModelNo=B9,8,\"\")","v":""},"0100","Screen Width",{"$f":"TRUNC((Frame_Width-1.75)*32+0.5)/32","v":-1.71875},null,7,"0109","Builder Series 3 Lite Slider Equal Lite",0.5,0.5,null,null,34.75,14.25,108,60,168,"Standard (1/3-1/3-1/3)",null,null,null,"Half",null,null,null,null,null,null,null,null,null,null,"Single Strength (2.5 mm)","Double Strength (3 mm)","Triple Strength (5 mm)",null,null,"Laminated",null,null,"<< Select Opening",null,6,"Laminated",null,null,"Max. Long",0,{"$f":"IF(TG2H>84,0,84)","v":84},{"$f":"IF(TG2H>129,0,129)","v":129},{"$f":"IF(TG2H>129,0,129)","v":129},"Tempered",null,null,"Fusion",23.5,38]
[{"$f":"IF(ModelNo=B10,9,\"\")","v":""},"0100","Screen Height",{"$f":"TRUNC((CMR!$E$11-1.1875)*32+0.5)/32","v":-1.15625},null,8,"0151","Builder Series Single Vent Awning",0.5,0.5,null,null,19,16,48,48,96,"Standard",null,null,null,null,"Full",null,null,null,null,null,null,null,null,null,null,"Double Strength (3 mm)","Triple Strength (5 mm)",null,null,"Laminated",null,null,"<< Select Opening",null,7,"HP Package",null,null,"Max Sq.Ft.",0,{"$f":"IF(TG2A>24.5,0,24.5)","v":24.5},{"$f":"IF(TG2A>42,0,42)","v":42},{"$f":"IF(TG2A>42,0,42)","v":42},"Tempered",null,null,1700,24]
[{"$f":"IF(ModelNo=B11,10,\"\")","v":""},"0100","Bottom Sash Weight",{"$f":"IF(ISERROR(BTM_WGT&\" \"&\"lb\"),\"N/A\",BTM_WGT&\" \"&\"lb\")","v":"N/A"},null,9,"0152","New Const. Awning W/ Transom Equal Lite",0.5,0.5,null,null,19,32,48,96,144,"Standard",null,null,null,"Half",null,null,null,null,null,null,null,null,null,null,null,"Double Strength (3 mm)","Triple Strength (5 mm)",null,null,"Laminated",null,null,"<< Select Opening",null,8,"Impact Laminated",null,null,null,{"$f":"IF(AND(AV5>0,AV6>0,AV7>0),1,0)","v":1},{"$f":"IF(AND(AW5>0,AW6>0,AW7>0),1,0)","v":1},{"$f":"IF(AND(AX5>0,AX6>0,AX7>0),1,0)","v":1},{"$f":"IF(AND(AY5>0,AY6>0,AY7>0),1,0)","v":1},{"$f":"IF(AV11>0,\"≥SS Annealed\",IF(AW11>0,\"≥DS Annealed\",IF(AY11>0,\"TS Annealed\",\"\")))","v":"≥SS Annealed"},null,null,1900,24]
[{"$f":"IF(ModelNo=B12,11,\"\")","v":""},"0100","Balance Size (C.F)",{"$f":"IF(ISERROR((VLOOKUP(BTM_WGT,CFB,2,FALSE))&(VLOOKUP(BTM_WGT,CFB,3,FALSE))),\"N/A\",(VLOOKUP(BTM_WGT,CFB,2,FALSE))&(VLOOKUP(BTM_WGT,CFB,3,FALSE)))","v":"N/A"},null,10,"0153","New Const. W/ Transom (1/3-2/3)",0.5,0.5,null,null,19,48,48,96,144,"Standard",null,null,null,"Half",null,null,null,null,null,null,null,null,null,null,null,"Double Strength (3 mm)","Triple Strength (5 mm)",null,null,"Laminated",null,null,"<< Select Opening",null,null,null,null,null,null,null,{"$f":"IF(AND(AW8>0,AW9>0,AW10>0),1,0)","v":1},{"$f":"IF(AND(AX8>0,AX9>0,AX10>0),1,0)","v":1},{"$f":"IF(AND(AY8>0,AY9>0,AY10>0),1,0)","v":1},{"$f":"IF(AW12>0,\"≥DS Tempered\",IF(AY12>0,\"TS Tempered\",\"\"))","v":"≥DS Tempered"}]
[{"$f":"IF(ModelNo=B13,12,\"\")","v":""},"0100","Balance Size (Spiral)",{"$f":"BOTTUBELENGTH&\"-\"&BOT_SPIRAL","v":{"$error":"#N/A"}},null,11,"0154","New Const. Single Vent Awning W/ Bottom Transom",0.5,0.5,null,null,19,32,48,96,144,"Standard",null,null,null,"Half",null,null,null,null,null,null,null,null,null,null,null,"Double Strength (3 mm)","Triple Strength (5 mm)",null,null,"Laminated",null,null,"<< Select Opening",null,null,null,null,null,null,"2.5 mm","3.2 mm","4 mm","5 mm"]
[{"$f":"IF(ModelNo=B14,13,\"\")","v":""},"0100","Egress Opening Width",{"$f":"IF(ISERROR(EW),\"N/A\",EW)","v":"N/A"},null,12,"0155","New Const. Dual Vent Equal Lite",0.5,0.5,null,null,19,32,48,96,144,"Standard",null,null,null,"Half",null,null,null,null,null,null,null,null,null,null,null,"Double Strength (3 mm)","Triple Strength (5 mm)",null,null,"Laminated",null,null,"<< Select Opening",null,null,null,null,null,"Max. Short",{"$f":"IF(TG2H>41,0,41)","v":41},{"$f":"IF(TG2H>56,0,56)","v":56},{"$f":"IF(TG2H>67,0,67)","v":67},{"$f":"IF(TG2H>70,0,70)","v":70},"Annealed"]
[{"$f":"IF(ModelNo=B15,14,\"\")","v":""},"0100","Egress Opening Height",{"$f":"IF(ISERROR(EH),\"N/A\",EH)","v":"N/A"},null,13,"0170","New Const. Casement Picture Window",0.5,0.5,null,null,13,11.5,96,96,154,"Standard",null,null,null,null,null,null,null,null,null,null,null,null,null,null,null,"Double Strength (3 mm)","Triple Strength (5 mm)",null,null,"Laminated",null,null,"<< Select Opening",null,null,null,null,null,"Max. Long",{"$f":"IF(TG2W>62,0,62)","v":62},{"$f":"IF(TG2W>76,0,76)","v":76},{"$f":"IF(TG2W>90,0,90)","v":90},{"$f":"IF(TG2W>102,0,102)","v":102},"Annealed"]
[{"$f":"IF(ModelNo=B16,15,\"\")","v":""},"0100","Egress Opening Area (sq.ft.)",{"$f":"IF(ISERROR(EO),\"N/A\",EO)","v":"N/A"},null,14,"0171","New Const. Single Vent Casement",0.5,0.5,null,null,16,19,36,78,114,"Standard",null,null,null,null,"Full",null,null,null,null,null,null,null,null,null,null,"Double Strength (3 mm)","Triple Strength (5 mm)",null,null,"Laminated",null,null,"<< Select Opening",null,null,null,null,null,"Max Sq.Ft.",{"$f":"IF(TG2A>12,0,12)","v":12},{"$f":"IF(TG2A>22,0,22)","v":22},{"$f":"IF(TG2A>32,0,32)","v":32},{"$f":"IF(TG2A>35,0,35)","v":35},"Annealed"]
[{"$f":"IF(ModelNo=B17,1,\"\")","v":""},"01HP","Bottom Sash Width",{"$f":"Frame_Width-2.3125","v":-2.3125},null,15,"0172","New Const. Dual Vent Casement",0.5,0.5,null,null,32,19,72,78,150,"Standard",null,null,null,"Half",null,null,null,null,null,null,null,null,null,null,null,"Double Strength (3 mm)","Triple Strength (5 mm)",null,null,"Laminated",null,null,"<< Select Opening",null,null,null,null,null,"Max. Short",0,{"$f":"IF(TG2H>42,0,42)","v":42},{"$f":"IF(TG2H>70,0,70)","v":70},{"$f":"IF(TG2H>70,0,70)","v":70},"Tempered"]
[{"$f":"IF(ModelNo=B18,2,\"\")","v":""},"01HP","Bottom Sash Height",{"$f":"CMR!$E$11+0.125","v":0.125},null,16,"0173","New Const. Dual Vent Casement (1/4-1/2-1/4)",0.5,0.5,null,null,64,19,120,78,198,"Standard (1/4-1/2-1/4)",null,null,null,"Half",null,null,null,null,null,null,null,null,null,null,null,"Double Strength (3 mm)","Triple Strength (5 mm)",null,null,"Laminated",null,null,"<< Select Opening",null,null,null,null,null,"Max. Long",0,{"$f":"IF(TG2W>84,0,84)","v":84},{"$f":"IF(TG2W>129,0,129)","v":129},{"$f":"IF(TG2W>129,0,129)","v":129},"Tempered"]
[{"$f":"IF(ModelNo=B19,3,\"\")","v":""},"01HP","Bottom Glass Width",{"$f":"CMR!$E$14","v":-3.9375},null,17,"0179","New Const. Dual Vent Casement Equal Lite",0.5,0.5,null,null,48,19,108,78,186,"Standard (1/3-1/3-1/3)",null,null,null,"Half",null,null,null,null,null,null,null,null,null,null,null,"Double Strength (3 mm)","Triple Strength (5 mm)",null,null,"Laminated",null,null,"<< Select Opening",null,null,null,null,null,"Max Sq.Ft.",0,{"$f":"IF(TG2A>24.5,0,24.5)","v":24.5},{"$f":"IF(TG2A>42,0,42)","v":42},{"$f":"IF(TG2A>42,0,42)","v":42},"Tempered"]
[{"$f":"IF(ModelNo=B20,4,\"\")","v":""},"01HP","Bottom Glass Height",{"$f":"CMR!$E$16","v":-1.5},null,18,"S174","New Construction 4 Lite Casement",0.5,0.5,null,null,64,19,120,78,198,"Standard",null,null,null,"Half",null,null,null,null,null,null,null,null,null,null,null,"Double Strength (3 mm)","Triple Strength (5 mm)",null,null,"Laminated",null,null,"<< Select Opening",null,null,null,null,null,null,{"$f":"IF(AND(AV14>0,AV15>0,AV16>0),1,0)","v":1},{"$f":"IF(AND(AW14>0,AW15>0,AW16>0),1,0)","v":1},{"$f":"IF(AND(AX14>0,AX15>0,AX16>0),1,0)","v":1},{"$f":"IF(AND(AY14>0,AY15>0,AY16>0),1,0)","v":1},{"$f":"IF(AV20>0,\"≥SS Annealed\",IF(AW20>0,\"≥DS Annealed\",IF(AY20>0,\"TS Annealed\",\"\")))","v":"≥SS Annealed"}]
[{"$f":"IF(ModelNo=B21,5,\"\")","v":""},"01HP","Top Glass Width",{"$f":"CMR!$E$13","v":-1.9375},null,19,"S175","New Construction 5 Lite Casement",0.5,0.5,null,null,80,19,120,78,198,"Standard",null,null,null,"Half",null,null,null,null,null,null,null,null,null,null,null,"Double Strength (3 mm)","Triple Strength (5 mm)",null,null,"Laminated",null,null,"<< Select Opening",null,null,null,null,null,null,null,{"$f":"IF(AND(AW17>0,AW18>0,AW19>0),1,0)","v":1},{"$f":"IF(AND(AX17>0,AX18>0,AX19>0),1,0)","v":1},{"$f":"IF(AND(AY17>0,AY18>0,AY19>0),1,0)","v":1},{"$f":"IF(AW21>0,\"≥DS Tempered\",IF(AY21>0,\"TS Tempered\",\"\"))","v":"≥DS Tempered"}]
[{"$f":"IF(ModelNo=B22,6,\"\")","v":""},"01HP","Top Glass Height",{"$f":"CMR!$E$15","v":-1.875},null,20,"0201","4000 Series Double Hung",0,0,null,null,11,20,52,84,132,"Standard","Oriel (2/3 - 1/3)","Cottage (1/3 - 2/3)","Custom","Half","Full","Locking",null,null,null,null,null,null,null,null,null,"Double Strength (3 mm)","Triple Strength (5 mm)",null,null,"Laminated",null,null,{"$f":"IF(RO=2,\"<< Exact Size Only\",\"\")","v":""},null,null,null,null,null,{"$f":"IF(AND(OR(AZ11=\"≥SS Annealed\",AZ11=\"≥DS Annealed\",AZ12=\"≥DS Tempered\",AZ20=\"≥SS Annealed\",AZ20=\"≥DS Annealed\",AZ21=\"≥DS Tempered\")),\"TIG\",\"\")","v":"TIG"},{"$f":"IF(AND(ANNEALED1=0,ANNEALED2=0,OR(TEMPERED1>0,TEMPERED2>0)),\"Tempered is Required for TIG\",\"\")","v":""}]
[{"$f":"IF(ModelNo=B23,7,\"\")","v":""},"01HP","Astragal Length",{"$f":"TRUNC((Frame_Width-1.218)*32+0.5)/32","v":-1.1875},null,21,"0202","4000 Series 2 Lite Slider",0,0,null,null,18,9,84,72,148,"Standard",null,null,null,"Half","Full",null,null,null,null,null,null,null,null,null,null,"Double Strength (3 mm)","Triple Strength (5 mm)",null,null,"Laminated",null,null,"",null,null,null,null,null,"Model","Width","Height","Area","Balance"]
[{"$f":"IF(ModelNo=B24,8,\"\")","v":""},"01HP","Screen Width",{"$f":"TRUNC((Frame_Width-1.75)*32+0.5)/32","v":-1.71875},null,22,"0203","4000 Series 3 Lite Slider (1/4-1/2-1/4)",0,0,null,null,47.5,9,120,72,192,"Standard (1/4-1/2-1/4)",null,null,null,"Half","Full",null,null,null,null,null,null,null,null,null,null,"Double Strength (3 mm)","Triple Strength (5 mm)",null,null,"Laminated",null,null,"",null,null,null,null,{"$f":"IF(ModelNo=AU24,ModelNo,0)","v":0},"3001",{"$f":"MAX($D$1122,$D$1124)","v":-3.125},{"$f":"MAX($D$1123,$D$1125)","v":-0.4375},{"$f":"(AV24*AW24)/144","v":9.4943576388888881E-3},{"$f":"IF(AND(OR(Glass=4,Glass=5),OR($D$1131=\"N/A\",$D$1133=\"N/A\")),1,IF(AND(Glass=3,Single_ST=0),1,0))","v":0}]
[{"$f":"IF(ModelNo=B25,9,\"\")","v":""},"01HP","Screen Height",{"$f":"TRUNC((CMR!$E$11-1.1875)*32+0.5)/32","v":-1.15625},null,23,"0204","4000 Series Picture Window",0,0,null,null,9,9,112,96,154,"Standard",null,null,null,null,null,null,null,null,null,null,null,null,null,null,null,"Double Strength (3 mm)","Triple Strength (5 mm)",null,null,"Laminated",null,null,"",null,null,null,null,{"$f":"IF(ModelNo=AU25,ModelNo,0)","v":0},"3002",{"$f":"$D$1140","v":-2.875},{"$f":"$D$1141","v":-5.9375},0.11854383680555555]
[{"$f":"IF(ModelNo=B26,10,\"\")","v":""},"01HP","Bottom Sash Weight",{"$f":"IF(ISERROR(BTM_WGT&\" \"&\"lb\"),\"N/A\",BTM_WGT&\" \"&\"lb\")","v":"N/A"},null,24,"0209","4000 Series 3 Lite Slider Equal Lite",0,0,null,null,37.25,9,120,72,192,"Standard (1/3-1/3-1/3)",null,null,null,"Half","Full",null,null,null,null,null,null,null,null,null,null,"Double Strength (3 mm)","Triple Strength (5 mm)",null,null,"Laminated",null,null,"",null,null,null,null,0,"3003",{"$f":"MAX($D$1152,$D$1154)","v":-1.6875},{"$f":"MAX($D$1153,$D$1155)","v":-5.9375},6.9580078125E-2]
[{"$f":"IF(ModelNo=B27,11,\"\")","v":""},"01HP","Balance Size (C.F)",{"$f":"IF(ISERROR((VLOOKUP(BTM_WGT,CFB,2,FALSE))&(VLOOKUP(BTM_WGT,CFB,3,FALSE))),\"N/A\",(VLOOKUP(BTM_WGT,CFB,2,FALSE))&(VLOOKUP(BTM_WGT,CFB,3,FALSE)))","v":"N/A"},null,25,"02A0","4000 Series Single Hung",0,0,null,null,11,20,52,84,132,"Standard","Oriel (2/3 - 1/3)","Cottage (1/3 - 2/3)","Custom","Half","Full","Locking",null,null,null,null,null,null,null,null,"Single Strength (2.5 mm)","Double Strength (3 mm)","Triple Strength (5 mm)",null,null,"Laminated",null,null,"",null,null,null,null,0,"3004",{"$f":"$D$1161","v":-4.1875},{"$f":"$D$1162","v":-4.1875},0.12177191840277778]
[{"$f":"IF(ModelNo=B28,12,\"\")","v":""},"01HP","Balance Size (Spiral)",{"$f":"BOTTUBELENGTH&\"-\"&BOT_SPIRAL","v":{"$error":"#N/A"}},null,26,"02A2","4000 Series 2 Lite Single Slider",0,0,null,null,18,12,84,66,148,"Standard",null,null,null,"Half","Full",null,null,null,null,null,null,null,null,null,"Single Strength (2.5 mm)","Double Strength (3 mm)","Triple Strength (5 mm)",null,null,"Laminated",null,null,"",null,null,null,null,0,"3009",{"$f":"MAX($D$1169,$D$1171)","v":-2.1875},{"$f":"MAX($D$1170,$D$1172)","v":-5.9375},9.0196397569444448E-2]
[{"$f":"IF(ModelNo=B29,13,\"\")","v":""},"01HP","Egress Opening Width",{"$f":"IF(ISERROR(EW),\"N/A\",EW)","v":"N/A"},null,27,"02A3","4000 Series 3 Lite Slider (1/4-1/2-1/4)",0,0,null,null,46,12,116,66,182,"Standard (1/4-1/2-1/4)",null,null,null,"Half","Full",null,null,null,null,null,null,null,null,null,"Single Strength (2.5 mm)","Double Strength (3 mm)","Triple Strength (5 mm)",null,null,"Laminated",null,null,"",null,null,null,null,0,"03A0",{"$f":"MAX($D$1180,$D$1182)","v":-4.6875},{"$f":"MAX($D$1181,$D$1183)","v":-2.59375},8.4431966145833329E-2,{"$f":"IF(AND(OR(Glass=4,Glass=5),$D$1188=\"N/A\"),1,IF(AND(Glass=3,Single_ST=0),1,0))","v":0}]
[{"$f":"IF(ModelNo=B30,14,\"\")","v":""},"01HP","Egress Opening Height",{"$f":"IF(ISERROR(EH),\"N/A\",EH)","v":"N/A"},null,28,"02A4","4000 Series Picture Window",0,0,null,null,9,9,96,96,154,"Standard",null,null,null,null,null,null,null,null,null,null,null,null,null,null,"Single Strength (2.5 mm)","Double Strength (3 mm)","Triple Strength (5 mm)",null,null,"Laminated",null,null,"",null,null,null,null,0,"03A2",{"$f":"MAX($D$1195,$D$1197)","v":-2.5625},{"$f":"MAX($D$1196,$D$1198)","v":-4.75},8.4526909722222224E-2]
[{"$f":"IF(ModelNo=B31,15,\"\")","v":""},"01HP","Egress Opening Area (sq.ft.)",{"$f":"IF(ISERROR(EO),\"N/A\",EO)","v":"N/A"},null,29,"02A9","4000 Series 3 Lite Slider Equal Lite",0,0,null,null,37.25,12,120,66,182,"Standard (1/3-1/3-1/3)",null,null,null,"Half","Full",null,null,null,null,null,null,null,null,null,"Single Strength (2.5 mm)","Double Strength (3 mm)","Triple Strength (5 mm)",null,null,"Laminated",null,null,"",null,null,null,null,0,"03A3",{"$f":"MAX($D$1207,$D$1209)","v":-1.5625},{"$f":"MAX($D$1208,$D$1210)","v":-4.8125},5.2218967013888888E-2]
[{"$f":"IF(ModelNo=B32,1,\"\")","v":""},"0102","Sash Width",{"$f":"(Frame_Width/2)+0.25","v":0.25},null,30,"3001","4000 Series Double Hung",0,0,null,null,12,20,{"$f":"IF(EXTSELECT=2,48,IF(EXTSELECT=3,52,\"\"))","v":""},{"$f":"IF(EXTSELECT=2,84,IF(EXTSELECT=3,96,\"\"))","v":""},{"$f":"IF(EXTSELECT=2,126,IF(EXTSELECT=3,148,\"\"))","v":""},"Standard","Oriel (2/3 - 1/3)","Cottage (1/3 - 2/3)","Custom","Half","Full","Locking","Select Reinforcement","Composite","Steel",null,null,null,null,null,null,"Double Strength (3 mm)","Triple Strength (5 mm)","Triple IG Single Strength","Triple IG Double Strength","Laminated",null,null,"",null,null,null,null,0,"03A4",{"$f":"$D$1161","v":-4.1875},{"$f":"$D$1162","v":-4.1875},0.12177191840277778]
[{"$f":"IF(ModelNo=B33,2,\"\")","v":""},"0102","Sash Height",{"$f":"Frame_Height-2.25","v":-2.25},null,31,"3002","4000 Series 2 Lite Slider",0,0,null,null,18.5,11.25,{"$f":"IF(EXTSELECT=2,72,IF(EXTSELECT=3,96,\"\"))","v":""},{"$f":"IF(EXTSELECT=2,56,IF(EXTSELECT=3,72,\"\"))","v":""},{"$f":"IF(EXTSELECT=2,128,IF(EXTSELECT=3,156,\"\"))","v":""},"Standard",null,null,null,"Half","Full",null,"Select Reinforcement","Composite","Steel",null,null,null,null,null,null,"Double Strength (3 mm)","Triple Strength (5 mm)","Triple IG Single Strength","Triple IG Double Strength","Laminated",null,null,"",null,null,null,null,0,"03A9",{"$f":"MAX($D$1219,$D$1221)","v":-2.0625},{"$f":"MAX($D$1220,$D$1222)","v":-4.8125},6.8929036458333329E-2]
[{"$f":"IF(ModelNo=B34,3,\"\")","v":""},"0102","Sash Glass Width",{"$f":"(Frame_Width/2)-1.4375","v":-1.4375},null,32,"3003","4000 Series 3 Lite Slider (1/4-1/2-1/4)",0,0,null,null,47.5,11.25,{"$f":"IF(EXTSELECT=2,108,IF(EXTSELECT=3,120,\"\"))","v":""},{"$f":"IF(EXTSELECT=2,56,IF(EXTSELECT=3,72,\"\"))","v":""},{"$f":"IF(EXTSELECT=2,164,IF(EXTSELECT=3,192,\"\"))","v":""},"Standard (1/4-1/2-1/4)",null,null,null,"Half","Full",null,"Select Reinforcement","Composite","Steel",null,null,null,null,null,null,"Double Strength (3 mm)","Triple Strength (5 mm)","Triple IG Single Strength","Triple IG Double Strength","Laminated",null,null,"",null,null,null,null,0,"0501",{"$f":"MAX($D$408,$D$410)","v":-6.0625},{"$f":"MAX($D$409,$D$411)","v":-4.0625},0.17103407118055555,{"$f":"IF(AND(OR(Glass=4,Glass=5),OR($D$415=\"N/A\",$D$418=\"N/A\")),1,IF(AND(Glass=3,Single_ST=0),1,0))","v":0}]
[{"$f":"IF(ModelNo=B35,4,\"\")","v":""},"0102","Sash Glass Height",{"$f":"Frame_Height-3.9375","v":-3.9375},null,33,"3004","4000 Series Picture Window",0,0,null,null,9.5,9.5,112,112,154,"Standard",null,null,null,null,null,null,null,null,null,null,null,null,null,null,null,"Double Strength (3 mm)","Triple Strength (5 mm)","Triple IG Single Strength","Triple IG Double Strength","Laminated",null,null,"",null,null,null,null,0,"0502",{"$f":"$D$426","v":-3.5},{"$f":"$D$427","v":-7.5},0.18229166666666666]
[{"$f":"IF(ModelNo=B36,5,\"\")","v":""},"0102","Fixed Glass Width",{"$f":"(Frame_Width/2)-1.9375","v":-1.9375},null,34,"3009","4000 Series 3 Lite Slider Equal Lite",0,0,null,null,37.25,11.25,{"$f":"IF(EXTSELECT=2,108,IF(EXTSELECT=3,120,\"\"))","v":""},{"$f":"IF(EXTSELECT=2,56,IF(EXTSELECT=3,72,\"\"))","v":""},{"$f":"IF(EXTSELECT=2,164,IF(EXTSELECT=3,192,\"\"))","v":""},"Standard (1/3-1/3-1/3)",null,null,null,"Half","Full",null,"Select Reinforcement","Composite","Steel",null,null,null,null,null,null,"Double Strength (3 mm)","Triple Strength (5 mm)","Triple IG Single Strength","Triple IG Double Strength","Laminated",null,null,"",null,null,null,null,0,"0503",{"$f":"MAX($D$438,$D$440)","v":-1.9375},{"$f":"MAX($D$439,$D$441)","v":-7.5},0.10091145833333333]
[{"$f":"IF(ModelNo=B37,6,\"\")","v":""},"0102","Fixed Glass Height",{"$f":"Frame_Height-2","v":-2},null,35,"03A0","4000 Series Single Hung",0,0,null,null,12,22,{"$f":"IF(EXTSELECT=2,48,IF(EXTSELECT=3,52,\"\"))","v":""},{"$f":"IF(EXTSELECT=2,78,IF(EXTSELECT=3,96,\"\"))","v":""},{"$f":"IF(EXTSELECT=2,126,IF(EXTSELECT=3,148,\"\"))","v":""},"Standard","Oriel (2/3 - 1/3)","Cottage (1/3 - 2/3)","Custom","Half","Full","Locking","Select Reinforcement","Composite","Steel",null,null,null,null,null,null,"Double Strength (3 mm)","Triple Strength (5 mm)","Triple IG Single Strength","Triple IG Double Strength","Laminated",null,null,"",null,null,null,null,0,"0504",{"$f":"$D$122","v":-4.625},{"$f":"$D$123","v":-4.625},0.14854600694444445]
[{"$f":"IF(ModelNo=B38,7,\"\")","v":""},"0102","Astragal Length",{"$f":"TRUNC((Frame_Height-1.218)*16+0.5)/16","v":-1.125},null,36,"03A2","4000 Series 2 Lite Single Slider",0,0,null,null,18.5,12,{"$f":"IF(EXTSELECT=2,72,IF(EXTSELECT=3,96,\"\"))","v":""},{"$f":"IF(EXTSELECT=2,56,IF(EXTSELECT=3,72,\"\"))","v":""},{"$f":"IF(EXTSELECT=2,128,IF(EXTSELECT=3,156,\"\"))","v":""},"Standard",null,null,null,"Half","Full",null,"Select Reinforcement","Composite","Steel",null,null,null,null,null,null,"Double Strength (3 mm)","Triple Strength (5 mm)","Triple IG Single Strength","Triple IG Double Strength","Laminated",null,null,"",null,null,null,null,0,"0509",{"$f":"MAX($D$452,$D$454)","v":-2.6875},{"$f":"MAX($D$453,$D$455)","v":-7.5},0.13997395833333334]
[{"$f":"IF(ModelNo=B39,8,\"\")","v":""},"0102","Roller Track Length",{"$f":"Frame_Width-1","v":-1},null,37,"03A3","4000 Series 3 Lite Slider (1/4-1/2-1/4)",0,0,null,null,52,12,{"$f":"IF(EXTSELECT=2,108,IF(EXTSELECT=3,110,\"\"))","v":""},{"$f":"IF(EXTSELECT=2,56,IF(EXTSELECT=3,72,\"\"))","v":""},{"$f":"IF(EXTSELECT=2,164,IF(EXTSELECT=3,182,\"\"))","v":""},"Standard (1/4-1/2-1/4)",null,null,null,"Half","Full",null,"Select Reinforcement","Composite","Steel",null,null,null,null,null,null,"Double Strength (3 mm)","Triple Strength (5 mm)","Triple IG Single Strength","Triple IG Double Strength","Laminated",null,null,"",null,null,null,null,0,"B501",{"$f":"MAX($D$408,$D$410)","v":-6.0625},{"$f":"MAX($D$409,$D$411)","v":-4.0625},0.17103407118055555,{"$f":"IF(AND(OR(Glass=4,Glass=5),OR($D$415=\"N/A\",$D$418=\"N/A\")),1,IF(AND(Glass=3,Single_ST=0),1,0))","v":0}]
[{"$f":"IF(ModelNo=B40,9,\"\")","v":""},"0102","Screen Width",{"$f":"(Frame_Width/2)-1.1875","v":-1.1875},null,38,"03A4","4000 Series Picture Window",0,0,null,null,9.5,9.5,112,112,154,"Standard",null,null,null,null,null,null,null,null,null,null,null,null,null,null,null,"Double Strength (3 mm)","Triple Strength (5 mm)","Triple IG Single Strength","Triple IG Double Strength","Laminated",null,null,"",null,null,null,null,0,"U501",{"$f":"MAX($D$408,$D$410)","v":-6.0625},{"$f":"MAX($D$409,$D$411)","v":-4.0625},0.17103407118055555,{"$f":"IF(AND(OR(Glass=4,Glass=5),OR($D$415=\"N/A\",$D$418=\"N/A\")),1,IF(AND(Glass=3,Single_ST=0),1,0))","v":0}]
[{"$f":"IF(ModelNo=B41,10,\"\")","v":""},"0102","Screen Height",{"$f":"Frame_Height-1.75","v":-1.75},null,39,"03A9","4000 Series 3 Lite Slider Equal Lite",0,0,null,null,52,12,{"$f":"IF(EXTSELECT=2,108,IF(EXTSELECT=3,120,\"\"))","v":""},{"$f":"IF(EXTSELECT=2,56,IF(EXTSELECT=3,72,\"\"))","v":""},{"$f":"IF(EXTSELECT=2,164,IF(EXTSELECT=3,192,\"\"))","v":""},"Standard (1/3-1/3-1/3)",null,null,null,"Half","Full",null,"Select Reinforcement","Composite","Steel",null,null,null,null,null,null,"Double Strength (3 mm)","Triple Strength (5 mm)","Triple IG Single Strength","Triple IG Double Strength","Laminated",null,null,"",null,null,null,null,0,"U502",{"$f":"$D$426","v":-3.5},{"$f":"$D$427","v":-7.5},0.18229166666666666]
[{"$f":"IF(ModelNo=B42,11,\"\")","v":""},"0102","Egress Opening Width",{"$f":"TRUNC(((Frame_Width/2)-3.25)*16+0.5)/16","v":-3.1875},null,40,"L201","2000 Series Double Hung",0,0,null,null,11,20,48,78,126,"Standard","Oriel (2/3 - 1/3)","Cottage (1/3 - 2/3)","Custom","Half","Full","Locking",null,null,null,null,null,null,null,null,"Single Strength (2.5 mm)","Double Strength (3 mm)","Triple Strength (5 mm)",null,null,null,null,null,"",null,null,null,null,0,"U503",{"$f":"MAX($D$438,$D$440)","v":-1.9375},{"$f":"MAX($D$439,$D$441)","v":-7.5},0.10091145833333333]
[{"$f":"IF(ModelNo=B43,12,\"\")","v":""},"0102","Egress Opening Height",{"$f":"TRUNC((Frame_Height-3.074)*16+0.5)/16","v":-3},null,41,"L202","2000 Series 2 Lite Slider",0,0,null,null,18,9,84,56,140,"Standard",null,null,null,"Half","Full",null,null,null,null,null,null,null,null,null,"Single Strength (2.5 mm)","Double Strength (3 mm)","Triple Strength (5 mm)",null,null,null,null,null,"",null,null,null,null,0,"U504",{"$f":"$D$122","v":-4.625},{"$f":"$D$123","v":-4.625},0.14854600694444445]
[{"$f":"IF(ModelNo=B44,13,\"\")","v":""},"0102","Egress Opening Area (sq.ft.)",{"$f":"(D42*D43)/144","v":6.640625E-2},null,42,"L203","2000 Series 3 Lite Slider (1/4-1/2-1/4)",0,0,null,null,48,9,108,56,164,"Standard (1/4-1/2-1/4)",null,null,null,"Half","Full",null,null,null,null,null,null,null,null,null,"Single Strength (2.5 mm)","Double Strength (3 mm)","Triple Strength (5 mm)",null,null,null,null,null,"",null,null,null,null,0,"U509",{"$f":"MAX($D$452,$D$454)","v":-2.6875},{"$f":"MAX($D$453,$D$455)","v":-7.5},0.13997395833333334]
[{"$f":"IF(ModelNo=B45,1,\"\")","v":""},"0103","Sash Width",{"$f":"Frame_Width/4","v":0},null,43,"L204","2000 Series Picture Window",0,0,null,null,9,9,96,96,154,"Standard",null,null,null,null,null,null,null,null,null,null,null,null,null,null,null,"Double Strength (3 mm)","Triple Strength (5 mm)",null,null,null,null,null,"",null,null,null,null,0,"0522",{"$f":"MAX($D$465,$D$467)","v":-4},{"$f":"MAX($D$466,$D$468)","v":-6.75},0.1875]
[{"$f":"IF(ModelNo=B46,2,\"\")","v":""},"0103","Sash Height",{"$f":"Frame_Height-2.25","v":-2.25},null,44,"L209","2000 Series 3 Lite Slider Equal Lite",0,0,null,null,38,9,108,56,164,"Standard (1/3-1/3-1/3)",null,null,null,"Half","Full",null,null,null,null,null,null,null,null,null,"Single Strength (2.5 mm)","Double Strength (3 mm)","Triple Strength (5 mm)",null,null,null,null,null,"",null,null,null,null,0,"0523",{"$f":"MAX($D$478,$D4437)","v":-2.25},{"$f":"MAX($D$479,$D$481)","v":-6.75},0.10546875]
[{"$f":"IF(ModelNo=B47,3,\"\")","v":""},"0103","Sash Glass Width",{"$f":"(TRUNC((Frame_Width/4-0.25)*16+0.5)/16)-1.4375","v":-1.625},null,45,"0301","New Const. Double Hung",0.5,0.5,null,null,14.25,25.25,48,78,126,"Standard","Oriel (2/3 - 1/3)","Cottage (1/3 - 2/3)","Custom","Half","Full",null,null,null,null,null,null,null,null,null,"Single Strength (2.5 mm)","Double Strength (3 mm)","Triple Strength (5 mm)",null,null,"Laminated",null,null,"<< Select Opening",null,null,null,null,0,"0529",{"$f":"MAX($D$491,$D$493)","v":-3.03125},{"$f":"MAX($D$492,$D$494)","v":-6.75},0.14208984375]
[{"$f":"IF(ModelNo=B48,4,\"\")","v":""},"0103","Sash Glass Height",{"$f":"Frame_Height-3.9375","v":-3.9375},null,46,"0401","Geneva Double Hung",0,0,null,null,14.25,24,48,78,126,"Standard","Oriel (2/3 - 1/3)","Cottage (1/3 - 2/3)","Custom","Half","Full","Locking",null,null,null,null,null,null,null,null,null,"Double Strength (3 mm)","Triple Strength (5 mm)",null,null,"Laminated",null,null,{"$f":"IF(RO=2,\"<< Exact Size Only\",\"\")","v":""},null,null,null,null,0,"0601",{"$f":"MAX($D$504,$D$506)","v":-6.0625},{"$f":"MAX($D$505,$D$507)","v":-3.75},0.15787760416666666,{"$f":"IF(AND(OR(Glass=4,Glass=5),OR($D$511=\"N/A\",$D$514=\"N/A\")),1,IF(AND(Glass=3,Single_ST=0),1,0))","v":0}]
[{"$f":"IF(ModelNo=B49,5,\"\")","v":""},"0103","Fixed Glass Width",{"$f":"(Frame_Width-2*(TRUNC((Frame_Width/4-0.25)*16+0.5)/16))-1.9375","v":-1.5625},null,47,"0402","Geneva 2 Lite Slider",0,0,null,null,24.625,15.125,84,64,148,"Standard",null,null,null,"Half","Full",null,null,null,null,null,null,null,null,null,null,"Double Strength (3 mm)","Triple Strength (5 mm)",null,null,"Laminated",null,null,"",null,null,null,null,0,"0602",{"$f":"$D$426","v":-3.5},{"$f":"$D$427","v":-7.5},0.18229166666666666]
[{"$f":"IF(ModelNo=B50,6,\"\")","v":""},"0103","Fixed Glass Height",{"$f":"Frame_Height-2","v":-2},null,48,"0403","Geneva 3 Lite Slider (1/4-1/2-1/4)",0,0,null,null,45.5,15.125,120,64,184,"Standard (1/4-1/2-1/4)",null,null,null,"Half","Full",null,null,null,null,null,null,null,null,null,null,"Double Strength (3 mm)","Triple Strength (5 mm)",null,null,"Laminated",null,null,"",null,null,null,null,0,"0603",{"$f":"MAX($D$438,$D$440)","v":-1.9375},{"$f":"MAX($D$439,$D$441)","v":-7.5},0.10091145833333333]
[{"$f":"IF(ModelNo=B51,7,\"\")","v":""},"0103","Astragal Length",{"$f":"TRUNC((Frame_Height-1.218)*16+0.5)/16","v":-1.125},null,49,"0404","Geneva Picture Window",0,0,null,null,12,12,96,84,154,"Standard",null,null,null,null,null,null,null,null,null,null,null,null,null,null,null,"Double Strength (3 mm)","Triple Strength (5 mm)",null,null,"Laminated",null,null,"",null,null,null,null,0,"0609",{"$f":"MAX($D$452,$D$454)","v":-2.6875},{"$f":"MAX($D$453,$D$455)","v":-7.5},0.13997395833333334]
[{"$f":"IF(ModelNo=B52,8,\"\")","v":""},"0103","Roller Track Length",{"$f":"Frame_Width-1","v":-1},null,50,"0409","Geneva 3 Lite Slider Equal Lite",0,0,null,null,35.125,15.125,120,64,184,"Standard (1/3-1/3-1/3)",null,null,null,"Half","Full",null,null,null,null,null,null,null,null,null,null,"Double Strength (3 mm)","Triple Strength (5 mm)",null,null,"Laminated",null,null,"",null,null,null,null,0,"0614",{"$f":"$D$122","v":-4.625},{"$f":"$D$123","v":-4.625},0.14854600694444445]
[{"$f":"IF(ModelNo=B53,9,\"\")","v":""},"0103","Screen Width",{"$f":"(Frame_Width/4)-1.3125","v":-1.3125},null,51,"0501","6000 Series Double Hung",0,0,null,null,15.25,26.75,52,84,136,"Standard","Oriel (2/3 - 1/3)","Cottage (1/3 - 2/3)","Custom","Half","Full","Locking",null,null,null,null,null,null,null,null,null,"Double Strength (3 mm)","Triple Strength (5 mm)","Triple IG Single Strength","Triple IG Double Strength","Laminated",null,null,"",null,null,null,null,0,"B601",{"$f":"MAX($D$504,$D$506)","v":-6.0625},{"$f":"MAX($D$505,$D$507)","v":-3.75},0.15787760416666666,{"$f":"IF(AND(OR(Glass=4,Glass=5),OR($D$511=\"N/A\",$D$514=\"N/A\")),1,IF(AND(Glass=3,Single_ST=0),1,0))","v":0}]
[{"$f":"IF(ModelNo=B54,10,\"\")","v":""},"0103","Screen Height",{"$f":"Frame_Height-1.75","v":-1.75},null,52,"0502","6000 Series 2 Lite Slider",0,0,null,null,25.25,16.625,84,68,148,"Standard",null,null,null,"Half","Full",null,null,null,null,null,null,null,null,null,null,"Double Strength (3 mm)","Triple Strength (5 mm)","Triple IG Single Strength","Triple IG Double Strength","Laminated",null,null,"",null,null,null,null,0,"U601",{"$f":"MAX($D$504,$D$506)","v":-6.0625},{"$f":"MAX($D$505,$D$507)","v":-3.75},0.15787760416666666,{"$f":"IF(AND(OR(Glass=4,Glass=5),OR($D$511=\"N/A\",$D$514=\"N/A\")),1,IF(AND(Glass=3,Single_ST=0),1,0))","v":0}]
[{"$f":"IF(ModelNo=B55,11,\"\")","v":""},"0103","Egress Opening Width",{"$f":"(Frame_Width/4)-2.3125","v":-2.3125},null,53,"0503","6000 Series 3 Lite Slider (1/4-1/2-1/4)",0,0,null,null,44.5,16.625,120,68,188,"Standard (1/4-1/2-1/4)",null,null,null,"Half","Full",null,null,null,null,null,null,null,null,null,null,"Double Strength (3 mm)","Triple Strength (5 mm)","Triple IG Single Strength","Triple IG Double Strength","Laminated",null,null,"",null,null,null,null,0,"U602",{"$f":"$D$426","v":-3.5},{"$f":"$D$427","v":-7.5},0.18229166666666666]
[{"$f":"IF(ModelNo=B56,12,\"\")","v":""},"0103","Egress Opening Height",{"$f":"TRUNC((Frame_Height-3.074)*16+0.5)/16","v":-3},null,54,"0504","6000 Series Picture Window",0,0,null,null,13,13,96,96,154,"Standard",null,null,null,null,null,null,null,null,null,null,null,null,null,null,null,"Double Strength (3 mm)","Triple Strength (5 mm)","Triple IG Single Strength","Triple IG Double Strength","Laminated",null,null,"",null,null,null,null,{"$f":"IF(ModelNo=AU56,ModelNo,0)","v":0},"U603",{"$f":"MAX($D$438,$D$440)","v":-1.9375},{"$f":"MAX($D$439,$D$441)","v":-7.5},{"$f":"(AV56*AW56)/144","v":0.10091145833333333}]
[{"$f":"IF(ModelNo=B57,13,\"\")","v":""},"0103","Egress Opening Area (sq.ft.)",{"$f":"(D55*D56)/144","v":4.8177083333333336E-2},null,55,"0509","6000 Series 3 Lite Slider Equal Lite",0,0,null,null,35.5,16.625,112,68,184,"Standard (1/3-1/3-1/3)",null,null,null,"Half","Full",null,null,null,null,null,null,null,null,null,null,"Double Strength (3 mm)","Triple Strength (5 mm)","Triple IG Single Strength","Triple IG Double Strength","Laminated",null,null,"",null,null,null,null,0,"U609",{"$f":"MAX($D$452,$D$454)","v":-2.6875},{"$f":"MAX($D$453,$D$455)","v":-7.5},0.13997395833333334]
[{"$f":"IF(ModelNo=B58,1,\"\")","v":""},"0104","Glass Width",{"$f":"Frame_Width-1.9375","v":-1.9375},null,56,"0522","Swing & Clean 2 Lite Slider",0,0,null,null,30,20,72,60,120,"Standard",null,null,null,"Half","Full",null,null,null,null,null,null,null,null,null,null,"Double Strength (3 mm)","Triple Strength (5 mm)","Triple IG Single Strength","Triple IG Double Strength","Laminated",null,null,"",null,null,null,null,0,"U614",{"$f":"$D$122","v":-4.625},{"$f":"$D$123","v":-4.625},0.14854600694444445]
[{"$f":"IF(ModelNo=B59,2,\"\")","v":""},"0104","Glass Height",{"$f":"Frame_Height-1.9375","v":-1.9375},null,57,"0523","Swing & Clean 3 Lite Slider (1/4-1/2-1/4)",0,0,null,null,48,20,84,60,144,"Standard (1/4-1/2-1/4)",null,null,null,"Half","Full",null,null,null,null,null,null,null,null,null,null,"Double Strength (3 mm)","Triple Strength (5 mm)","Triple IG Single Strength","Triple IG Double Strength","Laminated",null,null,"",null,null,null,null,0,"0951",{"$f":"$D$76","v":-4.625},{"$f":"$D$77","v":-4.625},0.14854600694444445]
[{"$f":"IF(ModelNo=B60,3,\"\")","v":""},"0104","Glass Area (sq.ft.)",{"$f":"(D58*D59)/144","v":2.6068793402777776E-2},null,58,"0529","Swing & Clean 3 Lite Slider Equal Lite",0,0,null,null,48,20,84,60,144,"Standard (1/3-1/3-1/3)",null,null,null,"Half","Full",null,null,null,null,null,null,null,null,null,null,"Double Strength (3 mm)","Triple Strength (5 mm)","Triple IG Single Strength","Triple IG Double Strength","Laminated",null,null,"",null,null,null,null,0,"0952",{"$f":"MAX($D$86,$D$88)","v":-4.625},{"$f":"MAX($D$87,$D$89)","v":-4.375},0.14051649305555555]
[{"$f":"IF(ModelNo=B61,1,\"\")","v":""},"0109","Sash Width",{"$f":"TRUNC(((Frame_Width/3)+0.4375)*16+0.5)/16","v":0.4375},null,59,"0601","6000 Series Double Hung",0,0,null,null,15.25,25.875,52,84,136,"Standard","Oriel (2/3 - 1/3)","Cottage (1/3 - 2/3)","Custom","Half","Full","Locking",null,null,null,null,null,null,null,null,null,"Double Strength (3 mm)","Triple Strength (5 mm)","Triple IG Single Strength","Triple IG Double Strength","Laminated",null,null,"",null,null,null,null,0,"0953",{"$f":"MAX($D$97,$D$99)","v":-4.625},{"$f":"MAX($D$98,$D$100)","v":-4.375},0.14051649305555555]
[{"$f":"IF(ModelNo=B62,2,\"\")","v":""},"0109","Sash Height",{"$f":"Frame_Height-2.25","v":-2.25},null,60,"0602","6000 Series 2 Lite Slider",0,0,null,null,25.25,16.625,84,68,148,"Standard",null,null,null,"Half","Full",null,null,null,null,null,null,null,null,null,null,"Double Strength (3 mm)","Triple Strength (5 mm)","Triple IG Single Strength","Triple IG Double Strength","Laminated",null,null,"",null,null,null,null,0,"0954",{"$f":"MAX($D$108,$D$110)","v":-4.625},{"$f":"MAX($D$109,$D$111)","v":-4.375},0.14051649305555555]
[{"$f":"IF(ModelNo=B63,3,\"\")","v":""},"0109","Sash Glass Width",{"$f":"(TRUNC((Frame_Width/3+0.1875)*16+0.5)/16)-1.4375","v":-1.25},null,61,"0603","6000 Series 3 Lite Slider (1/4-1/2-1/4)",0,0,null,null,44.5,16.625,120,68,188,"Standard (1/4-1/2-1/4)",null,null,null,"Half","Full",null,null,null,null,null,null,null,null,null,null,"Double Strength (3 mm)","Triple Strength (5 mm)","Triple IG Single Strength","Triple IG Double Strength","Laminated",null,null,"",null,null,null,null,0,"0955",{"$f":"$D$117","v":-4.625},{"$f":"$D$118","v":-4.375},0.14051649305555555]
[{"$f":"IF(ModelNo=B64,4,\"\")","v":""},"0109","Sash Glass Height",{"$f":"Frame_Height-3.9375","v":-3.9375},null,62,"0605","6000 Series Dead Lite",0,0,null,null,14,14,72,60,118,"Standard",null,null,null,null,null,null,null,null,null,null,null,null,null,null,null,"Double Strength (3 mm)","Triple Strength (5 mm)",null,null,"Laminated",null,null,"",null,null,null,null,0,"0970",{"$f":"$D$122","v":-4.625},{"$f":"$D$123","v":-4.625},0.14854600694444445]
[{"$f":"IF(ModelNo=B65,5,\"\")","v":""},"0109","Fixed Glass Width",{"$f":"(Frame_Width-2*(TRUNC((Frame_Width/3+0.1875)*16+0.5)/16))-1.9375","v":-2.3125},null,63,"0609","6000 Series 3 Lite Slider Equal Lite",0,0,null,null,35.5,16.625,112,68,184,"Standard (1/3-1/3-1/3)",null,null,null,"Half","Full",null,null,null,null,null,null,null,null,null,null,"Double Strength (3 mm)","Triple Strength (5 mm)","Triple IG Single Strength","Triple IG Double Strength","Laminated",null,null,"",null,null,null,null,0,"B970",{"$f":"$D$122","v":-4.625},{"$f":"$D$123","v":-4.625},0.14854600694444445]
[{"$f":"IF(ModelNo=B66,6,\"\")","v":""},"0109","Fixed Glass Height",{"$f":"Frame_Height-2","v":-2},null,64,"0614","6000 Series Picture Window",0,0,null,null,13,13,96,96,154,"Standard",null,null,null,null,null,null,null,null,null,null,null,null,null,null,null,"Double Strength (3 mm)","Triple Strength (5 mm)","Triple IG Single Strength","Triple IG Double Strength","Laminated",null,null,"",null,null,null,null,0,"0971",{"$f":"$D$127","v":-4.625},{"$f":"$D$128","v":-4.625},0.14854600694444445]
[{"$f":"IF(ModelNo=B67,7,\"\")","v":""},"0109","Astragal Length",{"$f":"TRUNC((Frame_Height-1.218)*16+0.5)/16","v":-1.125},null,65,"0700","0700 Series Single Hung",0,0,null,null,14.375,23.75,52,72,120,"Standard","Oriel (2/3 - 1/3)","Cottage (1/3 - 2/3)","Custom","Half",null,null,null,null,null,null,null,null,null,null,"Single Strength (2.5 mm)","Double Strength (3 mm)","Triple Strength (5 mm)",null,null,"Laminated",null,null,"",null,null,null,null,0,"B971",{"$f":"$D$127","v":-4.625},{"$f":"$D$128","v":-4.625},0.14854600694444445]
[{"$f":"IF(ModelNo=B68,8,\"\")","v":""},"0109","Roller Track Length",{"$f":"Frame_Width-1","v":-1},null,66,"07HP","0700 Series Single Hung High Performance",0,0,null,null,14.375,23.75,52,77,129,"Standard","Oriel (2/3 - 1/3)","Cottage (1/3 - 2/3)","Custom","Half",null,null,null,null,null,null,null,null,null,null,"Single Strength (2.5 mm)","Double Strength (3 mm)","Triple Strength (5 mm)",null,null,"Laminated",null,null,{"$f":"IF(RO=2,\"<< Exact Size Only\",\"\")","v":""},null,null,null,null,0,"0972",{"$f":"$D$139","v":-4.375},{"$f":"$D$140","v":-4.625},0.14051649305555555]
[{"$f":"IF(ModelNo=B69,9,\"\")","v":""},"0109","Screen Width",{"$f":"TRUNC(((Frame_Width/3)-0.875)*16+0.5)/16","v":-0.8125},null,67,"0702","0700 Series 2 Lite Slider",0,0,null,null,23.5,14.25,72,60,132,"Standard",null,null,null,"Half",null,null,null,null,null,null,null,null,null,null,"Single Strength (2.5 mm)","Double Strength (3 mm)","Triple Strength (5 mm)",null,null,"Laminated",null,null,"",null,null,null,null,0,"0973",{"$f":"MAX($D$153,$D$155)","v":-4.125},{"$f":"MAX($D$154,$D$156)","v":-4.625},0.13248697916666666]
[{"$f":"IF(ModelNo=B70,10,\"\")","v":""},"0109","Screen Height",{"$f":"Frame_Height-1.75","v":-1.75},null,68,"0703","0700 Series 3 Lite Slider (1/4-1/2-1/4)",0,0,null,null,48,14.25,108,60,168,"Standard (1/4-1/2-1/4)",null,null,null,"Half",null,null,null,null,null,null,null,null,null,null,"Single Strength (2.5 mm)","Double Strength (3 mm)","Triple Strength (5 mm)",null,null,"Laminated",null,null,"",null,null,null,null,0,"0974",{"$f":"MAX($D$185,$D$187)","v":-4.25},{"$f":"MAX($D$186,$D$188)","v":-4.625},0.1365017361111111]
[{"$f":"IF(ModelNo=B71,11,\"\")","v":""},"0109","Egress Opening Width",{"$f":"TRUNC(((Frame_Width/3)-4.3125)*16+0.5)/16","v":-4.25},null,69,"0704","0700 Series Picture Window",0,0,null,null,12,12,96,96,154,"Standard",null,null,null,null,null,null,null,null,null,null,null,null,null,null,null,"Double Strength (3 mm)","Triple Strength (5 mm)",null,null,"Laminated",null,null,"",null,null,null,null,0,"0975",{"$f":"MAX($D$201,$D$203)","v":-4.1875},{"$f":"MAX($D$202,$D$204)","v":-4.625},0.1344943576388889]
[{"$f":"IF(ModelNo=B72,12,\"\")","v":""},"0109","Egress Opening Height",{"$f":"TRUNC((Frame_Height-3.074)*16+0.5)/16","v":-3},null,70,"0709","0700 Series 3 Lite Slider Equal Lite",0,0,null,null,34.75,14.25,108,60,168,"Standard (1/3-1/3-1/3)",null,null,null,"Half",null,null,null,null,null,null,null,null,null,null,"Single Strength (2.5 mm)","Double Strength (3 mm)","Triple Strength (5 mm)",null,null,"Laminated",null,null,"",null,null,null,null,0,"0979",{"$f":"MAX($D$169,$D$171)","v":-4.25},{"$f":"MAX($D$170,$D$172)","v":-4.625},0.1365017361111111]
[{"$f":"IF(ModelNo=B73,13,\"\")","v":""},"0109","Egress Opening Area (sq.ft.)",{"$f":"(D71*D72)/144","v":8.8541666666666671E-2},null,71,"0901","1000 Series Double Hung",0,0,null,null,15,22,48,84,132,"Standard","Oriel (2/3 - 1/3)","Cottage (1/3 - 2/3)","Custom","Half","Full","Locking",null,null,null,null,null,null,null,null,null,"Double Strength (3 mm)","Triple Strength (5 mm)",null,null,"Laminated",null,null,"",null,null,null,null,0,"6102",{"$f":"$D$737","v":-3.75},{"$f":"$D$738","v":-8.9375},0.23274739583333334]
[{"$f":"IF(OR(ModelNo=\"0151\",ModelNo=\"0951\",ModelNo=\"9051\",ModelNo=\"8051\"),1,\"\")","v":""},"0151","Sash Width",{"$f":"Frame_Width-1.625","v":-1.625},null,72,"0902","1000 Series 2 Lite Slider",0,0,null,null,21.5,15.5,84,66,148,"Standard",null,null,null,"Half","Full",null,null,null,null,null,null,null,null,null,null,"Double Strength (3 mm)","Triple Strength (5 mm)",null,null,"Laminated",null,null,"",null,null,null,null,0,"6103",{"$f":"$D$749","v":-3.5625},{"$f":"$D$750","v":-8.9375},0.22111002604166666]
[{"$f":"IF(OR(ModelNo=\"0151\",ModelNo=\"0951\",ModelNo=\"9051\",ModelNo=\"8051\"),2,\"\")","v":""},"0151","Sash Height",{"$f":"Frame_Height-1.625","v":-1.625},null,73,"0903","1000 Series 3 Lite Slider (1/4-1/2-1/4)",0,0,null,null,39.75,15.5,108,66,164,"Standard (1/4-1/2-1/4)",null,null,null,"Half","Full",null,null,null,null,null,null,null,null,null,null,"Double Strength (3 mm)","Triple Strength (5 mm)",null,null,"Laminated",null,null,"",null,null,null,null,0,"6104",{"$f":"$D$763","v":-3.25},{"$f":"$D$764","v":-8.9375},0.20171440972222221]
[{"$f":"IF(OR(ModelNo=\"0151\",ModelNo=\"0951\",ModelNo=\"9051\",ModelNo=\"8051\"),3,\"\")","v":""},"0151","Sash Glass Width",{"$f":"Frame_Width-4.625","v":-4.625},null,74,"09C7","Single Vent Hopper",0,0,null,null,12,12,36,36,55,"Standard",null,null,null,null,"Full",null,null,null,null,null,null,null,null,null,null,"Double Strength (3 mm)","Triple Strength (5 mm)",null,null,"Laminated",null,null,"",null,null,null,null,0,"6105",{"$f":"$D$737","v":-3.75},{"$f":"$D$738","v":-8.9375},0.23274739583333334]
[{"$f":"IF(OR(ModelNo=\"0151\",ModelNo=\"0951\",ModelNo=\"9051\",ModelNo=\"8051\"),4,\"\")","v":""},"0151","Sash Glass Height",{"$f":"Frame_Height-4.625","v":-4.625},null,75,"0909","1000 Series 3 Lite Slider Equal Lite",0,0,null,null,30.25,15.5,120,66,164,"Standard (1/3-1/3-1/3)",null,null,null,"Half","Full",null,null,null,null,null,null,null,null,null,null,"Double Strength (3 mm)","Triple Strength (5 mm)",null,null,"Laminated",null,null,"",null,null,null,null,0,"6106",{"$f":"$D$737","v":-3.75},{"$f":"$D$738","v":-8.9375},0.23274739583333334]
[{"$f":"IF(OR(ModelNo=\"0151\",ModelNo=\"0951\",ModelNo=\"9051\",ModelNo=\"8051\"),5,\"\")","v":""},"0151","Glass Area (sq.ft.)",{"$f":"(D76*D77)/144","v":0.14854600694444445},null,76,"0914","1000 Series Picture Window",0,0,null,null,14.5,13,96,84,154,"Standard",null,null,null,null,null,null,null,null,null,null,null,null,null,null,null,"Double Strength (3 mm)","Triple Strength (5 mm)",null,null,"Laminated",null,null,"",null,null,null,null,0,"6108",{"$f":"$D$737","v":-3.75},{"$f":"$D$738","v":-8.9375},0.23274739583333334]
[{"$f":"IF(OR(ModelNo=\"0151\",ModelNo=\"0951\",ModelNo=\"9051\",ModelNo=\"8051\"),6,\"\")","v":""},"0151","Screen Width",{"$f":"Frame_Width-4","v":-4},null,77,"09L1","1000 Lite Series Double Hung",0,0,null,null,15,22,44,77,121,"Standard","Oriel (2/3 - 1/3)","Cottage (1/3 - 2/3)","Custom","Half","Full","Locking",null,null,null,null,null,null,null,null,"Single Strength (2.5 mm)","Double Strength (3 mm)","Triple Strength (5 mm)",null,null,"Laminated",null,null,"",null,null,null,null,0,"6109",{"$f":"$D$749","v":-3.5625},{"$f":"$D$750","v":-8.9375},0.22111002604166666]
[{"$f":"IF(OR(ModelNo=\"0151\",ModelNo=\"0951\",ModelNo=\"9051\",ModelNo=\"8051\"),7,\"\")","v":""},"0151","Screen Height",{"$f":"Frame_Height-4","v":-4},null,78,"09L2","1000 Lite Series 2 Lite Slider",0,0,null,null,21.5,15.5,72,56,128,"Standard",null,null,null,"Half","Full",null,null,null,null,null,null,null,null,null,"Single Strength (2.5 mm)","Double Strength (3 mm)","Triple Strength (5 mm)",null,null,"Laminated",null,null,"",null,null,null,null,0,"6112",{"$f":"$D$763","v":-3.25},{"$f":"$D$764","v":-8.9375},0.20171440972222221]
[{"$f":"IF(OR(ModelNo=\"0151\",ModelNo=\"0951\",ModelNo=\"9051\",ModelNo=\"8051\"),8,\"\")","v":""},"0151","Awning Does not Meet Egress",null,null,79,"09L3","1000 Lite Series 3 Lite Slider (1/4-1/2-1/4)",0,0,null,null,39.75,15.5,108,56,164,"Standard (1/4-1/2-1/4)",null,null,null,"Half","Full",null,null,null,null,null,null,null,null,null,"Single Strength (2.5 mm)","Double Strength (3 mm)","Triple Strength (5 mm)",null,null,"Laminated",null,null,"",null,null,null,null,0,"6122",{"$f":"$D$749","v":-3.5625},{"$f":"$D$750","v":-8.9375},0.22111002604166666]
[{"$f":"IF(OR(ModelNo=\"0152\",ModelNo=\"0952\",ModelNo=\"9052\",ModelNo=\"8052\"),1,\"\")","v":""},"0152","Operating Sash Width",{"$f":"Frame_Width-1.625","v":-1.625},null,80,"09L4","1000 Lite Series Picture Window",0,0,null,null,14.5,13,96,84,154,"Standard",null,null,null,null,null,null,null,null,null,null,null,null,null,null,null,"Double Strength (3 mm)","Triple Strength (5 mm)",null,null,"Laminated",null,null,"",null,null,null,null,0,"6175",{"$f":"$D$737","v":-3.75},{"$f":"$D$738","v":-8.9375},0.23274739583333334]
[{"$f":"IF(OR(ModelNo=\"0152\",ModelNo=\"0952\",ModelNo=\"9052\",ModelNo=\"8052\"),2,\"\")","v":""},"0152","Operating Sash Height",{"$f":"(Frame_Height/2)-1.375","v":-1.375},null,81,"09L9","1000 Lite Series 3 Lite Slider Equal Lite",0,0,null,null,30.25,15.5,108,56,164,"Standard (1/3-1/3-1/3)",null,null,null,"Half","Full",null,null,null,null,null,null,null,null,null,"Single Strength (2.5 mm)","Double Strength (3 mm)","Triple Strength (5 mm)",null,null,"Laminated",null,null,"",null,null,null,null,0,"6402",{"$f":"$D$1087","v":-5.125},{"$f":"$D$1088","v":-8.625},0.30696614583333331]
[{"$f":"IF(OR(ModelNo=\"0152\",ModelNo=\"0952\",ModelNo=\"9052\",ModelNo=\"8052\"),3,\"\")","v":""},"0152","Fixed Sash Width",{"$f":"Frame_Width-1.625","v":-1.625},null,82,"0951","Single Vent Awning",0,0,null,null,19,16,48,48,96,"Standard",null,null,null,null,"Full",null,null,null,null,null,null,null,null,null,null,"Double Strength (3 mm)","Triple Strength (5 mm)","Triple IG Single Strength","Triple IG Double Strength","Laminated",null,null,"",null,null,null,null,0,"6403",{"$f":"$D$1100","v":-5},{"$f":"$D$1101","v":-8.625},0.29947916666666669]
[{"$f":"IF(OR(ModelNo=\"0152\",ModelNo=\"0952\",ModelNo=\"9052\",ModelNo=\"8052\"),4,\"\")","v":""},"0152","Fixed Sash Height",{"$f":"(Frame_Height/2)-1.375","v":-1.375},null,83,"0952","Awning W/ Transom Equal Lite",0,0,null,null,19,32,48,96,144,"Standard",null,null,null,"Half",null,null,null,null,null,null,null,null,null,null,null,"Double Strength (3 mm)","Triple Strength (5 mm)","Triple IG Single Strength","Triple IG Double Strength","Laminated",null,null,"",null,null,null,null,0,"6404",{"$f":"$D$1113","v":-4.6875},{"$f":"$D$1114","v":-8.625},0.28076171875]
[{"$f":"IF(OR(ModelNo=\"0152\",ModelNo=\"0952\",ModelNo=\"9052\",ModelNo=\"8052\"),5,\"\")","v":""},"0152","Operating Sash Glass Width",{"$f":"Frame_Width-4.625","v":-4.625},null,84,"0953","Awning W/ Transom (1/3-2/3)",0,0,null,null,19,48,48,96,144,"Standard",null,null,null,"Half",null,null,null,null,null,null,null,null,null,null,null,"Double Strength (3 mm)","Triple Strength (5 mm)","Triple IG Single Strength","Triple IG Double Strength","Laminated",null,null,"",null,null,null,null,0,"6405",{"$f":"$D$1087","v":-5.125},{"$f":"$D$1088","v":-8.625},0.30696614583333331]
[{"$f":"IF(OR(ModelNo=\"0152\",ModelNo=\"0952\",ModelNo=\"9052\",ModelNo=\"8052\"),6,\"\")","v":""},"0152","Operating Sash Glass Height",{"$f":"Frame_Height/2-4.375","v":-4.375},null,85,"0954","Single Vent Awning W/ Bottom Transom",0,0,null,null,19,32,48,96,144,"Standard",null,null,null,"Half",null,null,null,null,null,null,null,null,null,null,null,"Double Strength (3 mm)","Triple Strength (5 mm)","Triple IG Single Strength","Triple IG Double Strength","Laminated",null,null,"",null,null,null,null,0,"6406",{"$f":"$D$1087","v":-5.125},{"$f":"$D$1088","v":-8.625},0.30696614583333331]
[{"$f":"IF(OR(ModelNo=\"0152\",ModelNo=\"0952\",ModelNo=\"9052\",ModelNo=\"8052\"),7,\"\")","v":""},"0152","Fixed Sash Glass Width",{"$f":"Frame_Width-4.625","v":-4.625},null,86,"0955","Dual Vent Awning Equal Lite",0,0,null,null,19,32,48,96,144,"Standard",null,null,null,"Half",null,null,null,null,null,null,null,null,null,null,null,"Double Strength (3 mm)","Triple Strength (5 mm)","Triple IG Single Strength","Triple IG Double Strength","Laminated",null,null,"",null,null,null,null,{"$f":"IF(ModelNo=AU88,ModelNo,0)","v":0},"6408",{"$f":"$D$1087","v":-5.125},{"$f":"$D$1088","v":-8.625},{"$f":"(AV88*AW88)/144","v":0.30696614583333331}]
[{"$f":"IF(OR(ModelNo=\"0152\",ModelNo=\"0952\",ModelNo=\"9052\",ModelNo=\"8052\"),8,\"\")","v":""},"0152","Fixed Sash Glass Height",{"$f":"Frame_Height/2-4.375","v":-4.375},null,87,"0970","Casement Picture Window",0,0,null,null,13,13,96,96,154,"Standard",null,null,null,null,null,null,null,null,null,null,null,null,null,null,null,"Double Strength (3 mm)","Triple Strength (5 mm)","Triple IG Single Strength","Triple IG Double Strength","Laminated",null,null,"",null,null,null,null,{"$f":"IF(ModelNo=AU89,ModelNo,0)","v":0},"6409",{"$f":"$D$1100","v":-5},{"$f":"$D$1101","v":-8.625},{"$f":"(AV89*AW89)/144","v":0.29947916666666669}]
[{"$f":"IF(OR(ModelNo=\"0152\",ModelNo=\"0952\",ModelNo=\"9052\",ModelNo=\"8052\"),9,\"\")","v":""},"0152","Screen Width",{"$f":"Frame_Width-4","v":-4},null,88,"0971","Single Vent Casement",0,0,null,null,16,19,36,78,114,"Standard",null,null,null,null,"Full",null,null,null,null,null,null,null,null,null,null,"Double Strength (3 mm)","Triple Strength (5 mm)","Triple IG Single Strength","Triple IG Double Strength","Laminated",null,null,{"$f":"IF(RO=2,\"<< Exact Size Only\",\"\")","v":""},null,null,null,null,{"$f":"IF(ModelNo=AU90,ModelNo,0)","v":0},"6412",{"$f":"$D$1113","v":-4.6875},{"$f":"$D$1114","v":-8.625},{"$f":"(AV90*AW90)/144","v":0.28076171875}]
[{"$f":"IF(OR(ModelNo=\"0152\",ModelNo=\"0952\",ModelNo=\"9052\",ModelNo=\"8052\"),10,\"\")","v":""},"0152","Screen Height",{"$f":"(Frame_Height/2)-3.6875","v":-3.6875},null,89,"0972","Dual Vent Casement",0,0,null,null,32,19,72,78,150,"Standard",null,null,null,"Half",null,null,null,null,null,null,null,null,null,null,null,"Double Strength (3 mm)","Triple Strength (5 mm)","Triple IG Single Strength","Triple IG Double Strength","Laminated",null,null,"",null,null,null,null,{"$f":"IF(ModelNo=AU91,ModelNo,0)","v":0},"6422",{"$f":"$D$1100","v":-5},{"$f":"$D$1101","v":-8.625},{"$f":"(AV91*AW91)/144","v":0.29947916666666669}]
[{"$f":"IF(OR(ModelNo=\"0152\",ModelNo=\"0952\",ModelNo=\"9052\",ModelNo=\"8052\"),11,\"\")","v":""},"0152","Awning Does not Meet Egress",null,null,90,"0973","Dual Vent 3 Lite Casement (1/4-1/2-1/4)",0,0,null,null,64,19,120,78,198,"Standard (1/4-1/2-1/4)",null,null,null,"Half",null,null,null,null,null,null,null,null,null,null,null,"Double Strength (3 mm)","Triple Strength (5 mm)","Triple IG Single Strength","Triple IG Double Strength","Laminated",null,null,"",null,null,null,null,{"$f":"IF(ModelNo=AU92,ModelNo,0)","v":0},"6475",{"$f":"$D$1087","v":-5.125},{"$f":"$D$1088","v":-8.625},{"$f":"(AV92*AW92)/144","v":0.30696614583333331}]
[{"$f":"IF(OR(ModelNo=\"0153\",ModelNo=\"0953\",ModelNo=\"9053\",ModelNo=\"8053\"),1,\"\")","v":""},"0153","Operating Sash Width",{"$f":"Frame_Width-1.625","v":-1.625},null,91,"0974","4 Lite Casement",0,0,null,null,64,19,120,78,198,"Standard",null,null,null,"Half",null,null,null,null,null,null,null,null,null,null,null,"Double Strength (3 mm)","Triple Strength (5 mm)","Triple IG Single Strength","Triple IG Double Strength","Laminated",null,null,"",null,null,null,null,null,{"$f":"IF(ISERROR(VLOOKUP(ModelNo,AT24:AU92,2,FALSE)),\"\",ModelNo)","v":""},{"$f":"IF(ISERROR(VLOOKUP(ModelNo,$AU$24:$AY$92,2,FALSE)),0,VLOOKUP(ModelNo,$AU$24:$AY$92,2,FALSE))","v":0},{"$f":"IF(ISERROR(VLOOKUP(ModelNo,$AU$24:$AY$92,3,FALSE)),0,VLOOKUP(ModelNo,$AU$24:$AY$92,3,FALSE))","v":0},{"$f":"IF(ISERROR(VLOOKUP(ModelNo,$AU$24:$AY$92,4,FALSE)),0,VLOOKUP(ModelNo,$AU$24:$AY$92,4,FALSE))","v":0},{"$f":"IF(ISERROR(VLOOKUP(ModelNo,$AU$24:$AY$92,5,FALSE)),0,VLOOKUP(ModelNo,$AU$24:$AY$92,5,FALSE))","v":0}]
[{"$f":"IF(OR(ModelNo=\"0153\",ModelNo=\"0953\",ModelNo=\"9053\",ModelNo=\"8053\"),2,\"\")","v":""},"0153","Operating Sash Height",{"$f":"(Frame_Height/3)-1.375","v":-1.375},null,92,"0975","5 Lite Casement",0,0,null,null,80,19,120,78,198,"Standard",null,null,null,"Half",null,null,null,null,null,null,null,null,null,null,null,"Double Strength (3 mm)","Triple Strength (5 mm)","Triple IG Single Strength","Triple IG Double Strength","Laminated",null,null,""]
[{"$f":"IF(OR(ModelNo=\"0153\",ModelNo=\"0953\",ModelNo=\"9053\",ModelNo=\"8053\"),3,\"\")","v":""},"0153","Fixed Sash Width",{"$f":"Frame_Width-1.625","v":-1.625},null,93,"0979","Dual Vent 3 Lite Casement (Equal Lite)",0,0,null,null,48,19,108,78,186,"Standard (1/3-1/3-1/3)",null,null,null,"Half",null,null,null,null,null,null,null,null,null,null,null,"Double Strength (3 mm)","Triple Strength (5 mm)","Triple IG Single Strength","Triple IG Double Strength","Laminated",null,null,""]
[{"$f":"IF(OR(ModelNo=\"0153\",ModelNo=\"0953\",ModelNo=\"9053\",ModelNo=\"8053\"),4,\"\")","v":""},"0153","Fixed Sash Height",{"$f":"(2*(Frame_Height/3)-1.375)","v":-1.375},null,94,"1105","New Const. 4 Foot Patio Door",0.625,0.5,60,80,59.375,79.5,59.375,79.5,140,"Standard",null,null,null,"Half",null,null,null,null,null,null,null,null,null,null,null,"Double Strength (3 mm)","Triple Strength (5 mm)","Triple IG Single Strength","Triple IG Double Strength","Laminated",null,null,{"$f":"IF(RO=1,\"<< Rough Opening Only\",\"\")","v":"<< Rough Opening Only"}]
[{"$f":"IF(OR(ModelNo=\"0153\",ModelNo=\"0953\",ModelNo=\"9053\",ModelNo=\"8053\"),5,\"\")","v":""},"0153","Operating Sash Glass Width",{"$f":"Frame_Width-4.625","v":-4.625},null,95,"1106","New Const. Six Foot Patio Door",0.625,0.5,72,80,71.375,79.5,71.375,95.5,168,"Standard",null,null,null,"Half",null,null,null,null,null,null,null,null,null,null,null,"Double Strength (3 mm)","Triple Strength (5 mm)","Triple IG Single Strength","Triple IG Double Strength","Laminated",null,null,"<< Rough Opening Only"]
[{"$f":"IF(OR(ModelNo=\"0153\",ModelNo=\"0953\",ModelNo=\"9053\",ModelNo=\"8053\"),6,\"\")","v":""},"0153","Operating Sash Glass Height",{"$f":"Frame_Height/3-4.375","v":-4.375},null,96,"1108","New Const. Eight Foot Patio Door",0.625,0.5,96,80,95.375,79.5,95.375,79.5,176,"Standard",null,null,null,"Half",null,null,null,null,null,null,null,null,null,null,null,"Double Strength (3 mm)","Triple Strength (5 mm)","Triple IG Single Strength","Triple IG Double Strength","Laminated",null,null,"<< Rough Opening Only"]
[{"$f":"IF(OR(ModelNo=\"0153\",ModelNo=\"0953\",ModelNo=\"9053\",ModelNo=\"8053\"),7,\"\")","v":""},"0153","Fixed Sash Glass Width",{"$f":"Frame_Width-4.625","v":-4.625},null,97,"1109","New Const. Nine Foot Patio Door",0.625,0.5,108,80,107.375,79.5,107.375,95.5,204,"Standard",null,null,null,"Half",null,null,null,null,null,null,null,null,null,null,null,"Double Strength (3 mm)","Triple Strength (5 mm)","Triple IG Single Strength","Triple IG Double Strength","Laminated",null,null,"<< Rough Opening Only"]
[{"$f":"IF(OR(ModelNo=\"0153\",ModelNo=\"0953\",ModelNo=\"9053\",ModelNo=\"8053\"),8,\"\")","v":""},"0153","Fixed Sash Glass Height",{"$f":"2*(Frame_Height/3)-4.375","v":-4.375},null,98,"1176","New Const. 6.5 Foot Patio Door",0.625,0.5,76,80,75.375,79.5,75.375,79.5,156,"Standard",null,null,null,"Half",null,null,null,null,null,null,null,null,null,null,null,"Double Strength (3 mm)","Triple Strength (5 mm)","Triple IG Single Strength","Triple IG Double Strength","Laminated",null,null,"<< Rough Opening Only"]
[{"$f":"IF(OR(ModelNo=\"0153\",ModelNo=\"0953\",ModelNo=\"9053\",ModelNo=\"8053\"),9,\"\")","v":""},"0153","Screen Width",{"$f":"Frame_Width-4","v":-4},null,99,"11C5","New Const. C. Class 4 Foot Patio Door",0.5,0.5,60,80,59.5,79.5,60,80,140,"Standard",null,null,null,"Half",null,null,null,null,null,null,null,null,null,null,null,"Double Strength (3 mm)","Triple Strength (5 mm)","Triple IG Single Strength","Triple IG Double Strength","Laminated",null,null,"<< Rough Opening Only"]
[{"$f":"IF(OR(ModelNo=\"0153\",ModelNo=\"0953\",ModelNo=\"9053\",ModelNo=\"8053\"),10,\"\")","v":""},"0153","Screen Height",{"$f":"(Frame_Height/3)-3.6875","v":-3.6875},null,100,"11C6","New Const. C. Class Six Foot Patio Door",0.5,0.5,72,80,71.5,79.5,72,80,152,"Standard",null,null,null,"Half",null,null,null,null,null,null,null,null,null,null,null,"Double Strength (3 mm)","Triple Strength (5 mm)","Triple IG Single Strength","Triple IG Double Strength","Laminated",null,null,"<< Rough Opening Only"]
[{"$f":"IF(OR(ModelNo=\"0153\",ModelNo=\"0953\",ModelNo=\"9053\",ModelNo=\"8053\"),11,\"\")","v":""},"0153","Awning Does not Meet Egress",null,null,101,"11C8","New Const. C. Class Eight Foot Patio Door",0.5,0.5,96,80,95.5,79.5,96,80,176,"Standard",null,null,null,"Half",null,null,null,null,null,null,null,null,null,null,null,"Double Strength (3 mm)","Triple Strength (5 mm)","Triple IG Single Strength","Triple IG Double Strength","Laminated",null,null,"<< Rough Opening Only"]
[{"$f":"IF(OR(ModelNo=\"0154\",ModelNo=\"0954\",ModelNo=\"9054\",ModelNo=\"8054\"),1,\"\")","v":""},"0154","Operating Sash Width",{"$f":"Frame_Width-1.625","v":-1.625},null,102,"11C9","New Const. C. Class Nine Foot Patio Door",0.5,0.5,108,80,107.5,79.5,108,80,188,"Standard",null,null,null,"Half",null,null,null,null,null,null,null,null,null,null,null,"Double Strength (3 mm)","Triple Strength (5 mm)","Triple IG Single Strength","Triple IG Double Strength","Laminated",null,null,"<< Rough Opening Only"]
[{"$f":"IF(OR(ModelNo=\"0154\",ModelNo=\"0954\",ModelNo=\"9054\",ModelNo=\"8054\"),2,\"\")","v":""},"0154","Operating Sash Height",{"$f":"(Frame_Height/2)-1.375","v":-1.375},null,103,"11i5","Coastal Impact Five Foot New Const. Patio Door",0.5,0.5,60,80,59.5,79.5,60,80,140,"Standard",null,null,null,"Half",null,null,null,null,null,null,null,null,null,null,null,"Double Strength (3 mm)","Triple Strength (5 mm)","Triple IG Single Strength","Triple IG Double Strength","Laminated",null,null,"<< Rough Opening Only"]
[{"$f":"IF(OR(ModelNo=\"0154\",ModelNo=\"0954\",ModelNo=\"9054\",ModelNo=\"8054\"),3,\"\")","v":""},"0154","Fixed Sash Width",{"$f":"Frame_Width-1.625","v":-1.625},null,104,"11i6","Coastal Impact Six Foot New Const. Patio Door",0.5,0.5,72,80,71.5,79.5,72,80,152,"Standard",null,null,null,"Half",null,null,null,null,null,null,null,null,null,null,null,"Double Strength (3 mm)","Triple Strength (5 mm)","Triple IG Single Strength","Triple IG Double Strength","Laminated",null,null,"<< Rough Opening Only"]
[{"$f":"IF(OR(ModelNo=\"0154\",ModelNo=\"0954\",ModelNo=\"9054\",ModelNo=\"8054\"),4,\"\")","v":""},"0154","Fixed Sash Height",{"$f":"(Frame_Height/2)-1.375","v":-1.375},null,105,"11i8","Coastal Impact Eight Foot New Const. Patio Door",0.5,0.5,96,80,95.5,79.5,96,80,176,"Standard",null,null,null,"Half",null,null,null,null,null,null,null,null,null,null,null,"Double Strength (3 mm)","Triple Strength (5 mm)","Triple IG Single Strength","Triple IG Double Strength","Laminated",null,null,"<< Rough Opening Only"]
[{"$f":"IF(OR(ModelNo=\"0154\",ModelNo=\"0954\",ModelNo=\"9054\",ModelNo=\"8054\"),5,\"\")","v":""},"0154","Operating Sash Glass Width",{"$f":"Frame_Width-4.625","v":-4.625},null,106,"5102","5100 Series Custom 2 Lite Patio Door",0,0,null,null,48,72,96,96,192,null,null,null,null,"Half",null,null,null,null,null,null,null,null,null,null,null,"Double Strength (3 mm)","Triple Strength (5 mm)","Triple IG Single Strength","Triple IG Double Strength","Laminated",null,null,{"$f":"IF(RO=2,\"<< Exact Size Only\",\"\")","v":""}]
[{"$f":"IF(OR(ModelNo=\"0154\",ModelNo=\"0954\",ModelNo=\"9054\",ModelNo=\"8054\"),6,\"\")","v":""},"0154","Operating Sash Glass Height",{"$f":"(Frame_Height/2)-4.375","v":-4.375},null,107,"5103","5100 Series Custom 3 Lite Patio Door",0,0,null,null,84,72,108,96,204,null,null,null,null,"Half",null,null,null,null,null,null,null,null,null,null,null,"Double Strength (3 mm)","Triple Strength (5 mm)","Triple IG Single Strength","Triple IG Double Strength","Laminated",null,null,{"$f":"IF(RO=2,\"<< Exact Size Only\",\"\")","v":""}]
[{"$f":"IF(OR(ModelNo=\"0154\",ModelNo=\"0954\",ModelNo=\"9054\",ModelNo=\"8054\"),7,\"\")","v":""},"0154","Fixed Sash Glass Width",{"$f":"Frame_Width-4.625","v":-4.625},null,108,"5105","5100 Series Five Foot 2 Lite Patio Door",1.375,0.5,60,80,60,80,60,80,140,"Standard",null,null,null,"Half",null,null,null,null,null,null,null,null,null,null,null,"Double Strength (3 mm)","Triple Strength (5 mm)","Triple IG Single Strength","Triple IG Double Strength","Laminated",null,null,{"$f":"IF(RO=1,\"<< Rough Opening Only\",\"\")","v":"<< Rough Opening Only"}]
[{"$f":"IF(OR(ModelNo=\"0154\",ModelNo=\"0954\",ModelNo=\"9054\",ModelNo=\"8054\"),8,\"\")","v":""},"0154","Fixed Sash Glass Height",{"$f":"(Frame_Height/2)-4.375","v":-4.375},null,109,"5106","5100 Series Six Foot 2 Lite Patio Door",1.375,0.5,72,80,72,80,72,80,152,"Standard",null,null,null,"Half",null,null,null,null,null,null,null,null,null,null,null,"Double Strength (3 mm)","Triple Strength (5 mm)","Triple IG Single Strength","Triple IG Double Strength","Laminated",null,null,"<< Rough Opening Only"]
[{"$f":"IF(OR(ModelNo=\"0154\",ModelNo=\"0954\",ModelNo=\"9054\",ModelNo=\"8054\"),9,\"\")","v":""},"0154","Screen Width",{"$f":"Frame_Width-4","v":-4},null,110,"5108","5100 Series Eight Foot 2 Lite Patio Door",1.75,0.5,96,80,96,80,96,80,176,"Standard",null,null,null,"Half",null,null,null,null,null,null,null,null,null,null,null,"Double Strength (3 mm)","Triple Strength (5 mm)","Triple IG Single Strength","Triple IG Double Strength","Laminated",null,null,"<< Rough Opening Only"]
[{"$f":"IF(OR(ModelNo=\"0154\",ModelNo=\"0954\",ModelNo=\"9054\",ModelNo=\"8054\"),10,\"\")","v":""},"0154","Screen Height",{"$f":"(Frame_Height/2)-3.6875","v":-3.6875},null,111,"5109","5100 Series Nine Foot 3 Lite Patio Door",2.5,0.5,108,80,108,80,108,80,188,"Standard",null,null,null,"Half",null,null,null,null,null,null,null,null,null,null,null,"Double Strength (3 mm)","Triple Strength (5 mm)","Triple IG Single Strength","Triple IG Double Strength","Laminated",null,null,"<< Rough Opening Only"]
[{"$f":"IF(OR(ModelNo=\"0154\",ModelNo=\"0954\",ModelNo=\"9054\",ModelNo=\"8054\"),11,\"\")","v":""},"0154","Awning Does not Meet Egress",null,null,112,"5175","5100 Series Wisconsin 2 Lite Patio Door",0.5,0.5,75,80,75,80,75,80,155,"Standard",null,null,null,"Half",null,null,null,null,null,null,null,null,null,null,null,"Double Strength (3 mm)","Triple Strength (5 mm)","Triple IG Single Strength","Triple IG Double Strength","Laminated",null,null,"<< Rough Opening Only"]
[{"$f":"IF(OR(ModelNo=\"0155\",ModelNo=\"0955\",ModelNo=\"9055\",ModelNo=\"8055\"),1,\"\")","v":""},"0155","Sash Width",{"$f":"Frame_Width-1.625","v":-1.625},null,113,"51i5","Coastal Impact Five Foot Replacenet Patio Door",1.375,0.5,60,80,60,80,60,80,140,"Standard",null,null,null,"Half",null,null,null,null,null,null,null,null,null,null,null,"Double Strength (3 mm)","Triple Strength (5 mm)","Triple IG Single Strength","Triple IG Double Strength","Laminated",null,null,"<< Rough Opening Only"]
[{"$f":"IF(OR(ModelNo=\"0155\",ModelNo=\"0955\",ModelNo=\"9055\",ModelNo=\"8055\"),2,\"\")","v":""},"0155","Sash Height",{"$f":"(Frame_Height/2)-1.375","v":-1.375},null,114,"51i6","Coastal Impact Six Foot Replacement Patio Door",1.375,0.5,72,80,72,80,72,80,152,"Standard",null,null,null,"Half",null,null,null,null,null,null,null,null,null,null,null,"Double Strength (3 mm)","Triple Strength (5 mm)","Triple IG Single Strength","Triple IG Double Strength","Laminated",null,null,"<< Rough Opening Only"]
[{"$f":"IF(OR(ModelNo=\"0155\",ModelNo=\"0955\",ModelNo=\"9055\",ModelNo=\"8055\"),3,\"\")","v":""},"0155","Sash Glass Width",{"$f":"(Frame_Width)-4.625","v":-4.625},null,115,"51i8","Coastal Impact Eight Foot Replacement Patio Door",1.75,0.5,96,80,96,80,96,80,176,"Standard",null,null,null,"Half",null,null,null,null,null,null,null,null,null,null,null,"Double Strength (3 mm)","Triple Strength (5 mm)","Triple IG Single Strength","Triple IG Double Strength","Laminated",null,null,"<< Rough Opening Only"]
[{"$f":"IF(OR(ModelNo=\"0155\",ModelNo=\"0955\",ModelNo=\"9055\",ModelNo=\"8055\"),4,\"\")","v":""},"0155","Sash Glass Height",{"$f":"(Frame_Height/2)-4.375","v":-4.375},null,116,"5202","5200 Series Custom 2 Lite Patio Door",0,0,null,null,48,72,94.5,94.5,189,null,null,null,null,"Half",null,null,null,null,null,null,null,null,null,null,null,"Double Strength (3 mm)","Triple Strength (5 mm)","Triple IG Single Strength","Triple IG Double Strength","Laminated",null,null,{"$f":"IF(RO=2,\"<< Exact Size Only\",\"\")","v":""}]
[{"$f":"IF(OR(ModelNo=\"0155\",ModelNo=\"0955\",ModelNo=\"9055\",ModelNo=\"8055\"),5,\"\")","v":""},"0155","Screen Width",{"$f":"Frame_Width-4","v":-4},null,117,"5203","5200 Series Custom 3 Lite Patio Door",0,0,null,null,84,72,139,95,234,null,null,null,null,"Half",null,null,null,null,null,null,null,null,null,null,null,"Double Strength (3 mm)","Triple Strength (5 mm)","Triple IG Single Strength","Triple IG Double Strength","Laminated",null,null,{"$f":"IF(RO=2,\"<< Exact Size Only\",\"\")","v":""}]
[{"$f":"IF(OR(ModelNo=\"0155\",ModelNo=\"0955\",ModelNo=\"9055\",ModelNo=\"8055\"),6,\"\")","v":""},"0155","Screen Height",{"$f":"(Frame_Height/2)-3.6875","v":-3.6875},null,118,"5205","5200 Series Five Foot 2 Lite Patio Door",0.9375,0.5,60,80,60,80,60,80,156,"Standard",null,null,null,"Half",null,null,null,null,null,null,null,null,null,null,null,"Double Strength (3 mm)","Triple Strength (5 mm)","Triple IG Single Strength","Triple IG Double Strength","Laminated",null,null,{"$f":"IF(RO=1,\"<< Rough Opening Only\",\"\")","v":"<< Rough Opening Only"}]
[{"$f":"IF(OR(ModelNo=\"0155\",ModelNo=\"0955\",ModelNo=\"9055\",ModelNo=\"8055\"),7,\"\")","v":""},"0155","Awning Does not Meet Egress",null,null,119,"5206","5200 Series Six Foot 2 Lite Patio Door",1.125,0.5,72,80,72,80,72,80,168,"Standard",null,null,null,"Half",null,null,null,null,null,null,null,null,null,null,null,"Double Strength (3 mm)","Triple Strength (5 mm)","Triple IG Single Strength","Triple IG Double Strength","Laminated",null,null,"<< Rough Opening Only"]
[{"$f":"IF(OR(ModelNo=\"0170\",ModelNo=\"0970\",ModelNo=\"0504\",ModelNo=\"U504\",ModelNo=\"0614\",ModelNo=\"U614\",ModelNo=\"9070\",ModelNo=\"9014\",ModelNo=\"8070\",ModelNo=\"8014\",ModelNo=\"B970\",ModelNo=\"P970\",ModelNo=\"R970\",ModelNo=\"i970\"),1,\"\")","v":""},"0170","Glass Width",{"$f":"Frame_Width-4.625","v":-4.625},null,120,"5208","5200 Series Eight Foot 2 Lite Patio Door",1.5,0.5,96,80,96,80,96,80,192,"Standard",null,null,null,"Half",null,null,null,null,null,null,null,null,null,null,null,"Double Strength (3 mm)","Triple Strength (5 mm)","Triple IG Single Strength","Triple IG Double Strength","Laminated",null,null,"<< Rough Opening Only"]
[{"$f":"IF(OR(ModelNo=\"0170\",ModelNo=\"0970\",ModelNo=\"0504\",ModelNo=\"U504\",ModelNo=\"0614\",ModelNo=\"U614\",ModelNo=\"9070\",ModelNo=\"9014\",ModelNo=\"8070\",ModelNo=\"8014\",ModelNo=\"B970\",ModelNo=\"P970\",ModelNo=\"R970\",ModelNo=\"i970\"),2,\"\")","v":""},"0170","Glass Height",{"$f":"Frame_Height-4.625","v":-4.625},null,121,"5209","5200 Series Nine Foot 3 Lite Patio Door",4.5,0.5,108,80,108,80,108,80,204,"Standard",null,null,null,"Half",null,null,null,null,null,null,null,null,null,null,null,"Double Strength (3 mm)","Triple Strength (5 mm)","Triple IG Single Strength","Triple IG Double Strength","Laminated",null,null,"<< Rough Opening Only"]
[{"$f":"IF(OR(ModelNo=\"0170\",ModelNo=\"0970\",ModelNo=\"0504\",ModelNo=\"U504\",ModelNo=\"0614\",ModelNo=\"U614\",ModelNo=\"9070\",ModelNo=\"9014\",ModelNo=\"8070\",ModelNo=\"8014\",ModelNo=\"B970\",ModelNo=\"P970\",ModelNo=\"R970\",ModelNo=\"i970\"),3,\"\")","v":""},"0170","Glass Area (sq.ft.)",{"$f":"(D122*D123)/144","v":0.14854600694444445},null,122,"5210","5200 Series Ten Foot 3 Lite Patio Door",1.875,0.5,120,80,120,80,120,96,216,"Standard",null,null,null,"Half",null,null,null,null,null,null,null,null,null,null,null,"Double Strength (3 mm)","Triple Strength (5 mm)","Triple IG Single Strength","Triple IG Double Strength","Laminated",null,null,"<< Rough Opening Only"]
[{"$f":"IF(OR(ModelNo=\"0171\",ModelNo=\"0971\",ModelNo=\"9071\",ModelNo=\"8071\",ModelNo=\"B971\",ModelNo=\"P971\",ModelNo=\"R971\",ModelNo=\"i971\"),1,\"\")","v":""},"0171","Sash Width",{"$f":"Frame_Width-1.625","v":-1.625},null,123,"5212","5200 Series Twelve Foot 3 Lite Patio Door",5.0625,0.5,144,80,144,80,144,96,240,"Standard",null,null,null,"Half",null,null,null,null,null,null,null,null,null,null,null,"Double Strength (3 mm)","Triple Strength (5 mm)","Triple IG Single Strength","Triple IG Double Strength","Laminated",null,null,"<< Rough Opening Only"]
[{"$f":"IF(OR(ModelNo=\"0171\",ModelNo=\"0971\",ModelNo=\"9071\",ModelNo=\"8071\",ModelNo=\"B971\",ModelNo=\"P971\",ModelNo=\"R971\",ModelNo=\"i971\"),2,\"\")","v":""},"0171","Sash Height",{"$f":"Frame_Height-1.625","v":-1.625},null,124,"6102","6100 Series Custom 2 Lite Patio Door",0,0,null,null,48,72,96,96,180,null,null,null,null,"Half",null,null,null,null,null,null,null,null,null,null,null,"Double Strength (3 mm)","Triple Strength (5 mm)","Triple IG Single Strength","Triple IG Double Strength","Laminated",null,null,{"$f":"IF(RO=2,\"<< Exact Size Only\",\"\")","v":""}]
[{"$f":"IF(OR(ModelNo=\"0171\",ModelNo=\"0971\",ModelNo=\"9071\",ModelNo=\"8071\",ModelNo=\"B971\",ModelNo=\"P971\",ModelNo=\"R971\",ModelNo=\"i971\"),3,\"\")","v":""},"0171","Glass Width",{"$f":"Frame_Width-4.625","v":-4.625},null,125,"6103","6100 Series Custom 3 Lite Patio Door",0,0,null,null,84,72,144,96,228,null,null,null,null,"Half",null,null,null,null,null,null,null,null,null,null,null,"Double Strength (3 mm)","Triple Strength (5 mm)","Triple IG Single Strength","Triple IG Double Strength","Laminated",null,null,{"$f":"IF(RO=2,\"<< Exact Size Only\",\"\")","v":""}]
[{"$f":"IF(OR(ModelNo=\"0171\",ModelNo=\"0971\",ModelNo=\"9071\",ModelNo=\"8071\",ModelNo=\"B971\",ModelNo=\"P971\",ModelNo=\"R971\",ModelNo=\"i971\"),4,\"\")","v":""},"0171","Glass Height",{"$f":"Frame_Height-4.625","v":-4.625},null,126,"6104","6100 Series Custom 4 Lite Patio Door",0,0,null,null,96,72,144,96,240,null,null,null,null,"Half",null,null,null,null,null,null,null,null,null,null,null,"Double Strength (3 mm)","Triple Strength (5 mm)","Triple IG Single Strength","Triple IG Double Strength","Laminated",null,null,{"$f":"IF(RO=2,\"<< Exact Size Only\",\"\")","v":""}]
[{"$f":"IF(OR(ModelNo=\"0171\",ModelNo=\"0971\",ModelNo=\"9071\",ModelNo=\"8071\",ModelNo=\"B971\",ModelNo=\"P971\",ModelNo=\"R971\",ModelNo=\"i971\"),5,\"\")","v":""},"0171","Screen Width",{"$f":"Frame_Width-4.0625","v":-4.0625},null,127,"6105","6100 Series Five Foot 2 Lite Patio Door",1.375,0.5,60,80,60,80,60,80,140,"Standard",null,null,null,"Half",null,null,null,null,null,null,null,null,null,null,null,"Double Strength (3 mm)","Triple Strength (5 mm)","Triple IG Single Strength","Triple IG Double Strength","Laminated",null,null,{"$f":"IF(RO=1,\"<< Rough Opening Only\",\"\")","v":"<< Rough Opening Only"}]
[{"$f":"IF(OR(ModelNo=\"0171\",ModelNo=\"0971\",ModelNo=\"9071\",ModelNo=\"8071\",ModelNo=\"B971\",ModelNo=\"P971\",ModelNo=\"R971\",ModelNo=\"i971\"),6,\"\")","v":""},"0171","Screen Height",{"$f":"Frame_Height-4","v":-4},null,128,"6106","6100 Series Six Foot 2 Lite Patio Door",1.375,0.5,72,80,72,80,72,80,152,"Standard",null,null,null,"Half",null,null,null,null,null,null,null,null,null,null,null,"Double Strength (3 mm)","Triple Strength (5 mm)","Triple IG Single Strength","Triple IG Double Strength","Laminated",null,null,"<< Rough Opening Only"]
[{"$f":"IF(OR(ModelNo=\"0171\",ModelNo=\"0971\",ModelNo=\"9071\",ModelNo=\"8071\",ModelNo=\"B971\",ModelNo=\"P971\",ModelNo=\"R971\",ModelNo=\"i971\"),7,\"\")","v":""},"0171","Egress Opening Width (Standard Hinge)",{"$f":"Frame_Width-11.25","v":-11.25},null,129,"6108","6100 Series Eight Foot 2 Lite Patio Door",1.75,0.5,96,80,96,80,96,80,176,"Standard",null,null,null,"Half",null,null,null,null,null,null,null,null,null,null,null,"Double Strength (3 mm)","Triple Strength (5 mm)","Triple IG Single Strength","Triple IG Double Strength","Laminated",null,null,"<< Rough Opening Only"]
[{"$f":"IF(OR(ModelNo=\"0171\",ModelNo=\"0971\",ModelNo=\"9071\",ModelNo=\"8071\",ModelNo=\"B971\",ModelNo=\"P971\",ModelNo=\"R971\",ModelNo=\"i971\"),8,\"\")","v":""},"0171","Egress Opening Height (Standard Hinge)",{"$f":"Frame_Height-4.375","v":-4.375},null,130,"6109","6100 Series Nine Foot 3 Lite Patio Door",2.5,0.5,108,80,108,80,108,80,188,"Standard",null,null,null,"Half",null,null,null,null,null,null,null,null,null,null,null,"Double Strength (3 mm)","Triple Strength (5 mm)","Triple IG Single Strength","Triple IG Double Strength","Laminated",null,null,"<< Rough Opening Only"]
[{"$f":"IF(OR(ModelNo=\"0171\",ModelNo=\"0971\",ModelNo=\"9071\",ModelNo=\"8071\",ModelNo=\"B971\",ModelNo=\"P971\",ModelNo=\"R971\",ModelNo=\"i971\"),9,\"\")","v":""},"0171","Egress Opening Area w/Standard Hinge (sq.ft.)",{"$f":"(D131*D132)/144","v":0.341796875},null,131,"6112","6100 Series Twelve Foot 4 Lite Patio Door",4.5,0.5,144,80,144,80,144,80,224,"Standard",null,null,null,"Half",null,null,null,null,null,null,null,null,null,null,null,"Double Strength (3 mm)","Triple Strength (5 mm)","Triple IG Single Strength","Triple IG Double Strength","Laminated",null,null,"<< Rough Opening Only"]
[{"$f":"IF(OR(ModelNo=\"0171\",ModelNo=\"0971\",ModelNo=\"9071\",ModelNo=\"8071\",ModelNo=\"B971\",ModelNo=\"P971\",ModelNo=\"R971\",ModelNo=\"i971\"),10,\"\")","v":""},"0171","Egress Opening Width (Egress Hinge)",{"$f":"IF(D125<22.375,\"N/A\",Frame_Width-6.8125)","v":"N/A"},null,132,"6122","6100 Series Twelve Foot 3 Lite Patio Door",3.125,0.5,144,80,144,80,144,80,224,"Standard",null,null,null,"Half",null,null,null,null,null,null,null,null,null,null,null,"Double Strength (3 mm)","Triple Strength (5 mm)","Triple IG Single Strength","Triple IG Double Strength","Laminated",null,null,"<< Rough Opening Only"]
[{"$f":"IF(OR(ModelNo=\"0171\",ModelNo=\"0971\",ModelNo=\"9071\",ModelNo=\"8071\",ModelNo=\"B971\",ModelNo=\"P971\",ModelNo=\"R971\",ModelNo=\"i971\"),11,\"\")","v":""},"0171","Egress Opening Height (Egress Hinge)",{"$f":"IF(D125<22.375,\"N/A\",Frame_Height-4.375)","v":"N/A"},null,133,"6175","6100 Series Wisconsin 2 Lite Patio Door",0.5,0.5,75,80,75,80,75,80,155,"Standard",null,null,null,"Half",null,null,null,null,null,null,null,null,null,null,null,"Double Strength (3 mm)","Triple Strength (5 mm)","Triple IG Single Strength","Triple IG Double Strength","Laminated",null,null,"<< Rough Opening Only"]
[{"$f":"IF(OR(ModelNo=\"0171\",ModelNo=\"0971\",ModelNo=\"9071\",ModelNo=\"8071\",ModelNo=\"B971\",ModelNo=\"P971\",ModelNo=\"R971\",ModelNo=\"i971\"),12,\"\")","v":""},"0171","Egress Opening Area w/Egress Hinge (sq.ft.)",{"$f":"IF(D125<22.375,\"N/A\",(D134*D135)/144)","v":"N/A"},null,134,"6202","6200 Series Custom 2 Lite Patio Door",0,0,null,null,48,72,96,96,192,null,null,null,null,"Half",null,null,null,null,null,null,null,null,null,null,null,"Double Strength (3 mm)","Triple Strength (5 mm)","Triple IG Single Strength","Triple IG Double Strength","Laminated",null,null,{"$f":"IF(RO=2,\"<< Exact Size Only\",\"\")","v":""}]
[{"$f":"IF(OR(ModelNo=\"0172\",ModelNo=\"0972\",ModelNo=\"9072\",ModelNo=\"8072\"),1,\"\")","v":""},"0172","Sash Width",{"$f":"(Frame_Width/2)-1.375","v":-1.375},null,135,"6203","6200 Series Custom 3 Lite Patio Door",0,0,null,null,84,72,144,96,240,null,null,null,null,"Half",null,null,null,null,null,null,null,null,null,null,null,"Double Strength (3 mm)","Triple Strength (5 mm)","Triple IG Single Strength","Triple IG Double Strength","Laminated",null,null,{"$f":"IF(RO=2,\"<< Exact Size Only\",\"\")","v":""}]
[{"$f":"IF(OR(ModelNo=\"0172\",ModelNo=\"0972\",ModelNo=\"9072\",ModelNo=\"8072\"),2,\"\")","v":""},"0172","Sash Height",{"$f":"Frame_Height-1.625","v":-1.625},null,136,"6204","6200 Series Custom 4 Lite Patio Door",0,0,null,null,96,72,144,96,240,null,null,null,null,"Half",null,null,null,null,null,null,null,null,null,null,null,"Double Strength (3 mm)","Triple Strength (5 mm)","Triple IG Single Strength","Triple IG Double Strength","Laminated",null,null,{"$f":"IF(RO=2,\"<< Exact Size Only\",\"\")","v":""}]
[{"$f":"IF(OR(ModelNo=\"0172\",ModelNo=\"0972\",ModelNo=\"9072\",ModelNo=\"8072\"),3,\"\")","v":""},"0172","Glass Width",{"$f":"(Frame_Width/2)-4.375","v":-4.375},null,137,"6205","6200 Series Five Foot 2 Lite Patio Door",1.375,0.5,60,80,58.625,79.5,58.625,79.5,139,"Standard",null,null,null,"Half",null,null,null,null,null,null,null,null,null,null,null,"Double Strength (3 mm)","Triple Strength (5 mm)","Triple IG Single Strength","Triple IG Double Strength","Laminated",null,null,{"$f":"IF(RO=1,\"<< Rough Opening Only\",\"\")","v":"<< Rough Opening Only"}]
[{"$f":"IF(OR(ModelNo=\"0172\",ModelNo=\"0972\",ModelNo=\"9072\",ModelNo=\"8072\"),4,\"\")","v":""},"0172","Glass Height",{"$f":"Frame_Height-4.625","v":-4.625},null,138,"6206","6200 Series Six Foot 2 Lite Patio Door",1.375,0.5,72,80,70.625,79.5,70.625,79.5,151,"Standard",null,null,null,"Half",null,null,null,null,null,null,null,null,null,null,null,"Double Strength (3 mm)","Triple Strength (5 mm)","Triple IG Single Strength","Triple IG Double Strength","Laminated",null,null,"<< Rough Opening Only"]
[{"$f":"IF(OR(ModelNo=\"0172\",ModelNo=\"0972\",ModelNo=\"9072\",ModelNo=\"8072\"),5,\"\")","v":""},"0172","Screen Width",{"$f":"(Frame_Width/2)-3.8125","v":-3.8125},null,139,"6208","6200 Series Eight Foot 2 Lite Patio Door",1.75,0.5,96,80,94.25,79.5,94.25,79.5,175,"Standard",null,null,null,"Half",null,null,null,null,null,null,null,null,null,null,null,"Double Strength (3 mm)","Triple Strength (5 mm)","Triple IG Single Strength","Triple IG Double Strength","Laminated",null,null,"<< Rough Opening Only"]
[{"$f":"IF(OR(ModelNo=\"0172\",ModelNo=\"0972\",ModelNo=\"9072\",ModelNo=\"8072\"),6,\"\")","v":""},"0172","Screen Height",{"$f":"Frame_Height-4","v":-4},null,140,"6209","6200 Series Nine Foot 3 Lite Patio Door",2.625,0.5,108,80,105.5,79.5,105.5,79.5,186,"Standard",null,null,null,"Half",null,null,null,null,null,null,null,null,null,null,null,"Double Strength (3 mm)","Triple Strength (5 mm)","Triple IG Single Strength","Triple IG Double Strength","Laminated",null,null,"<< Rough Opening Only"]
[{"$f":"IF(OR(ModelNo=\"0172\",ModelNo=\"0972\",ModelNo=\"9072\",ModelNo=\"8072\"),7,\"\")","v":""},"0172","Egress Opening Width (Standard Hinge)",{"$f":"(Frame_Width/2)-11","v":-11},null,141,"6212","6200 Series Twelve Foot 4 Lite Patio Door",4.375,0.5,144,80,139.5,79.5,139.5,79.5,220,"Standard",null,null,null,"Half",null,null,null,null,null,null,null,null,null,null,null,"Double Strength (3 mm)","Triple Strength (5 mm)","Triple IG Single Strength","Triple IG Double Strength","Laminated",null,null,"<< Rough Opening Only"]
[{"$f":"IF(OR(ModelNo=\"0172\",ModelNo=\"0972\",ModelNo=\"9072\",ModelNo=\"8072\"),8,\"\")","v":""},"0172","Egress Opening Height (Standard Hinge)",{"$f":"Frame_Height-4.375","v":-4.375},null,142,"6222","6200 Series Twelve Foot 3 Lite Patio Door",3.1875,0.5,144,80,140.875,79.5,140.875,79.5,221,"Standard",null,null,null,"Half",null,null,null,null,null,null,null,null,null,null,null,"Double Strength (3 mm)","Triple Strength (5 mm)","Triple IG Single Strength","Triple IG Double Strength","Laminated",null,null,"<< Rough Opening Only"]
[{"$f":"IF(OR(ModelNo=\"0172\",ModelNo=\"0972\",ModelNo=\"9072\",ModelNo=\"8072\"),9,\"\")","v":""},"0172","Egress Opening Area w/Standard Hinge (sq.ft.)",{"$f":"(D143*D144)/144","v":0.3342013888888889},null,143,"6275","6200 Series Wisconsin 2 Lite Patio Door",0.5,0.5,75,80,74.5,79.5,74.5,79.5,154,"Standard",null,null,null,"Half",null,null,null,null,null,null,null,null,null,null,null,"Double Strength (3 mm)","Triple Strength (5 mm)","Triple IG Single Strength","Triple IG Double Strength","Laminated",null,null,"<< Rough Opening Only"]
[{"$f":"IF(OR(ModelNo=\"0172\",ModelNo=\"0972\",ModelNo=\"9072\",ModelNo=\"8072\"),10,\"\")","v":""},"0172","Egress Opening Width (Egress Hinge)",{"$f":"IF(D137<22.375,\"N/A\",(Frame_Width/2)-6.5625)","v":"N/A"},null,144,"6402","6400 Series Custom 2 Lite Patio Door",0,0,null,null,48,72,96,96,192,"3\" Sash","5\" Sash","French",null,"Half",null,null,null,null,null,null,null,null,null,null,null,"Double Strength (3 mm)","Triple Strength (5 mm)","Triple IG Single Strength","Triple IG Double Strength","Laminated",null,null,{"$f":"IF(RO=2,\"<< Exact Size Only\",\"\")","v":""}]
[{"$f":"IF(OR(ModelNo=\"0172\",ModelNo=\"0972\",ModelNo=\"9072\",ModelNo=\"8072\"),11,\"\")","v":""},"0172","Egress Opening Height (Egress Hinge)",{"$f":"IF(D137<22.375,\"N/A\",Frame_Height-4.375)","v":"N/A"},null,145,"6403","6400 Series Custom 3 Lite Patio Door",0,0,null,null,84,72,144,96,240,"3\" Sash","5\" Sash","French",null,"Half",null,null,null,null,null,null,null,null,null,null,null,"Double Strength (3 mm)","Triple Strength (5 mm)","Triple IG Single Strength","Triple IG Double Strength","Laminated",null,null,{"$f":"IF(RO=2,\"<< Exact Size Only\",\"\")","v":""}]
[{"$f":"IF(OR(ModelNo=\"0172\",ModelNo=\"0972\",ModelNo=\"9072\",ModelNo=\"8072\"),12,\"\")","v":""},"0172","Egress Opening Area w/Egress Hinge (sq.ft.)",{"$f":"IF(D137<22.375,\"N/A\",(D146*D147)/144)","v":"N/A"},null,146,"6404","6400 Series Custom 4 Lite Patio Door",0,0,null,null,96,72,144,96,240,"3\" Sash","5\" Sash","French",null,"Half",null,null,null,null,null,null,null,null,null,null,null,"Double Strength (3 mm)","Triple Strength (5 mm)","Triple IG Single Strength","Triple IG Double Strength","Laminated",null,null,{"$f":"IF(RO=2,\"<< Exact Size Only\",\"\")","v":""}]
[{"$f":"IF(OR(ModelNo=\"0173\",ModelNo=\"0973\",ModelNo=\"9073\",ModelNo=\"8073\"),1,\"\")","v":""},"0173","Operating Sash Width",{"$f":"(Frame_Width/4)-1.375","v":-1.375},null,147,"6405","6400 Series Five Foot 2 Lite Patio Door",1.375,0.5,60,80,58.625,79.5,58.625,95.5,156,"3\" Sash","5\" Sash","French",null,"Half",null,null,null,null,null,null,null,null,null,null,null,"Double Strength (3 mm)","Triple Strength (5 mm)","Triple IG Single Strength","Triple IG Double Strength","Laminated",null,null,{"$f":"IF(RO=1,\"<< Rough Opening Only\",\"\")","v":"<< Rough Opening Only"}]
[{"$f":"IF(OR(ModelNo=\"0173\",ModelNo=\"0973\",ModelNo=\"9073\",ModelNo=\"8073\"),2,\"\")","v":""},"0173","Operating Sash Height",{"$f":"Frame_Height-1.625","v":-1.625},null,148,"6406","6400 Series Six Foot 2 Lite Patio Door",1.375,0.5,72,80,70.625,80,70.625,95.5,168,"3\" Sash","5\" Sash","French",null,"Half",null,null,null,null,null,null,null,null,null,null,null,"Double Strength (3 mm)","Triple Strength (5 mm)","Triple IG Single Strength","Triple IG Double Strength","Laminated",null,null,"<< Rough Opening Only"]
[{"$f":"IF(OR(ModelNo=\"0173\",ModelNo=\"0973\",ModelNo=\"9073\",ModelNo=\"8073\"),3,\"\")","v":""},"0173","Fixed Sash Width",{"$f":"(Frame_Width/2)-1.125","v":-1.125},null,149,"6408","6400 Series Eight Foot 2 Lite Patio Door",1.75,0.5,96,80,94.25,80,94.25,95.5,190,"3\" Sash","5\" Sash","French",null,"Half",null,null,null,null,null,null,null,null,null,null,null,"Double Strength (3 mm)","Triple Strength (5 mm)","Triple IG Single Strength","Triple IG Double Strength","Laminated",null,null,"<< Rough Opening Only"]
[{"$f":"IF(OR(ModelNo=\"0173\",ModelNo=\"0973\",ModelNo=\"9073\",ModelNo=\"8073\"),4,\"\")","v":""},"0173","Fixed Sash Height",{"$f":"Frame_Height-1.625","v":-1.625},null,150,"6409","6400 Series Nine Foot 3 Lite Patio Door",2.5,0.5,108,80,105.5,80,105.5,95.5,204,"3\" Sash","5\" Sash","French",null,"Half",null,null,null,null,null,null,null,null,null,null,null,"Double Strength (3 mm)","Triple Strength (5 mm)","Triple IG Single Strength","Triple IG Double Strength","Laminated",null,null,"<< Rough Opening Only"]
[{"$f":"IF(OR(ModelNo=\"0173\",ModelNo=\"0973\",ModelNo=\"9073\",ModelNo=\"8073\"),5,\"\")","v":""},"0173","Operating Sash Glass Width",{"$f":"(Frame_Width/4)-4.375","v":-4.375},null,151,"6412","6400 Series Twelve Foot 4 Lite Patio Door",4.5,0.5,144,80,139.5,80,139.5,95.5,240,"3\" Sash","5\" Sash","French",null,"Half",null,null,null,null,null,null,null,null,null,null,null,"Double Strength (3 mm)","Triple Strength (5 mm)","Triple IG Single Strength","Triple IG Double Strength","Laminated",null,null,"<< Rough Opening Only"]
[{"$f":"IF(OR(ModelNo=\"0173\",ModelNo=\"0973\",ModelNo=\"9073\",ModelNo=\"8073\"),6,\"\")","v":""},"0173","Operating Sash Glass Height",{"$f":"Frame_Height-4.625","v":-4.625},null,152,"6422","6400 Series Twelve Foot 3 Lite Patio Door",3.125,0.5,144,80,140.875,80,140.875,95.5,240,"3\" Sash","5\" Sash","French",null,"Half",null,null,null,null,null,null,null,null,null,null,null,"Double Strength (3 mm)","Triple Strength (5 mm)","Triple IG Single Strength","Triple IG Double Strength","Laminated",null,null,"<< Rough Opening Only"]
[{"$f":"IF(OR(ModelNo=\"0173\",ModelNo=\"0973\",ModelNo=\"9073\",ModelNo=\"8073\"),7,\"\")","v":""},"0173","Fixed Sash Glass Width",{"$f":"(Frame_Width/2)-4.125","v":-4.125},null,153,"6475","6400 Series Wisconsin 2 Lite Patio Door",0.5,0.5,75,80,74.5,80,74.5,79.5,155,"3\" Sash","5\" Sash","French",null,"Half",null,null,null,null,null,null,null,null,null,null,null,"Double Strength (3 mm)","Triple Strength (5 mm)","Triple IG Single Strength","Triple IG Double Strength","Laminated",null,null,"<< Rough Opening Only"]
[{"$f":"IF(OR(ModelNo=\"0173\",ModelNo=\"0973\",ModelNo=\"9073\",ModelNo=\"8073\"),8,\"\")","v":""},"0173","Fixed Sash Glass Height",{"$f":"Frame_Height-4.625","v":-4.625},null,154,"E301(3250)","New Const. Double Hung Egress",0.5,0.5,38,60,37.5,59.5,37.5,59.5,97,"Standard",null,null,null,"Half","Full",null,null,null,null,null,null,null,null,null,"Single Strength (2.5 mm)","Double Strength (3 mm)","Triple Strength (5 mm)","Triple IG Single Strength","Triple IG Double Strength","Laminated",null,null,{"$f":"IF(RO=1,\"<< Rough Opening Only\",\"\")","v":"<< Rough Opening Only"}]
[{"$f":"IF(OR(ModelNo=\"0173\",ModelNo=\"0973\",ModelNo=\"9073\",ModelNo=\"8073\"),9,\"\")","v":""},"0173","Screen Width",{"$f":"(Frame_Width/4)-3.8125","v":-3.8125},null,155,"E301(3052)","New Const. Double Hung Egress",0.5,0.5,36,62,35.5,61.5,35.5,61.5,97,"Standard",null,null,null,"Half","Full",null,null,null,null,null,null,null,null,null,"Single Strength (2.5 mm)","Double Strength (3 mm)","Triple Strength (5 mm)","Triple IG Single Strength","Triple IG Double Strength","Laminated",null,null,{"$f":"IF(RO=1,\"<< Rough Opening Only\",\"\")","v":"<< Rough Opening Only"}]
[{"$f":"IF(OR(ModelNo=\"0173\",ModelNo=\"0973\",ModelNo=\"9073\",ModelNo=\"8073\"),10,\"\")","v":""},"0173","Screen Height",{"$f":"Frame_Height-4","v":-4},null,156,"E301(2862)","New Const. Double Hung Egress",0.5,0.5,32,74,31.5,73.5,31.5,73.5,105,"Standard",null,null,null,"Half","Full",null,null,null,null,null,null,null,null,null,"Single Strength (2.5 mm)","Double Strength (3 mm)","Triple Strength (5 mm)","Triple IG Single Strength","Triple IG Double Strength","Laminated",null,null,{"$f":"IF(RO=1,\"<< Rough Opening Only\",\"\")","v":"<< Rough Opening Only"}]
[{"$f":"IF(OR(ModelNo=\"0173\",ModelNo=\"0973\",ModelNo=\"9073\",ModelNo=\"8073\"),11,\"\")","v":""},"0173","Egress Opening Width (Standard Hinge)",{"$f":"(Frame_Width/4)-11","v":-11},null,157,"S140","Arched Top Single Hung (Round-Top)",0,0,null,null,{"$f":"MINR*2","v":{"$error":"#N/A"}},43,52,96,148,"Standard","Oriel (2/3 - 1/3)","Cottage (1/3 - 2/3)","Custom","Half",null,null,"Select Extrusion","Mezzo","Mezzo/N.F","New Construction","0700 Series","Fusion",1700,1900,null,"Double Strength (3 mm)","Triple Strength (5 mm)","Triple IG Single Strength","Triple IG Double Strength","Laminated",null,null,{"$f":"IF(RO=2,\"<< Exact Size Only\",\"\")","v":""}]
[{"$f":"IF(OR(ModelNo=\"0173\",ModelNo=\"0973\",ModelNo=\"9073\",ModelNo=\"8073\"),12,\"\")","v":""},"0173","Egress Opening Height (Standard Hinge)",{"$f":"Frame_Height-4.375","v":-4.375},null,158,"S144","Arched Top Single Hung (Eyebrow)",0,0,null,null,16,43,52,96,148,"Standard","Oriel (2/3 - 1/3)","Cottage (1/3 - 2/3)","Custom","Half",null,null,"Select Extrusion","Mezzo","Mezzo/N.F","New Construction","0700 Series","Fusion",1700,1900,null,"Double Strength (3 mm)","Triple Strength (5 mm)","Triple IG Single Strength","Triple IG Double Strength","Laminated",null,null,""]
[{"$f":"IF(OR(ModelNo=\"0173\",ModelNo=\"0973\",ModelNo=\"9073\",ModelNo=\"8073\"),13,\"\")","v":""},"0173","Egress Opening Area w/Standard Hinge (sq.ft.)",{"$f":"(D159*D160)/144","v":0.3342013888888889},null,159,"S146","Arched Top Single Hung (1/2 Eyebrow)",0,0,null,null,16,43,52,96,148,"Standard","Oriel (2/3 - 1/3)","Cottage (1/3 - 2/3)","Custom","Half",null,null,"Select Extrusion","Mezzo","Mezzo/N.F","New Construction","0700 Series","Fusion",1700,1900,null,"Double Strength (3 mm)","Triple Strength (5 mm)","Triple IG Single Strength","Triple IG Double Strength","Laminated",null,null,""]
[{"$f":"IF(OR(ModelNo=\"0173\",ModelNo=\"0973\",ModelNo=\"9073\",ModelNo=\"8073\"),14,\"\")","v":""},"0173","Egress Opening Width (Egress Hinge)",{"$f":"IF(D149<22.375,\"N/A\",(Frame_Width/4)-6.5625)","v":"N/A"},null,160,"i201","Coastal Impact Double Hung",0,0,null,null,18,26,52,84,132,"Standard","Oriel (2/3 - 1/3)","Cottage (1/3 - 2/3)","Custom","Half","Full","Locking",null,null,null,null,null,null,null,null,null,null,null,null,null,null,"HP Package","Impact Laminated",""]
[{"$f":"IF(OR(ModelNo=\"0173\",ModelNo=\"0973\",ModelNo=\"9073\",ModelNo=\"8073\"),15,\"\")","v":""},"0173","Egress Opening Height (Egress Hinge)",{"$f":"IF(D149<22.375,\"N/A\",Frame_Height-4.375)","v":"N/A"},null,161,"i204","Coastal Impact Picture Window",0,0,null,null,12,12,52,84,136,"Standard",null,null,null,null,null,null,null,null,null,null,null,null,null,null,null,null,null,null,null,null,"HP Package","Impact Laminated",""]
[{"$f":"IF(OR(ModelNo=\"0173\",ModelNo=\"0973\",ModelNo=\"9073\",ModelNo=\"8073\"),16,\"\")","v":""},"0173","Egress Opening Area w/Egress Hinge (sq.ft.)",{"$f":"IF(D149<22.375,\"N/A\",(D162*D163)/144)","v":"N/A"},null,162,"3100","Coastal Impact Single Hung",0,0,null,null,22.5,25.75,54,76,126,"Standard","Oriel (2/3 - 1/3)","Cottage (1/3 - 2/3)","Custom","Half",null,null,null,null,null,null,null,null,null,null,null,null,null,null,null,null,"HP Package","Impact Laminated",""]
[{"$f":"IF(OR(ModelNo=\"0179\",ModelNo=\"0979\",ModelNo=\"9079\",ModelNo=\"8079\"),1,\"\")","v":""},"0179","Operating Sash Width",{"$f":"TRUNC(((Frame_Width/3)-1.291)*16+0.5)/16","v":-1.25},null,163,"3102","Coastal Impact 2 Lite Single Slider",0,0,null,null,26.5,22,73,63,136,"Standard",null,null,null,"Half",null,null,null,null,null,null,null,null,null,null,null,null,null,null,null,null,"HP Package","Impact Laminated",""]
[{"$f":"IF(OR(ModelNo=\"0179\",ModelNo=\"0979\",ModelNo=\"9079\",ModelNo=\"8079\"),2,\"\")","v":""},"0179","Operating Sash Height",{"$f":"Frame_Height-1.625","v":-1.625},null,164,"3104","Coatal Impact Picture Window",0,0,null,null,12,12,52.5,76,128,"Standard",null,null,null,null,null,null,null,null,null,null,null,null,null,null,null,null,null,null,null,null,"HP Package","Impact Laminated",""]
[{"$f":"IF(OR(ModelNo=\"0179\",ModelNo=\"0979\",ModelNo=\"9079\",ModelNo=\"8079\"),3,\"\")","v":""},"0179","Fixed Sash Width",{"$f":"TRUNC(((Frame_Width/3)-1.291)*16+0.5)/16","v":-1.25},null,165,"3109","Coastal Impact 3 Lite Slider",0,0,null,null,44.5,22,110,63,173,"Standard (1/3-1/3-1/3)",null,null,null,"Half",null,null,null,null,null,null,null,null,null,null,null,null,null,null,null,null,"HP Package","Impact Laminated",""]
[{"$f":"IF(OR(ModelNo=\"0179\",ModelNo=\"0979\",ModelNo=\"9079\",ModelNo=\"8079\"),4,\"\")","v":""},"0179","Fixed Sash Height",{"$f":"Frame_Height-1.625","v":-1.625},null,166,"i970","Preservation Bay-Bow Picture Window",0,0,null,null,13,13,52,78,130,"Standard",null,null,null,null,null,null,null,null,null,null,null,null,null,null,null,null,null,null,null,null,"HP Package","Impact Laminated",""]
[{"$f":"IF(OR(ModelNo=\"0179\",ModelNo=\"0979\",ModelNo=\"9079\",ModelNo=\"8079\"),5,\"\")","v":""},"0179","Operating Sash Glass Width",{"$f":"TRUNC(((Frame_Width/3)-4.291)*16+0.5)/16","v":-4.25},null,167,"i971","Preservation Bay-Bow Single Vent Casement",0,0,null,null,16,19,36,78,114,"Standard",null,null,null,null,"Full",null,null,null,null,null,null,null,null,null,null,null,null,null,null,null,"HP Package","Impact Laminated",""]
[{"$f":"IF(OR(ModelNo=\"0179\",ModelNo=\"0979\",ModelNo=\"9079\",ModelNo=\"8079\"),6,\"\")","v":""},"0179","Operating Sash Glass Height",{"$f":"Frame_Height-4.625","v":-4.625},null,168,"V100","Builder Series Gold Series Single Hung",0.5,0.5,null,null,14,25,48,84,122,"Standard","Custom",null,null,"Half",null,null,null,null,null,null,null,null,null,null,"Single Strength (2.5 mm)","Double Strength (3 mm)","Triple Strength (5 mm)",null,null,"Laminated",null,null,"<< Select Opening"]
[{"$f":"IF(OR(ModelNo=\"0179\",ModelNo=\"0979\",ModelNo=\"9079\",ModelNo=\"8079\"),7,\"\")","v":""},"0179","Fixed Sash Glass Width",{"$f":"TRUNC(((Frame_Width/3)-4.291)*16+0.5)/16","v":-4.25},null,169,"V101","Builder Series Gold Series Double Hung",0.5,0.5,null,null,19,28,48,84,122,"Standard","Custom",null,null,"Half","Full",null,null,null,null,null,null,null,null,null,"Single Strength (2.5 mm)","Double Strength (3 mm)","Triple Strength (5 mm)",null,null,"Laminated",null,null,"<< Select Opening"]
[{"$f":"IF(OR(ModelNo=\"0179\",ModelNo=\"0979\",ModelNo=\"9079\",ModelNo=\"8079\"),8,\"\")","v":""},"0179","Fixed Sash Glass Height",{"$f":"Frame_Height-4.625","v":-4.625},null,170,"V102","Builder Series Gold Series Single Slider",0.5,0.5,null,null,26,16,73,60,123,"Standard",null,null,null,"Half",null,null,null,null,null,null,null,null,null,null,"Single Strength (2.5 mm)","Double Strength (3 mm)","Triple Strength (5 mm)",null,null,"Laminated",null,null,"<< Select Opening"]
[{"$f":"IF(OR(ModelNo=\"0179\",ModelNo=\"0979\",ModelNo=\"9079\",ModelNo=\"8079\"),9,\"\")","v":""},"0179","Screen Width",{"$f":"TRUNC(((Frame_Width/3)-3.666)*32+0.5)/32","v":-3.625},null,171,"V103","N.C Gold Series 3 Lite Slider (1/4-1/2-1/4)",0.5,0.5,null,null,48.5,14,108,60,168,"Standard",null,null,null,"Half",null,null,null,null,null,null,null,null,null,null,"Single Strength (2.5 mm)","Double Strength (3 mm)","Triple Strength (5 mm)",null,null,"Laminated",null,null,"<< Select Opening"]
[{"$f":"IF(OR(ModelNo=\"0179\",ModelNo=\"0979\",ModelNo=\"9079\",ModelNo=\"8079\"),10,\"\")","v":""},"0179","Screen Height",{"$f":"Frame_Height-4","v":-4},null,172,"V104","Builder Series Gold Series Picture Window",0.5,0.5,null,null,11.5,11.5,84,84,158,"Standard",null,null,null,null,null,null,null,null,null,null,null,null,null,null,null,"Double Strength (3 mm)","Triple Strength (5 mm)",null,null,"Laminated",null,null,"<< Select Opening"]
[{"$f":"IF(OR(ModelNo=\"0179\",ModelNo=\"0979\",ModelNo=\"9079\",ModelNo=\"8079\"),11,\"\")","v":""},"0179","Egress Opening Width (Standard Hinge)",{"$f":"TRUNC(((Frame_Width/3)-10.916)*16+0.5)/16","v":-10.875},null,173,"V109","Gold Series 3 Lite Slider (1/3-1/3-1/3)",0.5,0.5,null,null,34,14,108,60,168,"Standard",null,null,null,"Half",null,null,null,null,null,null,null,null,null,null,"Single Strength (2.5 mm)","Double Strength (3 mm)","Triple Strength (5 mm)",null,null,"Laminated",null,null,"<< Select Opening"]
[{"$f":"IF(OR(ModelNo=\"0179\",ModelNo=\"0979\",ModelNo=\"9079\",ModelNo=\"8079\"),12,\"\")","v":""},"0179","Egress Opening Height (Standard Hinge)",{"$f":"Frame_Height-4.375","v":-4.375},null,174,"V114","Builder Series Gold Series Picture Window",0.5,0.5,null,null,11.5,11.5,84,84,158,"Standard",null,null,null,null,null,null,null,null,null,null,null,null,null,null,null,"Double Strength (3 mm)","Triple Strength (5 mm)",null,null,"Laminated",null,null,"<< Select Opening"]
[{"$f":"IF(OR(ModelNo=\"0179\",ModelNo=\"0979\",ModelNo=\"9079\",ModelNo=\"8079\"),13,\"\")","v":""},"0179","Egress Opening Area w/Standard Hinge (sq.ft.)",{"$f":"(D175*D176)/144","v":0.33040364583333331},null,175,"V200","Builder Series Silver Series Single Hung",0.5,0.5,null,null,14,25.5,48,84,122,"Standard","Custom",null,null,"Half",null,null,null,null,null,null,null,null,null,null,"Single Strength (2.5 mm)","Double Strength (3 mm)","Triple Strength (5 mm)",null,null,"Laminated",null,null,"<< Select Opening"]
[{"$f":"IF(OR(ModelNo=\"0179\",ModelNo=\"0979\",ModelNo=\"9079\",ModelNo=\"8079\"),14,\"\")","v":""},"0179","Egress Opening Width (Egress Hinge)",{"$f":"IF(D165<22.375,\"N/A\",TRUNC(((Frame_Width/3)-6.4785)*16+0.5)/16)","v":"N/A"},null,176,"V202","Builder Series Silver Series Single Slider",0.5,0.5,null,null,23.5,15,73,60,132,"Standard",null,null,null,"Half",null,null,null,null,null,null,null,null,null,null,"Single Strength (2.5 mm)","Double Strength (3 mm)","Triple Strength (5 mm)",null,null,"Laminated",null,null,"<< Select Opening"]
[{"$f":"IF(OR(ModelNo=\"0179\",ModelNo=\"0979\",ModelNo=\"9079\",ModelNo=\"8079\"),15,\"\")","v":""},"0179","Egress Opening Height (Egress Hinge)",{"$f":"IF(D165<22.375,\"N/A\",Frame_Height-4.375)","v":"N/A"},null,177,"V203","Silver Series 3 Lite Slider (1/4-1/2-1/4)",0.5,0.5,null,null,48,15,108,60,168,"Standard",null,null,null,"Half",null,null,null,null,null,null,null,null,null,null,"Single Strength (2.5 mm)","Double Strength (3 mm)","Triple Strength (5 mm)",null,null,"Laminated",null,null,"<< Select Opening"]
[{"$f":"IF(OR(ModelNo=\"0179\",ModelNo=\"0979\",ModelNo=\"9079\",ModelNo=\"8079\"),16,\"\")","v":""},"0179","Egress Opening Area w/Egress Hinge (sq.ft.)",{"$f":"IF(D165<22.375,\"N/A\",(D178*D179)/144)","v":"N/A"},null,178,"V204","Builder Series Silver Series Picture Window",0.5,0.5,null,null,11.5,11.5,84,84,158,"Standard",null,null,null,null,null,null,null,null,null,null,null,null,null,null,null,"Double Strength (3 mm)","Triple Strength (5 mm)",null,null,"Laminated",null,null,"<< Select Opening"]
[{"$f":"IF(OR(ModelNo=\"S174\",ModelNo=\"0974\",ModelNo=\"9074\",ModelNo=\"8074\"),1,\"\")","v":""},"S174","Operating Sash Width",{"$f":"(Frame_Width/4)-1.25","v":-1.25},null,179,"V209","Silver Series 3 Lite Slider (1/3-1/3-1/3)",0.5,0.5,null,null,39,15,108,60,168,"Standard",null,null,null,"Half",null,null,null,null,null,null,null,null,null,null,"Single Strength (2.5 mm)","Double Strength (3 mm)","Triple Strength (5 mm)",null,null,"Laminated",null,null,"<< Select Opening"]
[{"$f":"IF(OR(ModelNo=\"S174\",ModelNo=\"0974\",ModelNo=\"9074\",ModelNo=\"8074\"),2,\"\")","v":""},"S174","Operating Sash Height",{"$f":"Frame_Height-1.625","v":-1.625},null,180,"1700","New Const. Single Hung",0.5,0.5,null,null,14.25,25,52,{"$f":"IF(Frame_Width>48,84,96)","v":96},136,"Standard","Custom",null,null,"Half",null,null,"Standard","HP Package",null,null,null,null,null,null,"Single Strength (2.5 mm)","Double Strength (3 mm)","Triple Strength (5 mm)",null,null,"Laminated",null,null,"<< Select Opening"]
[{"$f":"IF(OR(ModelNo=\"S174\",ModelNo=\"0974\",ModelNo=\"9074\",ModelNo=\"8074\"),3,\"\")","v":""},"S174","Fixed Sash Width",{"$f":"(Frame_Width/4)-1.25","v":-1.25},null,181,"1702","New Const. Single Slider",0.5,0.5,null,null,23.5,14,72,72,144,"Standard","Custom",null,null,"Half",null,null,"Standard","HP Package",null,null,null,null,null,null,"Single Strength (2.5 mm)","Double Strength (3 mm)","Triple Strength (5 mm)",null,null,"Laminated",null,null,"<< Select Opening"]
[{"$f":"IF(OR(ModelNo=\"S174\",ModelNo=\"0974\",ModelNo=\"9074\",ModelNo=\"8074\"),4,\"\")","v":""},"S174","Fixed Sash Height",{"$f":"Frame_Height-1.625","v":-1.625},null,182,"1703","New Const. 3 Lite Slider (1/4-1/2-1/4)",0.5,0.5,null,null,48.5,14,108,{"$f":"IF(Frame_Width>96,60,72)","v":72},168,"Standard",null,null,null,"Half",null,null,"Standard","HP Package",null,null,null,null,null,null,"Single Strength (2.5 mm)","Double Strength (3 mm)","Triple Strength (5 mm)",null,null,"Laminated",null,null,"<< Select Opening"]
[{"$f":"IF(OR(ModelNo=\"S174\",ModelNo=\"0974\",ModelNo=\"9074\",ModelNo=\"8074\"),5,\"\")","v":""},"S174","Operating Sash Glass Width",{"$f":"(Frame_Width/4)-4.25","v":-4.25},null,183,"1704","New Const. Picture Window",0.5,0.5,null,null,11.5,11.5,{"$f":"IF(Frame_Height>54,84,96)","v":96},{"$f":"IF(Frame_Width>54,84,96)","v":96},156,"Standard",null,null,null,null,null,null,null,null,null,null,null,null,null,null,null,"Double Strength (3 mm)","Triple Strength (5 mm)",null,null,"Laminated",null,null,"<< Select Opening"]
[{"$f":"IF(OR(ModelNo=\"S174\",ModelNo=\"0974\",ModelNo=\"9074\",ModelNo=\"8074\"),6,\"\")","v":""},"S174","Operating Sash Glass Height",{"$f":"Frame_Height-4.625","v":-4.625},null,184,"1709","New Const. 3 Lite Slider (1/3-1/3-1/3)",0.5,0.5,null,null,37,14,108,{"$f":"IF(Frame_Width>96,60,72)","v":72},168,"Standard",null,null,null,"Half",null,null,"Standard","HP Package",null,null,null,null,null,null,"Single Strength (2.5 mm)","Double Strength (3 mm)","Triple Strength (5 mm)",null,null,"Laminated",null,null,"<< Select Opening"]
[{"$f":"IF(OR(ModelNo=\"S174\",ModelNo=\"0974\",ModelNo=\"9074\",ModelNo=\"8074\"),7,\"\")","v":""},"S174","Fixed Sash Glass Width",{"$f":"(Frame_Width/4)-4.25","v":-4.25},null,185,"1720","New Const. Twin Single Hung",0.5,0.5,null,null,29,25,96,84,170,"Standard","Custom",null,null,"Half",null,null,"Standard","HP Package",null,null,null,null,null,null,"Single Strength (2.5 mm)","Double Strength (3 mm)","Triple Strength (5 mm)",null,null,"Laminated",null,null,"<< Select Opening"]
[{"$f":"IF(OR(ModelNo=\"S174\",ModelNo=\"0974\",ModelNo=\"9074\",ModelNo=\"8074\"),8,\"\")","v":""},"S174","Fixed Sash Glass Height",{"$f":"Frame_Height-4.625","v":-4.625},null,186,"1730","New Const. Triple Single Hung",0.5,0.5,null,null,44,25,108,84,192,"Standard","Custom",null,null,"Half",null,null,"Standard","HP Package",null,null,null,null,null,null,"Single Strength (2.5 mm)","Double Strength (3 mm)","Triple Strength (5 mm)",null,null,"Laminated",null,null,"<< Select Opening"]
[{"$f":"IF(OR(ModelNo=\"S174\",ModelNo=\"0974\",ModelNo=\"9074\",ModelNo=\"8074\"),9,\"\")","v":""},"S174","Screen Width",{"$f":"(Frame_Width/4)-3.625","v":-3.625},null,187,"1900","New Const. Single Hung",0.5,0.5,null,null,14.25,25,52,{"$f":"IF(Frame_Width>48,84,96)","v":96},136,"Standard","Custom",null,null,"Half",null,null,"Standard","HP Package",null,null,null,null,null,null,"Single Strength (2.5 mm)","Double Strength (3 mm)","Triple Strength (5 mm)",null,null,"Laminated",null,null,"<< Select Opening"]
[{"$f":"IF(OR(ModelNo=\"S174\",ModelNo=\"0974\",ModelNo=\"9074\",ModelNo=\"8074\"),10,\"\")","v":""},"S174","Screen Height",{"$f":"Frame_Height-4","v":-4},null,188,"1901","New Const. Double Hung",0.5,0.5,null,null,16,25,52,{"$f":"IF(Frame_Width>48,76,84)","v":84},136,"Standard","Oriel (2/3 - 1/3)","Cottage (1/3 - 2/3)","Custom","Half","Full",null,"Standard","HP Package",null,null,null,null,null,null,"Single Strength (2.5 mm)","Double Strength (3 mm)","Triple Strength (5 mm)",null,null,"Laminated",null,null,"<< Select Opening"]
[{"$f":"IF(OR(ModelNo=\"S174\",ModelNo=\"0974\",ModelNo=\"9074\",ModelNo=\"8074\"),11,\"\")","v":""},"S174","Egress Opening Width (Standard Hinge)",{"$f":"(Frame_Width/4)-10.875","v":-10.875},null,189,"1902","New Const. Single Slider",0.5,0.5,null,null,23.5,14,84,{"$f":"IF(Frame_Width>72,60,72)","v":72},132,"Standard",null,null,null,"Half",null,null,"Standard","HP Package",null,null,null,null,null,null,"Single Strength (2.5 mm)","Double Strength (3 mm)","Triple Strength (5 mm)",null,null,"Laminated",null,null,"<< Select Opening"]
[{"$f":"IF(OR(ModelNo=\"S174\",ModelNo=\"0974\",ModelNo=\"9074\",ModelNo=\"8074\"),12,\"\")","v":""},"S174","Egress Opening Height (Standard Hinge)",{"$f":"Frame_Height-4.375","v":-4.375},null,190,"1903","New Const. 3 Lite Slider (1/4-1/2-1/4)",0.5,0.5,null,null,48.5,14,108,{"$f":"IF(Frame_Width>96,60,72)","v":72},168,"Standard",null,null,null,"Half",null,null,"Standard","HP Package",null,null,null,null,null,null,"Single Strength (2.5 mm)","Double Strength (3 mm)","Triple Strength (5 mm)",null,null,"Laminated",null,null,"<< Select Opening"]
[{"$f":"IF(OR(ModelNo=\"S174\",ModelNo=\"0974\",ModelNo=\"9074\",ModelNo=\"8074\"),13,\"\")","v":""},"S174","Egress Opening Area w/Standard Hinge (sq.ft.)",{"$f":"(D191*D192)/144","v":0.33040364583333331},null,191,"1904","New Const. Picture Window",0.5,0.5,null,null,11.5,11.5,{"$f":"IF(Frame_Height>54,84,96)","v":96},{"$f":"IF(Frame_Width>54,84,96)","v":96},156,"Standard",null,null,null,null,null,null,null,null,null,null,null,null,null,null,null,"Double Strength (3 mm)","Triple Strength (5 mm)",null,null,"Laminated",null,null,"<< Select Opening"]
[{"$f":"IF(OR(ModelNo=\"S174\",ModelNo=\"0974\",ModelNo=\"9074\",ModelNo=\"8074\"),14,\"\")","v":""},"S174","Egress Opening Width (Egress Hinge)",{"$f":"IF(D181<22.375,\"N/A\",(Frame_Width/4)-6.4375)","v":"N/A"},null,192,"1909","New Const. 3 Lite Slider (1/3-1/3-1/3)",0.5,0.5,null,null,37,14,108,{"$f":"IF(Frame_Width>96,60,72)","v":72},168,"Standard",null,null,null,"Half",null,null,"Standard","HP Package",null,null,null,null,null,null,"Single Strength (2.5 mm)","Double Strength (3 mm)","Triple Strength (5 mm)",null,null,"Laminated",null,null,"<< Select Opening"]
[{"$f":"IF(OR(ModelNo=\"S174\",ModelNo=\"0974\",ModelNo=\"9074\",ModelNo=\"8074\"),15,\"\")","v":""},"S174","Egress Opening Height (Egress Hinge)",{"$f":"IF(D181<22.375,\"N/A\",Frame_Height-4.375)","v":"N/A"},null,193,"1914","New Const. Picture Window",0.5,0.5,null,null,11.5,11.5,{"$f":"IF(Frame_Height>54,84,96)","v":96},{"$f":"IF(Frame_Width>54,84,96)","v":96},156,"Standard",null,null,null,null,null,null,null,null,null,null,null,null,null,null,null,"Double Strength (3 mm)","Triple Strength (5 mm)",null,null,"Laminated",null,null,"<< Select Opening"]
[{"$f":"IF(OR(ModelNo=\"S174\",ModelNo=\"0974\",ModelNo=\"9074\",ModelNo=\"8074\"),16,\"\")","v":""},"S174","Egress Opening Area w/Egress Hinge (sq.ft.)",{"$f":"IF(D181<22.375,\"N/A\",(D194*D195)/144)","v":"N/A"},null,194,"1920","New Const. Twin Single Hung",0.5,0.5,null,null,29,25,96,84,170,"Standard","Custom",null,null,"Half",null,null,"Standard","HP Package",null,null,null,null,null,null,"Single Strength (2.5 mm)","Double Strength (3 mm)","Triple Strength (5 mm)",null,null,"Laminated",null,null,"<< Select Opening"]
[{"$f":"IF(OR(ModelNo=\"S175\",ModelNo=\"0975\",ModelNo=\"9075\",ModelNo=\"8075\"),1,\"\")","v":""},"S175","Operating Sash Width",{"$f":"TRUNC(((Frame_Width/5)-1.225)*16+0.5)/16","v":-1.1875},null,195,"1921","New Const. Twin Double Hung",0.5,0.5,null,null,36,25,96,84,170,"Standard","Oriel (2/3 - 1/3)","Cottage (1/3 - 2/3)","Custom","Half","Full",null,"Standard","HP Package",null,null,null,null,null,null,"Single Strength (2.5 mm)","Double Strength (3 mm)","Triple Strength (5 mm)",null,null,"Laminated",null,null,"<< Select Opening"]
[{"$f":"IF(OR(ModelNo=\"S175\",ModelNo=\"0975\",ModelNo=\"9075\",ModelNo=\"8075\"),2,\"\")","v":""},"S175","Operating Sash Height",{"$f":"Frame_Height-1.625","v":-1.625},null,196,"1930","New Const. Triple Single Hung",0.5,0.5,null,null,44,25,108,84,192,"Standard","Custom",null,null,"Half",null,null,"Standard","HP Package",null,null,null,null,null,null,"Single Strength (2.5 mm)","Double Strength (3 mm)","Triple Strength (5 mm)",null,null,"Laminated",null,null,"<< Select Opening"]
[{"$f":"IF(OR(ModelNo=\"S175\",ModelNo=\"0975\",ModelNo=\"9075\",ModelNo=\"8075\"),3,\"\")","v":""},"S175","Fixed Sash Width",{"$f":"TRUNC(((Frame_Width/5)-1.225)*16+0.5)/16","v":-1.1875},null,197,"1931","New Const. Triple Double Hung",0.5,0.5,null,null,54,25,108,84,192,"Standard","Oriel (2/3 - 1/3)","Cottage (1/3 - 2/3)","Custom","Half","Full",null,"Standard","HP Package",null,null,null,null,null,null,"Single Strength (2.5 mm)","Double Strength (3 mm)","Triple Strength (5 mm)",null,null,"Laminated",null,null,"<< Select Opening"]
[{"$f":"IF(OR(ModelNo=\"S175\",ModelNo=\"0975\",ModelNo=\"9075\",ModelNo=\"8075\"),4,\"\")","v":""},"S175","Fixed Sash Height",{"$f":"Frame_Height-1.625","v":-1.625},null,{"$f":"VLOOKUP(Cell_Link,$F$3:$G$181,2,FALSE)","v":"Select Model"},{"$f":"Model_Select","v":"Select Model"},{"$f":"VLOOKUP(Model_Select,Data,2,FALSE)","v":0},{"$f":"VLOOKUP(Model_Select,Data,3,FALSE)","v":0},{"$f":"VLOOKUP(Model_Select,Data,4,FALSE)","v":0},{"$f":"VLOOKUP(Model_Select,Data,5,FALSE)","v":0},{"$f":"VLOOKUP(Model_Select,Data,6,FALSE)","v":0},{"$f":"VLOOKUP(Model_Select,Data,7,FALSE)","v":0},{"$f":"VLOOKUP(Model_Select,Data,8,FALSE)","v":0},{"$f":"VLOOKUP(Model_Select,Data,9,FALSE)","v":0},{"$f":"VLOOKUP(Model_Select,Data,10,FALSE)","v":0},{"$f":"VLOOKUP(Model_Select,Data,11,FALSE)","v":0},{"$f":"VLOOKUP(Model_Select,Data,12,FALSE)","v":0},{"$f":"VLOOKUP(Model_Select,Data,13,FALSE)","v":0},{"$f":"VLOOKUP(Model_Select,Data,14,FALSE)","v":0},{"$f":"VLOOKUP(Model_Select,Data,15,FALSE)","v":0},{"$f":"VLOOKUP(Model_Select,Data,16,FALSE)","v":0},{"$f":"VLOOKUP(Model_Select,Data,17,FALSE)","v":0},{"$f":"VLOOKUP(Model_Select,Data,18,FALSE)","v":0},{"$f":"VLOOKUP(Model_Select,Data,19,FALSE)","v":0},{"$f":"VLOOKUP(Model_Select,Data,20,FALSE)","v":0},{"$f":"VLOOKUP(Model_Select,Data,21,FALSE)","v":0},{"$f":"VLOOKUP(Model_Select,Data,22,FALSE)","v":0},{"$f":"VLOOKUP(Model_Select,Data,23,FALSE)","v":0},{"$f":"VLOOKUP(Model_Select,Data,24,FALSE)","v":0},{"$f":"VLOOKUP(Model_Select,Data,25,FALSE)","v":0},{"$f":"VLOOKUP(Model_Select,Data,26,FALSE)","v":0},{"$f":"VLOOKUP(Model_Select,Data,27,FALSE)","v":0},{"$f":"VLOOKUP(Model_Select,Data,28,FALSE)","v":0},{"$f":"VLOOKUP(Model_Select,Data,29,FALSE)","v":0},{"$f":"VLOOKUP(Model_Select,Data,30,FALSE)","v":0},{"$f":"VLOOKUP(Model_Select,Data,31,FALSE)","v":0},{"$f":"VLOOKUP(Model_Select,Data,32,FALSE)","v":0},{"$f":"VLOOKUP(Model_Select,Data,33,FALSE)","v":0},{"$f":"VLOOKUP(Model_Select,Data,34,FALSE)","v":0},{"$f":"VLOOKUP(Model_Select,Data,35,FALSE)","v":0}]
[{"$f":"IF(OR(ModelNo=\"S175\",ModelNo=\"0975\",ModelNo=\"9075\",ModelNo=\"8075\"),5,\"\")","v":""},"S175","Operating Sash Glass Width",{"$f":"TRUNC(((Frame_Width/5)-4.225)*16+0.5)/16","v":-4.1875},null,1,{"$f":"IF(OR(Model_Select=\"S140\",Model_Select=\"S144\",Model_Select=\"S146\"),1,0)","v":0},null,null,null,null,{"$f":"IF(OR(ModelNo=\"6405\",ModelNo=\"6406\",ModelNo=\"6408\",ModelNo=\"6409\",ModelNo=\"6412\",ModelNo=\"6422\",ModelNo=\"8405\",ModelNo=\"8406\",ModelNo=\"8408\",ModelNo=\"8409\",ModelNo=\"8412\",ModelNo=\"8422\",ModelNo=\"1106\",ModelNo=\"1109\"),1,0)","v":0},null,null,null,null,null,null,null,null,null,null,null,null,null,null,null,null,null,null,null,null,{"$f":"IF(AG200>0,1,0)","v":0},{"$f":"IF(AH200>0,1,0)","v":0},0,0,0,0,0,0]
[{"$f":"IF(OR(ModelNo=\"S175\",ModelNo=\"0975\",ModelNo=\"9075\",ModelNo=\"8075\"),6,\"\")","v":""},"S175","Operating Sash Glass Height",{"$f":"Frame_Height-4.625","v":-4.625},null,null,null,null,null,null,null,{"$f":"IF(HCONTROL=1,96,\"\")","v":""},null,null,null,null,null,null,null,null,null,null,null,null,null,null,null,null,null,null,null,null,{"$f":"AG201","v":0},{"$f":"SUM(AG201:AH201)","v":0},{"$f":"SUM(AG201:AI201)","v":0},{"$f":"SUM(AG201:AJ201)","v":0},{"$f":"SUM(AG201:AK201)","v":0},{"$f":"SUM(AG201:AL201)","v":0},{"$f":"SUM(AG201:AM201)","v":0},{"$f":"SUM(AG201:AN201)","v":0}]
[{"$f":"IF(OR(ModelNo=\"S175\",ModelNo=\"0975\",ModelNo=\"9075\",ModelNo=\"8075\"),7,\"\")","v":""},"S175","Fixed Sash Glass Width",{"$f":"TRUNC(((Frame_Width/5)-4.225)*16+0.5)/16","v":-4.1875},null,null,null,null,null,null,null,null,null,null,null,null,null,null,null,null,null,null,null,null,null,null,null,null,null,null,null,null,{"$f":"AG200","v":0},{"$f":"AH200","v":0},0,0,0,0,0,0]
[{"$f":"IF(OR(ModelNo=\"S175\",ModelNo=\"0975\",ModelNo=\"9075\",ModelNo=\"8075\"),8,\"\")","v":""},"S175","Fixed Sash Glass Height",{"$f":"Frame_Height-4.625","v":-4.625},null,null,null,null,null,null,null,null,null,null,null,null,null,null,null,null,null,null,null,null,null,null,null,null,null,null,null,null,{"$f":"IF(ISERROR(HLOOKUP(1,AG202:AN203,2,FALSE)),\"\",HLOOKUP(1,AG202:AN203,2,FALSE))","v":""},{"$f":"IF(ISERROR(HLOOKUP(2,AG202:AN203,2,FALSE)),\"\",HLOOKUP(2,AG202:AN203,2,FALSE))","v":""},{"$f":"IF(ISERROR(HLOOKUP(3,AG202:AN203,2,FALSE)),\"\",HLOOKUP(3,AG202:AN203,2,FALSE))","v":""},{"$f":"IF(ISERROR(HLOOKUP(4,AG202:AN203,2,FALSE)),\"\",HLOOKUP(4,AG202:AN203,2,FALSE))","v":""},{"$f":"IF(ISERROR(HLOOKUP(5,AG202:AN203,2,FALSE)),\"\",HLOOKUP(5,AG202:AN203,2,FALSE))","v":""},{"$f":"IF(ISERROR(HLOOKUP(6,AG202:AN203,2,FALSE)),\"\",HLOOKUP(6,AG202:AN203,2,FALSE))","v":""},{"$f":"IF(ISERROR(HLOOKUP(7,AG202:AN203,2,FALSE)),\"\",HLOOKUP(7,AG202:AN203,2,FALSE))","v":""},{"$f":"IF(ISERROR(HLOOKUP(8,AG202:AN203,2,FALSE)),\"\",HLOOKUP(8,AG202:AN203,2,FALSE))","v":""}]
[{"$f":"IF(OR(ModelNo=\"S175\",ModelNo=\"0975\",ModelNo=\"9075\",ModelNo=\"8075\"),9,\"\")","v":""},"S175","Screen Width",{"$f":"TRUNC(((Frame_Width/5)-3.7625)*16+0.5)/16","v":-3.6875},null,null,null,null,null,null,null,null,null,null,null,null,null,null,null,null,null,null,null,null,null,null,null,null,null,null,null,null,"Single Strength (2.5 mm)","S",2.3140000000000001]
[{"$f":"IF(OR(ModelNo=\"S175\",ModelNo=\"0975\",ModelNo=\"9075\",ModelNo=\"8075\"),10,\"\")","v":""},"S175","Screen Height",{"$f":"Frame_Height-4","v":-4},null,null,null,null,null,null,null,null,null,null,null,null,null,null,null,null,null,null,null,null,null,null,null,null,null,null,null,null,"Double Strength (3 mm)","D",3.2]
[{"$f":"IF(OR(ModelNo=\"S175\",ModelNo=\"0975\",ModelNo=\"9075\",ModelNo=\"8075\"),11,\"\")","v":""},"S175","Egress Opening Width (Standard Hinge)",{"$f":"TRUNC(((Frame_Width/5)-10.875)*16+0.5)/16","v":-10.8125},null,null,null,null,null,null,null,null,null,null,null,null,null,null,null,null,null,null,null,null,null,null,null,null,null,null,null,null,"Triple Strength (5 mm)","T",4.8159999999999998]
[{"$f":"IF(OR(ModelNo=\"S175\",ModelNo=\"0975\",ModelNo=\"9075\",ModelNo=\"8075\"),12,\"\")","v":""},"S175","Egress Opening Height (Standard Hinge)",{"$f":"Frame_Height-4.375","v":-4.375},null,null,null,null,null,null,null,null,null,null,null,null,null,null,null,null,null,null,null,null,null,null,null,null,null,null,null,null,"Triple IG Single Strength","STG",3.4710000000000001]
[{"$f":"IF(OR(ModelNo=\"S175\",ModelNo=\"0975\",ModelNo=\"9075\",ModelNo=\"8075\"),13,\"\")","v":""},"S175","Egress Opening Area w/Standard Hinge (sq.ft.)",{"$f":"(D207*D208)/144","v":0.32850477430555558},null,null,null,null,null,null,null,null,null,null,null,null,null,null,null,null,null,null,null,null,null,null,null,null,null,null,null,null,"Triple IG Double Strength","DTG",4.8000000000000007]
[{"$f":"IF(OR(ModelNo=\"S175\",ModelNo=\"0975\",ModelNo=\"9075\",ModelNo=\"8075\"),14,\"\")","v":""},"S175","Egress Opening Width (Egress Hinge)",{"$f":"IF(D197<22.375,\"N/A\",TRUNC(((Frame_Width/5)-6.4375)*16+0.5)/16)","v":"N/A"},null,null,null,null,null,null,null,null,null,null,null,null,null,null,null,null,null,null,null,null,null,null,null,null,null,null,null,null,"Laminated","L",5.3659999999999997]
[{"$f":"IF(OR(ModelNo=\"S175\",ModelNo=\"0975\",ModelNo=\"9075\",ModelNo=\"8075\"),15,\"\")","v":""},"S175","Egress Opening Height (Egress Hinge)",{"$f":"IF(D197<22.375,\"N/A\",Frame_Height-4.375)","v":"N/A"},null,null,null,null,null,null,null,null,null,null,null,null,null,null,null,null,null,null,null,null,null,null,null,null,null,null,null,null,"HP package","H",4.8159999999999998]
[{"$f":"IF(OR(ModelNo=\"S175\",ModelNo=\"0975\",ModelNo=\"9075\",ModelNo=\"8075\"),16,\"\")","v":""},"S175","Egress Opening Area w/Egress Hinge (sq.ft.)",{"$f":"IF(D197<22.375,\"N/A\",(D210*D211)/144)","v":"N/A"},null,null,null,null,null,null,null,null,null,null,null,null,null,null,null,null,null,null,null,null,null,null,null,null,null,null,null,null,"Impact Laminated","IL",5.3659999999999997]
[{"$f":"IF(ModelNo=B213,1,\"\")","v":""},"0201","Top Sash Width",{"$f":"Frame_Width-3.25","v":-3.25}]
[{"$f":"IF(ModelNo=B214,2,\"\")","v":""},"0201","Top Sash Height",{"$f":"CMR!$E$26-1.5625","v":-1.5625}]
[{"$f":"IF(ModelNo=B215,3,\"\")","v":""},"0201","Bottom Sash Width",{"$f":"Frame_Width-2.25","v":-2.25}]
[{"$f":"IF(ModelNo=B216,4,\"\")","v":""},"0201","Bottom Sash Height",{"$f":"CMR!$E$27-0.5625","v":-0.5625}]
[{"$f":"IF(ModelNo=B217,5,\"\")","v":""},"0201","Top Glass Width",{"$f":"CMR!$E$29","v":-4.875}]
[{"$f":"IF(ModelNo=B218,6,\"\")","v":""},"0201","Top Glass Height",{"$f":"CMR!$E$31","v":-3.15625}]
[{"$f":"IF(ModelNo=B219,7,\"\")","v":""},"0201","Bottom Glass Width",{"$f":"CMR!$E$30","v":-3.875}]
[{"$f":"IF(ModelNo=B220,8,\"\")","v":""},"0201","Bottom Glass Height",{"$f":"CMR!$E$32","v":-2.15625}]
[{"$f":"IF(ModelNo=B221,9,\"\")","v":""},"0201","Screen Width",{"$f":"IF(Screen=\"L\",Frame_Width-1.6875,Frame_Width-3.6875)","v":-3.6875}]
[{"$f":"IF(ModelNo=B222,10,\"\")","v":""},"0201","Screen Height",{"$f":"IF(Screen=\"L\",TRUNC((CMR!$E$27-1.375)*16+0.5)/16,IF(Screen=\"F\",TRUNC((Frame_Height-2.875)*16+0.5)/16,TRUNC((CMR!$E$27-0.3125)*16+0.5)/16))","v":-0.25}]
[{"$f":"IF(ModelNo=B223,11,\"\")","v":""},"0201","Top Sash Weight (Plus 5 lb)",{"$f":"IF(ISERROR(TOP_WGT&\" \"&\"lb\"),\"N/A\",TOP_WGT&\" \"&\"lb\")","v":"N/A"}]
[{"$f":"IF(ModelNo=B224,12,\"\")","v":""},"0201","Top Balance Size (C.F)",{"$f":"IF(ISERROR((VLOOKUP(TOP_WGT,CFB,2,FALSE))&(VLOOKUP(TOP_WGT,CFB,3,FALSE))),\"N/A\",(VLOOKUP(TOP_WGT,CFB,2,FALSE))&(VLOOKUP(TOP_WGT,CFB,3,FALSE)))","v":"N/A"}]
[{"$f":"IF(ModelNo=B225,13,\"\")","v":""},"0201","Top Balance Size (Spiral)",{"$f":"TOPTUBELENGTH&\"-\"&TOP_SPIRAL","v":{"$error":"#N/A"}}]
[{"$f":"IF(ModelNo=B226,14,\"\")","v":""},"0201","Bottom Sash Weight",{"$f":"IF(ISERROR(BTM_WGT&\" \"&\"lb\"),\"N/A\",BTM_WGT&\" \"&\"lb\")","v":"N/A"}]
[{"$f":"IF(ModelNo=B227,15,\"\")","v":""},"0201","Bottom Balance Size (C.F)",{"$f":"IF(ISERROR((VLOOKUP(BTM_WGT,CFB,2,FALSE))&(VLOOKUP(BTM_WGT,CFB,3,FALSE))),\"N/A\",(VLOOKUP(BTM_WGT,CFB,2,FALSE))&(VLOOKUP(BTM_WGT,CFB,3,FALSE)))","v":"N/A"}]
[{"$f":"IF(ModelNo=B228,16,\"\")","v":""},"0201","Bottom Balance Size (Spriral)",{"$f":"BOTTUBELENGTH&\"-\"&BOT_SPIRAL","v":{"$error":"#N/A"}}]
[{"$f":"IF(ModelNo=B229,17,\"\")","v":""},"0201","Egress Opening Width",{"$f":"IF(ISERROR(EW),\"N/A\",EW)","v":"N/A"}]
[{"$f":"IF(ModelNo=B230,18,\"\")","v":""},"0201","Egress Opening Height",{"$f":"IF(ISERROR(EH),\"N/A\",EH)","v":"N/A"}]
[{"$f":"IF(ModelNo=B231,19,\"\")","v":""},"0201","Egress Opening Area (sq.ft.)",{"$f":"IF(ISERROR(EO),\"N/A\",EO)","v":"N/A"}]
[{"$f":"IF(OR(ModelNo=\"0202\",ModelNo=\"L202\"),1,\"\")","v":""},"0202","Sash Width",{"$f":"(Frame_Width/2)-0.625","v":-0.625}]
[{"$f":"IF(OR(ModelNo=\"0202\",ModelNo=\"L202\"),2,\"\")","v":""},"0202","Sash Height",{"$f":"Frame_Height-3.25","v":-3.25}]
[{"$f":"IF(OR(ModelNo=\"0202\",ModelNo=\"L202\"),3,\"\")","v":""},"0202","Roller Track Length",{"$f":"Frame_Width-1.8125","v":-1.8125}]
[{"$f":"IF(OR(ModelNo=\"0202\",ModelNo=\"L202\"),4,\"\")","v":""},"0202","Glass Width",{"$f":"(Frame_Width/2)-2.3125","v":-2.3125}]
[{"$f":"IF(OR(ModelNo=\"0202\",ModelNo=\"L202\"),5,\"\")","v":""},"0202","Glass Height",{"$f":"Frame_Height-4.9375","v":-4.9375}]
[{"$f":"IF(OR(ModelNo=\"0202\",ModelNo=\"L202\"),6,\"\")","v":""},"0202","Screen Width",{"$f":"IF(Screen=\"F\",Frame_Width-4.125,IF(Screen=\"L\",\"N/A\",(Frame_Width/2)-1.5))","v":-1.5}]
[{"$f":"IF(OR(ModelNo=\"0202\",ModelNo=\"L202\"),7,\"\")","v":""},"0202","Screen Height",{"$f":"IF(Screen=\"H\",Frame_Height-3.6875,Frame_Height-3.75)","v":-3.6875}]
[{"$f":"IF(OR(ModelNo=\"0202\",ModelNo=\"L202\"),8,\"\")","v":""},"0202","Egress Opening Width",{"$f":"(Frame_Width/2)-4.25","v":-4.25}]
[{"$f":"IF(OR(ModelNo=\"0202\",ModelNo=\"L202\"),9,\"\")","v":""},"0202","Egress Opening Height",{"$f":"Frame_Height-4.4375","v":-4.4375}]
[{"$f":"IF(OR(ModelNo=\"0202\",ModelNo=\"L202\"),10,\"\")","v":""},"0202","Egress Opening Area (sq.ft.)",{"$f":"(D239*D240)/144","v":0.13096788194444445}]
[{"$f":"IF(OR(ModelNo=\"0203\",ModelNo=\"L203\"),1,\"\")","v":""},"0203","Operating Sash Width",{"$f":"(TRUNC((((Frame_Width/4)+0.6875))*16+0.5)/16)-0.4375","v":0.25}]
[{"$f":"IF(OR(ModelNo=\"0203\",ModelNo=\"L203\"),2,\"\")","v":""},"0203","Operating Sash Height",{"$f":"Frame_Height-3.25","v":-3.25}]
[{"$f":"IF(OR(ModelNo=\"0203\",ModelNo=\"L203\"),3,\"\")","v":""},"0203","Fixed Sash Width",{"$f":"(Frame_Width-(2*(TRUNC((((Frame_Width/4)+0.6875))*16+0.5)/16)))+0.125","v":-1.25}]
[{"$f":"IF(OR(ModelNo=\"0203\",ModelNo=\"L203\"),4,\"\")","v":""},"0203","Fixed Sash Height",{"$f":"Frame_Height-3.25","v":-3.25}]
[{"$f":"IF(OR(ModelNo=\"0203\",ModelNo=\"L203\"),5,\"\")","v":""},"0203","Roller Track Length",{"$f":"Frame_Width-2.3125","v":-2.3125}]
[{"$f":"IF(OR(ModelNo=\"0203\",ModelNo=\"L203\"),6,\"\")","v":""},"0203","Operating Sash Glass Width",{"$f":"(TRUNC((Frame_Width/4+0.6875)*16+0.5)/16)-2.125","v":-1.4375}]
[{"$f":"IF(OR(ModelNo=\"0203\",ModelNo=\"L203\"),7,\"\")","v":""},"0203","Operating Sash Glass Height",{"$f":"Frame_Height-4.9375","v":-4.9375}]
[{"$f":"IF(OR(ModelNo=\"0203\",ModelNo=\"L203\"),8,\"\")","v":""},"0203","Fixed Sash Glass Width",{"$f":"(Frame_Width-2*(TRUNC((Frame_Width/4+0.6875)*16+0.5)/16))-1.5625","v":-2.9375}]
[{"$f":"IF(OR(ModelNo=\"0203\",ModelNo=\"L203\"),9,\"\")","v":""},"0203","Fixed Sash Glass Height",{"$f":"Frame_Height-4.9375","v":-4.9375}]
[{"$f":"IF(OR(ModelNo=\"0203\",ModelNo=\"L203\"),10,\"\")","v":""},"0203","Screen Width",{"$f":"IF(Screen=\"F\",Frame_Width-4.125,IF(Screen=\"L\",\"N/A\",(TRUNC(((Frame_Width/4)+0.6875)*16+0.5)/16)-1.1875))","v":-0.5}]
[{"$f":"IF(OR(ModelNo=\"0203\",ModelNo=\"L203\"),11,\"\")","v":""},"0203","Screen Height",{"$f":"Frame_Height-3.6875","v":-3.6875}]
[{"$f":"IF(OR(ModelNo=\"0203\",ModelNo=\"L203\"),12,\"\")","v":""},"0203","Egress Opening Width",{"$f":"(Frame_Width/4)-1.5","v":-1.5}]
[{"$f":"IF(OR(ModelNo=\"0203\",ModelNo=\"L203\"),13,\"\")","v":""},"0203","Egress Opening Height",{"$f":"Frame_Height-3.875","v":-3.875}]
[{"$f":"IF(OR(ModelNo=\"0203\",ModelNo=\"L203\"),14,\"\")","v":""},"0203","Egress Opening Area (sq.ft.)",{"$f":"(D253*D254)/144","v":4.0364583333333336E-2}]
[{"$f":"IF(OR(ModelNo=\"0204\",ModelNo=\"i204\",ModelNo=\"02A4\",ModelNo=\"L204\"),1,\"\")","v":""},"0204","Glass Width",{"$f":"Frame_Width-3.4375","v":-3.4375}]
[{"$f":"IF(OR(ModelNo=\"0204\",ModelNo=\"i204\",ModelNo=\"02A4\",ModelNo=\"L204\"),2,\"\")","v":""},"0204","Glass Height",{"$f":"Frame_Height-3.4375","v":-3.4375}]
[{"$f":"IF(OR(ModelNo=\"0204\",ModelNo=\"i204\",ModelNo=\"02A4\",ModelNo=\"L204\"),3,\"\")","v":""},"0204","Glass Area (sq.ft.)",{"$f":"(D256*D257)/144","v":8.2058376736111105E-2}]
[{"$f":"IF(OR(ModelNo=\"0209\",ModelNo=\"L209\"),1,\"\")","v":""},"0209","Operating Sash Width",{"$f":"(TRUNC(((Frame_Width/3)+0.1875)*16+0.5)/16)-0.4375","v":-0.25}]
[{"$f":"IF(OR(ModelNo=\"0209\",ModelNo=\"L209\"),2,\"\")","v":""},"0209","Operating Sash Height",{"$f":"Frame_Height-3.25","v":-3.25}]
[{"$f":"IF(OR(ModelNo=\"0209\",ModelNo=\"L209\"),3,\"\")","v":""},"0209","Fixed Sash Width",{"$f":"((TRUNC(((Frame_Width/3)+0.1875)*16+0.5)/16)-0.5625)+0.125","v":-0.25}]
[{"$f":"IF(OR(ModelNo=\"0209\",ModelNo=\"L209\"),4,\"\")","v":""},"0209","Fixed Sash Height",{"$f":"Frame_Height-3.25","v":-3.25}]
[{"$f":"IF(OR(ModelNo=\"0209\",ModelNo=\"L209\"),5,\"\")","v":""},"0209","Roller Track Length",{"$f":"Frame_Width-2.3125","v":-2.3125}]
[{"$f":"IF(OR(ModelNo=\"0209\",ModelNo=\"L209\"),6,\"\")","v":""},"0209","Operating Sash Glass Width",{"$f":"(TRUNC((Frame_Width/3+0.1875)*16+0.5)/16)-2.125","v":-1.9375}]
[{"$f":"IF(OR(ModelNo=\"0209\",ModelNo=\"L209\"),7,\"\")","v":""},"0209","Operating Sash Glass Height",{"$f":"Frame_Height-4.9375","v":-4.9375}]
[{"$f":"IF(OR(ModelNo=\"0209\",ModelNo=\"L209\"),8,\"\")","v":""},"0209","Fixed Sash Glass Width",{"$f":"(TRUNC((Frame_Width/3+0.1875)*16+0.5)/16)-2.125","v":-1.9375}]
[{"$f":"IF(OR(ModelNo=\"0209\",ModelNo=\"L209\"),9,\"\")","v":""},"0209","Fixed Sash Glass Height",{"$f":"Frame_Height-4.9375","v":-4.9375}]
[{"$f":"IF(OR(ModelNo=\"0209\",ModelNo=\"L209\"),10,\"\")","v":""},"0209","Screen Width",{"$f":"IF(Screen=\"F\",Frame_Width-4.125,IF(Screen=\"L\",\"N/A\",(TRUNC(((Frame_Width/3)+0.1875)*16+0.5)/16)-1.1875))","v":-1}]
[{"$f":"IF(OR(ModelNo=\"0209\",ModelNo=\"L209\"),11,\"\")","v":""},"0209","Screen Height",{"$f":"Frame_Height-3.6875","v":-3.6875}]
[{"$f":"IF(OR(ModelNo=\"0209\",ModelNo=\"L209\"),12,\"\")","v":""},"0209","Egress Opening Width",{"$f":"(TRUNC(((Frame_Width/3)+0.1875)*16+0.5)/16)-4.15","v":-3.9625000000000004}]
[{"$f":"IF(OR(ModelNo=\"0209\",ModelNo=\"L209\"),13,\"\")","v":""},"0209","Egress Opening Height",{"$f":"Frame_Height-3.875","v":-3.875}]
[{"$f":"IF(OR(ModelNo=\"0209\",ModelNo=\"L209\"),14,\"\")","v":""},"0209","Egress Opening Area (sq.ft.)",{"$f":"(D270*D271)/144","v":0.10662977430555556}]
[{"$f":"IF(ModelNo=B273,1,\"\")","v":""},"02A0","Bottom Sash Width",{"$f":"Frame_Width-2.25","v":-2.25}]
[{"$f":"IF(ModelNo=B274,2,\"\")","v":""},"02A0","Bottom Sash Height",{"$f":"CMR!$L$27-0.75","v":-0.75}]
[{"$f":"IF(ModelNo=B275,3,\"\")","v":""},"02A0","Bottom Glass Width",{"$f":"CMR!$L$30","v":-3.875}]
[{"$f":"IF(ModelNo=B276,4,\"\")","v":""},"02A0","Bottom Glass Height",{"$f":"CMR!$L$32","v":-2.375}]
[{"$f":"IF(ModelNo=B277,5,\"\")","v":""},"02A0","Top Glass Width",{"$f":"CMR!$L$29","v":-3.375}]
[{"$f":"IF(ModelNo=B278,6,\"\")","v":""},"02A0","Top Glass Height",{"$f":"CMR!$L$31","v":-2.1875}]
[{"$f":"IF(ModelNo=B279,7,\"\")","v":""},"02A0","Astragal Length",{"$f":"TRUNC((Frame_Width-2.868)*16+0.5)/16","v":-2.8125}]
[{"$f":"IF(ModelNo=B280,8,\"\")","v":""},"02A0","Screen Width",{"$f":"IF(Screen=\"L\",Frame_Width-1.6875,Frame_Width-3.6875)","v":-3.6875}]
[{"$f":"IF(ModelNo=B281,9,\"\")","v":""},"02A0","Screen Height",{"$f":"IF(Screen=\"F\",Frame_Height-2.875,IF(Screen=\"L\",CMR!$L$27-1.75,CMR!$L$27-0.75))","v":-0.75}]
[{"$f":"IF(ModelNo=B282,10,\"\")","v":""},"02A0","Bottom Sash Weight",{"$f":"IF(ISERROR(BTM_WGT&\" \"&\"lb\"),\"N/A\",BTM_WGT&\" \"&\"lb\")","v":"N/A"}]
[{"$f":"IF(ModelNo=B283,11,\"\")","v":""},"02A0","Balance Size",{"$f":"IF(ISERROR((VLOOKUP(BTM_WGT,CFB,2,FALSE))&(VLOOKUP(BTM_WGT,CFB,3,FALSE))),\"N/A\",(VLOOKUP(BTM_WGT,CFB,2,FALSE))&(VLOOKUP(BTM_WGT,CFB,3,FALSE)))","v":"N/A"}]
[{"$f":"IF(ModelNo=B284,12,\"\")","v":""},"02A0","Egress Opening Width",{"$f":"IF(ISERROR(EW),\"N/A\",EW)","v":"N/A"}]
[{"$f":"IF(ModelNo=B285,13,\"\")","v":""},"02A0","Egress Opening Height",{"$f":"IF(ISERROR(EH),\"N/A\",EH)","v":"N/A"}]
[{"$f":"IF(ModelNo=B286,14,\"\")","v":""},"02A0","Egress Opening Area (sq.ft.)",{"$f":"IF(ISERROR(EO),\"N/A\",EO)","v":"N/A"}]
[{"$f":"IF(ModelNo=B287,1,\"\")","v":""},"02A2","Sash Width",{"$f":"TRUNC(((Frame_Width/2)-0.403)*32+0.5)/32","v":-0.375}]
[{"$f":"IF(ModelNo=B288,2,\"\")","v":""},"02A2","Sash Height",{"$f":"Frame_Height-2.4375","v":-2.4375}]
[{"$f":"IF(ModelNo=B289,3,\"\")","v":""},"02A2","Roller Track Length",{"$f":"Frame_Width-1","v":-1}]
[{"$f":"IF(ModelNo=B290,4,\"\")","v":""},"02A2","Sash Glass Width",{"$f":"TRUNC(((Frame_Width/2)-2.09064)*32+0.5)/32","v":-2.0625}]
[{"$f":"IF(ModelNo=B291,5,\"\")","v":""},"02A2","Sash Glass Height",{"$f":"Frame_Height-4.125","v":-4.125}]
[{"$f":"IF(ModelNo=B292,6,\"\")","v":""},"02A2","Fixed Glass Width",{"$f":"TRUNC(((Frame_Width/2)-2.09686)*32+0.5)/32","v":-2.0625}]
[{"$f":"IF(ModelNo=B293,7,\"\")","v":""},"02A2","Fixed Glass Height",{"$f":"TRUNC((Frame_Height-3.41634)*32+0.5)/32","v":-3.375}]
[{"$f":"IF(ModelNo=B294,8,\"\")","v":""},"02A2","Screen Width",{"$f":"IF(Screen=\"F\",Frame_Width-4.125,IF(Screen=\"L\",\"N/A\",TRUNC(((Frame_Width/2)-2.02638)*32+0.5)/32))","v":-2}]
[{"$f":"IF(ModelNo=B295,9,\"\")","v":""},"02A2","Screen Height",{"$f":"Frame_Height-3.6875","v":-3.6875}]
[{"$f":"IF(ModelNo=B296,10,\"\")","v":""},"02A2","Egress Opening Width",{"$f":"(Frame_Width/2)-3.75","v":-3.75}]
[{"$f":"IF(ModelNo=B297,11,\"\")","v":""},"02A2","Egress Opening Height",{"$f":"Frame_Height-4.5","v":-4.5}]
[{"$f":"IF(ModelNo=B298,12,\"\")","v":""},"02A2","Egress Opening Area (sq.ft.)",{"$f":"(D296*D297)/144","v":0.1171875}]
[{"$f":"IF(ModelNo=B299,1,\"\")","v":""},"02A3","Operating Sash Width",{"$f":"(TRUNC((((Frame_Width/4)+0.908))*32+0.5)/32)-0.1875","v":0.71875}]
[{"$f":"IF(ModelNo=B300,2,\"\")","v":""},"02A3","Operating Sash Height",{"$f":"Frame_Height-2.4375","v":-2.4375}]
[{"$f":"IF(ModelNo=B301,3,\"\")","v":""},"02A3","Astragal Length",{"$f":"TRUNC((Frame_Height-2.868)*32+0.5)/32","v":-2.84375}]
[{"$f":"IF(ModelNo=B302,4,\"\")","v":""},"02A3","Roller Track Length",{"$f":"Frame_Width-1","v":-1}]
[{"$f":"IF(ModelNo=B303,5,\"\")","v":""},"02A3","Operating Sash Glass Width",{"$f":"TRUNC((((TRUNC((((Frame_Width/4)+0.908))*32+0.5)/32)-0.1875)-1.6875)*32+0.5)/32","v":-0.9375}]
[{"$f":"IF(ModelNo=B304,6,\"\")","v":""},"02A3","Operating Sash Glass Height",{"$f":"Frame_Height-4.125","v":-4.125}]
[{"$f":"IF(ModelNo=B305,7,\"\")","v":""},"02A3","Fixed Glass Width",{"$f":"TRUNC(((Frame_Width-2*(TRUNC(((Frame_Width/4)+0.908)*32+0.5)/32))-1.14046)*32+0.5)/32","v":-2.90625}]
[{"$f":"IF(ModelNo=B306,8,\"\")","v":""},"02A3","Fixed Glass Height",{"$f":"TRUNC((Frame_Height-3.41634)*32+0.5)/32","v":-3.375}]
[{"$f":"IF(ModelNo=B307,9,\"\")","v":""},"02A3","Screen Width",{"$f":"IF(Screen=\"F\",Frame_Width-4.0625,TRUNC(((INT((((Frame_Width/4)+0.908))*32+0.5)/32)-1.81075)*16+0.5)/16)","v":-0.8125}]
[{"$f":"IF(ModelNo=B308,10,\"\")","v":""},"02A3","Screen Height",{"$f":"Frame_Height-3.6875","v":-3.6875}]
[{"$f":"IF(ModelNo=B309,11,\"\")","v":""},"02A3","Egress Opening Width",{"$f":"(TRUNC((((Frame_Width/4)+0.908))*32+0.5)/32)-3.375","v":-2.46875}]
[{"$f":"IF(ModelNo=B310,12,\"\")","v":""},"02A3","Egress Opening Height",{"$f":"Frame_Height-4.5","v":-4.5}]
[{"$f":"IF(ModelNo=B311,13,\"\")","v":""},"02A3","Egress Opening Area (sq.ft.)",{"$f":"(D309*D310)/144","v":7.71484375E-2}]
[{"$f":"IF(ModelNo=B312,1,\"\")","v":""},"02A9","Operating Sash Width",{"$f":"(TRUNC((((Frame_Width/3)+0.247))*32+0.5)/32)-0.1875","v":6.25E-2}]
[{"$f":"IF(ModelNo=B313,2,\"\")","v":""},"02A9","Operating Sash Height",{"$f":"Frame_Height-2.4375","v":-2.4375}]
[{"$f":"IF(ModelNo=B314,3,\"\")","v":""},"02A9","Astragal Length",{"$f":"TRUNC((Frame_Height-2.868)*32+0.5)/32","v":-2.84375}]
[{"$f":"IF(ModelNo=B315,4,\"\")","v":""},"02A9","Roller Track Length",{"$f":"Frame_Width-1","v":-1}]
[{"$f":"IF(ModelNo=B316,5,\"\")","v":""},"02A9","Operating Sash Glass Width",{"$f":"TRUNC((((TRUNC((((Frame_Width/3)+0.247))*32+0.5)/32)-0.1875)-1.6875)*32+0.5)/32","v":-1.59375}]
[{"$f":"IF(ModelNo=B317,6,\"\")","v":""},"02A9","Operating Sash Glass Height",{"$f":"Frame_Height-4.125","v":-4.125}]
[{"$f":"IF(ModelNo=B318,7,\"\")","v":""},"02A9","Fixed Glass Width",{"$f":"TRUNC(((TRUNC(((TRUNC(((Frame_Width/3)+0.247)*32+0.5)/32)-0.741)*32+0.5)/32)-1.14046)*32+0.5)/32","v":-1.5625}]
[{"$f":"IF(ModelNo=B319,8,\"\")","v":""},"02A9","Fixed Glass Height",{"$f":"TRUNC((Frame_Height-3.41634)*32+0.5)/32","v":-3.375}]
[{"$f":"IF(ModelNo=B320,9,\"\")","v":""},"02A9","Screen Width",{"$f":"IF(Screen=\"F\",Frame_Width-4.0625,TRUNC(((INT((((Frame_Width/3)+0.247))*32+0.5)/32)-1.81075)*16+0.5)/16)","v":-1.5}]
[{"$f":"IF(ModelNo=B321,10,\"\")","v":""},"02A9","Screen Height",{"$f":"Frame_Height-3.6875","v":-3.6875}]
[{"$f":"IF(ModelNo=B322,11,\"\")","v":""},"02A9","Egress Opening Width",{"$f":"(TRUNC((((Frame_Width/3)+0.247))*32+0.5)/32)-4.375","v":-4.125}]
[{"$f":"IF(ModelNo=B323,12,\"\")","v":""},"02A9","Egress Opening Height",{"$f":"Frame_Height-4.5","v":-4.5}]
[{"$f":"IF(ModelNo=B324,13,\"\")","v":""},"02A9","Egress Opening Area (sq.ft.)",{"$f":"(D322*D323)/144","v":0.12890625}]
[{"$f":"IF(ModelNo=B325,1,\"\")","v":""},"0301","Top Sash Width",{"$f":"Frame_Width-3.25","v":-3.25}]
[{"$f":"IF(ModelNo=B326,2,\"\")","v":""},"0301","Top Sash Height",{"$f":"CMR!$E$42-1.625","v":-1.625}]
[{"$f":"IF(ModelNo=B327,3,\"\")","v":""},"0301","Bottom Sash Width",{"$f":"Frame_Width-2.25","v":-2.25}]
[{"$f":"IF(ModelNo=B328,4,\"\")","v":""},"0301","Bottom Sash Height",{"$f":"CMR!$E$43-0.625","v":-0.625}]
[{"$f":"IF(ModelNo=B329,5,\"\")","v":""},"0301","Top Glass Width",{"$f":"CMR!$E$45","v":-4.875}]
[{"$f":"IF(ModelNo=B330,6,\"\")","v":""},"0301","Top Glass Height",{"$f":"CMR!$E$47","v":-3.25}]
[{"$f":"IF(ModelNo=B331,7,\"\")","v":""},"0301","Bottom Glass Width",{"$f":"CMR!$E$46","v":-3.875}]
[{"$f":"IF(ModelNo=B332,8,\"\")","v":""},"0301","Bottom Glass Height",{"$f":"CMR!$E$48","v":-2.25}]
[{"$f":"IF(ModelNo=B333,9,\"\")","v":""},"0301","Screen Width",{"$f":"IF(Screen=\"F\",Frame_Width-3.125,Frame_Width-3.5)","v":-3.5}]
[{"$f":"IF(ModelNo=B334,10,\"\")","v":""},"0301","Screen Height",{"$f":"IF(Screen=\"F\",Frame_Height-2.1875,CMR!$E$43-0.25)","v":-0.25}]
[{"$f":"IF(ModelNo=B335,11,\"\")","v":""},"0301","Top Sash Weight (Plus 5 lb)",{"$f":"IF(ISERROR(TOP_WGT&\" \"&\"lb\"),\"N/A\",TOP_WGT&\" \"&\"lb\")","v":"N/A"}]
[{"$f":"IF(ModelNo=B336,12,\"\")","v":""},"0301","Top Balance Size (C.F)",{"$f":"IF(ISERROR((VLOOKUP(TOP_WGT,CFB,2,FALSE))&(VLOOKUP(TOP_WGT,CFB,3,FALSE))),\"N/A\",(VLOOKUP(TOP_WGT,CFB,2,FALSE))&(VLOOKUP(TOP_WGT,CFB,3,FALSE)))","v":"N/A"}]
[{"$f":"IF(ModelNo=B337,13,\"\")","v":""},"0301","Top Balance Size (Spiral)",{"$f":"TOPTUBELENGTH&\"-\"&TOP_SPIRAL","v":{"$error":"#N/A"}}]
[{"$f":"IF(ModelNo=B338,14,\"\")","v":""},"0301","Bottom Sash Weight",{"$f":"IF(ISERROR(BTM_WGT&\" \"&\"lb\"),\"N/A\",BTM_WGT&\" \"&\"lb\")","v":"N/A"}]
[{"$f":"IF(ModelNo=B339,15,\"\")","v":""},"0301","Bottom Balance Size (C.F)",{"$f":"IF(ISERROR((VLOOKUP(BTM_WGT,CFB,2,FALSE))&(VLOOKUP(BTM_WGT,CFB,3,FALSE))),\"N/A\",(VLOOKUP(BTM_WGT,CFB,2,FALSE))&(VLOOKUP(BTM_WGT,CFB,3,FALSE)))","v":"N/A"}]
[{"$f":"IF(ModelNo=B340,16,\"\")","v":""},"0301","Bottom Balance Size (Spriral)",{"$f":"BOTTUBELENGTH&\"-\"&BOT_SPIRAL","v":{"$error":"#N/A"}}]
[{"$f":"IF(ModelNo=B341,17,\"\")","v":""},"0301","Egress Opening Width",{"$f":"IF(ISERROR(EW),\"N/A\",EW)","v":"N/A"}]
[{"$f":"IF(ModelNo=B342,18,\"\")","v":""},"0301","Egress Opening Height",{"$f":"IF(ISERROR(EH),\"N/A\",EH)","v":"N/A"}]
[{"$f":"IF(ModelNo=B343,19,\"\")","v":""},"0301","Egress Opening Area (sq.ft.)",{"$f":"IF(ISERROR(EO),\"N/A\",EO)","v":"N/A"}]
[{"$f":"IF(ModelNo=B344,1,\"\")","v":""},"0401","Top Sash Width",{"$f":"Frame_Width-3.25","v":-3.25}]
[{"$f":"IF(ModelNo=B345,2,\"\")","v":""},"0401","Top Sash Height",{"$f":"CMR!$E$58-1","v":-1}]
[{"$f":"IF(ModelNo=B346,3,\"\")","v":""},"0401","Bottom Sash Width",{"$f":"Frame_Width-2.25","v":-2.25}]
[{"$f":"IF(ModelNo=B347,4,\"\")","v":""},"0401","Bottom Sash Height",{"$f":"CMR!$E$59","v":0}]
[{"$f":"IF(ModelNo=B348,5,\"\")","v":""},"0401","Top Glass Width",{"$f":"CMR!$E$61","v":-4.9375}]
[{"$f":"IF(ModelNo=B349,6,\"\")","v":""},"0401","Top Glass Height",{"$f":"CMR!$E$63","v":-2.6875}]
[{"$f":"IF(ModelNo=B350,7,\"\")","v":""},"0401","Bottom Glass Width",{"$f":"CMR!$E$62","v":-4.9375}]
[{"$f":"IF(ModelNo=B351,8,\"\")","v":""},"0401","Bottom Glass Height",{"$f":"CMR!$E$64","v":-2.6875}]
[{"$f":"IF(ModelNo=B352,9,\"\")","v":""},"0401","Screen Width",{"$f":"IF(Screen=\"L\",Frame_Width-1.25,Frame_Width-3.25)","v":-3.25}]
[{"$f":"IF(ModelNo=B353,10,\"\")","v":""},"0401","Screen Height",{"$f":"IF(Screen=\"F\",Frame_Height-2.25,IF(Screen=\"L\",CMR!$E$59-1.5625,CMR!$E$59-0.5625))","v":-0.5625}]
[{"$f":"IF(ModelNo=B354,11,\"\")","v":""},"0401","Top Sash Weight (Plus 5 lb)",{"$f":"IF(ISERROR(TOP_WGT&\" \"&\"lb\"),\"N/A\",TOP_WGT&\" \"&\"lb\")","v":"N/A"}]
[{"$f":"IF(ModelNo=B355,12,\"\")","v":""},"0401","Top Balance Size (C.F)",{"$f":"IF(ISERROR((VLOOKUP(TOP_WGT,CFB,2,FALSE))&(VLOOKUP(TOP_WGT,CFB,3,FALSE))),\"N/A\",(VLOOKUP(TOP_WGT,CFB,2,FALSE))&(VLOOKUP(TOP_WGT,CFB,3,FALSE)))","v":"N/A"}]
[{"$f":"IF(ModelNo=B356,13,\"\")","v":""},"0401","Top Balance Size (Spiral)",{"$f":"TOPTUBELENGTH&\"-\"&TOP_SPIRAL","v":{"$error":"#N/A"}}]
[{"$f":"IF(ModelNo=B357,14,\"\")","v":""},"0401","Bottom Sash Weight",{"$f":"IF(ISERROR(BTM_WGT&\" \"&\"lb\"),\"N/A\",BTM_WGT&\" \"&\"lb\")","v":"N/A"}]
[{"$f":"IF(ModelNo=B358,15,\"\")","v":""},"0401","Bottom Balance Size (C.F)",{"$f":"IF(ISERROR((VLOOKUP(BTM_WGT,CFB,2,FALSE))&(VLOOKUP(BTM_WGT,CFB,3,FALSE))),\"N/A\",(VLOOKUP(BTM_WGT,CFB,2,FALSE))&(VLOOKUP(BTM_WGT,CFB,3,FALSE)))","v":"N/A"}]
[{"$f":"IF(ModelNo=B359,16,\"\")","v":""},"0401","Bottom Balance Size (Spriral)",{"$f":"BOTTUBELENGTH&\"-\"&BOT_SPIRAL","v":{"$error":"#N/A"}}]
[{"$f":"IF(ModelNo=B360,17,\"\")","v":""},"0401","Egress Opening Width",{"$f":"IF(ISERROR(EW),\"N/A\",EW)","v":"N/A"}]
[{"$f":"IF(ModelNo=B361,18,\"\")","v":""},"0401","Egress Opening Height",{"$f":"IF(ISERROR(EH),\"N/A\",EH)","v":"N/A"}]
[{"$f":"IF(ModelNo=B362,19,\"\")","v":""},"0401","Egress Opening Area (sq.ft.)",{"$f":"IF(ISERROR(EO),\"N/A\",EO)","v":"N/A"}]
[{"$f":"IF(ModelNo=B363,1,\"\")","v":""},"0402","Sash Width",{"$f":"(Frame_Width/2)-0.3125","v":-0.3125}]
[{"$f":"IF(ModelNo=B364,2,\"\")","v":""},"0402","Sash Height",{"$f":"Frame_Height-3.0625","v":-3.0625}]
[{"$f":"IF(ModelNo=B365,3,\"\")","v":""},"0402","Roller Track Length",{"$f":"Frame_Width-2","v":-2}]
[{"$f":"IF(ModelNo=B366,4,\"\")","v":""},"0402","Glass Width",{"$f":"(Frame_Width/2)-2.0625","v":-2.0625}]
[{"$f":"IF(ModelNo=B367,5,\"\")","v":""},"0402","Glass Height",{"$f":"Frame_Height-4.8125","v":-4.8125}]
[{"$f":"IF(ModelNo=B368,6,\"\")","v":""},"0402","Screen Width",{"$f":"IF(Screen=\"F\",Frame_Width-3.3125,IF(Screen=\"H\",(Frame_Width/2)-1.5625,\"N/A\"))","v":-1.5625}]
[{"$f":"IF(ModelNo=B369,7,\"\")","v":""},"0402","Screen Height",{"$f":"Frame_Height-3","v":-3}]
[{"$f":"IF(ModelNo=B370,8,\"\")","v":""},"0402","Egress Opening Width",{"$f":"((Frame_Width/2)-2.0625)-2.5625","v":-4.625}]
[{"$f":"IF(ModelNo=B371,9,\"\")","v":""},"0402","Egress Opening Height",{"$f":"Frame_Height-4.125","v":-4.125}]
[{"$f":"IF(ModelNo=B372,10,\"\")","v":""},"0402","Egress Opening Area (sq.ft.)",{"$f":"(D370*D371)/144","v":0.13248697916666666}]
[{"$f":"IF(ModelNo=B373,1,\"\")","v":""},"0403","Operating Sash Width",{"$f":"(Frame_Width/4)+0.6875","v":0.6875}]
[{"$f":"IF(ModelNo=B374,2,\"\")","v":""},"0403","Operating Sash Height",{"$f":"Frame_Height-3.0625","v":-3.0625}]
[{"$f":"IF(ModelNo=B375,3,\"\")","v":""},"0403","Fixed Sash Width",{"$f":"(Frame_Width-2*(Frame_Width/4))-0.5","v":-0.5}]
[{"$f":"IF(ModelNo=B376,4,\"\")","v":""},"0403","Fixed Sash Height",{"$f":"Frame_Height-3.0625","v":-3.0625}]
[{"$f":"IF(ModelNo=B377,5,\"\")","v":""},"0403","Roller Track Length",{"$f":"Frame_Width-2","v":-2}]
[{"$f":"IF(ModelNo=B378,6,\"\")","v":""},"0403","Operating Sash Glass Width",{"$f":"(INT(Frame_Width/4*16)/16)-1.0625","v":-1.0625}]
[{"$f":"IF(ModelNo=B379,7,\"\")","v":""},"0403","Operating Sash Glass Height",{"$f":"Frame_Height-4.8125","v":-4.8125}]
[{"$f":"IF(ModelNo=B380,8,\"\")","v":""},"0403","Fixed Sash Glass Width",{"$f":"(Frame_Width-2*(INT(Frame_Width/4*16)/16)-2.25)","v":-2.25}]
[{"$f":"IF(ModelNo=B381,9,\"\")","v":""},"0403","Fixed Sash Glass Height",{"$f":"Frame_Height-4.8125","v":-4.8125}]
[{"$f":"IF(ModelNo=B382,10,\"\")","v":""},"0403","Screen Width",{"$f":"IF(Screen=\"F\",Frame_Width-3.3125,IF(Screen=\"H\",(Frame_Width/4)-0.625,\"N/A\"))","v":-0.625}]
[{"$f":"IF(ModelNo=B383,11,\"\")","v":""},"0403","Screen Height",{"$f":"Frame_Height-3","v":-3}]
[{"$f":"IF(ModelNo=B384,12,\"\")","v":""},"0403","Egress Opening Width",{"$f":"((INT(Frame_Width/4*16)/16)-1.0625)-0.75","v":-1.8125}]
[{"$f":"IF(ModelNo=B385,13,\"\")","v":""},"0403","Egress Opening Height",{"$f":"Frame_Height-4.125","v":-4.125}]
[{"$f":"IF(ModelNo=B386,14,\"\")","v":""},"0403","Egress Opening Area (sq.ft.)",{"$f":"(D384*D385)/144","v":5.1920572916666664E-2}]
[{"$f":"IF(ModelNo=B387,1,\"\")","v":""},"0404","Glass Width",{"$f":"Frame_Width-2.4375","v":-2.4375}]
[{"$f":"IF(ModelNo=B388,2,\"\")","v":""},"0404","Glass Height",{"$f":"Frame_Height-2.4375","v":-2.4375}]
[{"$f":"IF(ModelNo=B389,3,\"\")","v":""},"0404","Glass Area (sq.ft.)",{"$f":"(D387*D388)/144","v":4.1259765625E-2}]
[{"$f":"IF(ModelNo=B390,1,\"\")","v":""},"0409","Operating Sash Width",{"$f":"(INT(((Frame_Width/3)-0.375)*16)/16)+0.6875","v":0.3125}]
[{"$f":"IF(ModelNo=B391,2,\"\")","v":""},"0409","Operating Sash Height",{"$f":"Frame_Height-3.0625","v":-3.0625}]
[{"$f":"IF(ModelNo=B392,3,\"\")","v":""},"0409","Fixed Sash Width",{"$f":"((INT(((Frame_Width)/3-0.375)*16)/16)+1.1875)-0.5","v":0.3125}]
[{"$f":"IF(ModelNo=B393,4,\"\")","v":""},"0409","Fixed Sash Height",{"$f":"Frame_Height-3.0625","v":-3.0625}]
[{"$f":"IF(ModelNo=B394,5,\"\")","v":""},"0409","Roller Track Length",{"$f":"Frame_Width-2","v":-2}]
[{"$f":"IF(ModelNo=B395,6,\"\")","v":""},"0409","Operating Sash Glass Width",{"$f":"(INT((Frame_Width/3-0.375)*16)/16)-1.0625","v":-1.4375}]
[{"$f":"IF(ModelNo=B396,7,\"\")","v":""},"0409","Operating Sash Glass Height",{"$f":"Frame_Height-4.8125","v":-4.8125}]
[{"$f":"IF(ModelNo=B397,8,\"\")","v":""},"0409","Fixed Sash Glass Width",{"$f":"(INT((Frame_Width/3-0.375)*16)/16)-1.0625","v":-1.4375}]
[{"$f":"IF(ModelNo=B398,9,\"\")","v":""},"0409","Fixed Sash Glass Height",{"$f":"Frame_Height-4.8125","v":-4.8125}]
[{"$f":"IF(ModelNo=B399,10,\"\")","v":""},"0409","Screen Width",{"$f":"IF(Screen=\"F\",Frame_Width-3.3125,IF(Screen=\"H\",(INT(((Frame_Width/3)-0.375)*16)/16)-0.625,\"N/A\"))","v":-1}]
[{"$f":"IF(ModelNo=B400,11,\"\")","v":""},"0409","Screen Height",{"$f":"Frame_Height-3","v":-3}]
[{"$f":"IF(ModelNo=B401,12,\"\")","v":""},"0409","Egress Opening Width",{"$f":"((INT((Frame_Width/3-0.375)*16)/16)-1.0625)-0.75","v":-2.1875}]
[{"$f":"IF(ModelNo=B402,13,\"\")","v":""},"0409","Egress Opening Height",{"$f":"Frame_Height-4.125","v":-4.125}]
[{"$f":"IF(ModelNo=B403,14,\"\")","v":""},"0409","Egress Opening Area (sq.ft.)",{"$f":"(D401*D402)/144","v":6.2662760416666671E-2}]
[{"$f":"IF(OR(ModelNo=\"0501\",ModelNo=\"B501\",ModelNo=\"U501\"),1,\"\")","v":""},"0501","Top Sash Width",{"$f":"Frame_Width-4.25","v":-4.25}]
[{"$f":"IF(OR(ModelNo=\"0501\",ModelNo=\"B501\",ModelNo=\"U501\"),2,\"\")","v":""},"0501","Top Sash Height",{"$f":"CMR!$L$42-2.25","v":-2.25}]
[{"$f":"IF(OR(ModelNo=\"0501\",ModelNo=\"B501\",ModelNo=\"U501\"),3,\"\")","v":""},"0501","Bottom Sash Width",{"$f":"Frame_Width-3.25","v":-3.25}]
[{"$f":"IF(OR(ModelNo=\"0501\",ModelNo=\"B501\",ModelNo=\"U501\"),4,\"\")","v":""},"0501","Bottom Sash Height",{"$f":"CMR!$L$43-1.25","v":-1.25}]
[{"$f":"IF(OR(ModelNo=\"0501\",ModelNo=\"B501\",ModelNo=\"U501\"),5,\"\")","v":""},"0501","Top Glass Width",{"$f":"CMR!$L$45","v":-6.0625}]
[{"$f":"IF(OR(ModelNo=\"0501\",ModelNo=\"B501\",ModelNo=\"U501\"),6,\"\")","v":""},"0501","Top Glass Height",{"$f":"CMR!$L$47","v":-4.0625}]
[{"$f":"IF(OR(ModelNo=\"0501\",ModelNo=\"B501\",ModelNo=\"U501\"),7,\"\")","v":""},"0501","Bottom Glass Width",{"$f":"CMR!$L$46","v":-6.0625}]
[{"$f":"IF(OR(ModelNo=\"0501\",ModelNo=\"B501\",ModelNo=\"U501\"),8,\"\")","v":""},"0501","Bottom Glass Height",{"$f":"CMR!$L$48","v":-4.0625}]
[{"$f":"IF(OR(ModelNo=\"0501\",ModelNo=\"B501\",ModelNo=\"U501\"),9,\"\")","v":""},"0501","Screen Width",{"$f":"IF(Screen=\"F\",Frame_Width-5,IF(Screen=\"L\",Frame_Width-2.5625,Frame_Width-4.5625))","v":-4.5625}]
[{"$f":"IF(OR(ModelNo=\"0501\",ModelNo=\"B501\",ModelNo=\"U501\"),10,\"\")","v":""},"0501","Screen Height",{"$f":"IF(Screen=\"F\",Frame_Height-4.6875,IF(Screen=\"L\",CMR!$L$43-3.0625,CMR!$L$43-1.5))","v":-1.5}]
[{"$f":"IF(OR(ModelNo=\"0501\",ModelNo=\"B501\",ModelNo=\"U501\"),11,\"\")","v":""},"0501","Top Sash Weight (Plus 5 lb)",{"$f":"IF(ISERROR(TOP_WGT&\" \"&\"lb\"),\"N/A\",TOP_WGT&\" \"&\"lb\")","v":"N/A"}]
[{"$f":"IF(OR(ModelNo=\"0501\",ModelNo=\"B501\",ModelNo=\"U501\"),12,\"\")","v":""},"0501","Top Balance Size (C.F)",{"$f":"IF(ISERROR((VLOOKUP(TOP_WGT,CFB,2,FALSE))&(VLOOKUP(TOP_WGT,CFB,3,FALSE))),\"N/A\",(VLOOKUP(TOP_WGT,CFB,2,FALSE))&(VLOOKUP(TOP_WGT,CFB,3,FALSE)))","v":"N/A"}]
[{"$f":"IF(OR(ModelNo=\"0501\",ModelNo=\"B501\",ModelNo=\"U501\"),13,\"\")","v":""},"0501","Top Balance Size (Spiral)",{"$f":"TOPTUBELENGTH&\"-\"&TOP_SPIRAL","v":{"$error":"#N/A"}}]
[{"$f":"IF(OR(ModelNo=\"0501\",ModelNo=\"B501\",ModelNo=\"U501\"),14,\"\")","v":""},"0501","Bottom Sash Weight",{"$f":"IF(ISERROR(BTM_WGT&\" \"&\"lb\"),\"N/A\",BTM_WGT&\" \"&\"lb\")","v":"N/A"}]
[{"$f":"IF(OR(ModelNo=\"0501\",ModelNo=\"B501\",ModelNo=\"U501\"),15,\"\")","v":""},"0501","Bottom Balance Size (C.F)",{"$f":"IF(ISERROR((VLOOKUP(BTM_WGT,CFB,2,FALSE))&(VLOOKUP(BTM_WGT,CFB,3,FALSE))),\"N/A\",(VLOOKUP(BTM_WGT,CFB,2,FALSE))&(VLOOKUP(BTM_WGT,CFB,3,FALSE)))","v":"N/A"}]
[{"$f":"IF(OR(ModelNo=\"0501\",ModelNo=\"B501\",ModelNo=\"U501\"),16,\"\")","v":""},"0501","Bottom Balance Size (Spriral)",{"$f":"BOTTUBELENGTH&\"-\"&BOT_SPIRAL","v":{"$error":"#N/A"}}]
[{"$f":"IF(OR(ModelNo=\"0501\",ModelNo=\"B501\",ModelNo=\"U501\"),17,\"\")","v":""},"0501","Egress Opening Width",{"$f":"IF(ISERROR(EW),\"N/A\",EW)","v":"N/A"}]
[{"$f":"IF(OR(ModelNo=\"0501\",ModelNo=\"B501\",ModelNo=\"U501\"),18,\"\")","v":""},"0501","Egress Opening Height",{"$f":"IF(ISERROR(EH),\"N/A\",EH)","v":"N/A"}]
[{"$f":"IF(OR(ModelNo=\"0501\",ModelNo=\"B501\",ModelNo=\"U501\"),19,\"\")","v":""},"0501","Egress Opening Area (sq.ft.)",{"$f":"IF(ISERROR(EO),\"N/A\",EO)","v":"N/A"}]
[{"$f":"IF(OR(ModelNo=\"0502\",ModelNo=\"U502\",ModelNo=\"0602\",ModelNo=\"U602\"),1,\"\")","v":""},"0502","Sash Width",{"$f":"(Frame_Width/2)-0.625","v":-0.625}]
[{"$f":"IF(OR(ModelNo=\"0502\",ModelNo=\"U502\",ModelNo=\"0602\",ModelNo=\"U602\"),2,\"\")","v":""},"0502","Sash Height",{"$f":"Frame_Height-4.625","v":-4.625}]
[{"$f":"IF(OR(ModelNo=\"0502\",ModelNo=\"U502\",ModelNo=\"0602\",ModelNo=\"U602\"),3,\"\")","v":""},"0502","Roller Track Length",{"$f":"Frame_Width-3.125","v":-3.125}]
[{"$f":"IF(OR(ModelNo=\"0502\",ModelNo=\"U502\",ModelNo=\"0602\",ModelNo=\"U602\"),4,\"\")","v":""},"0502","Glass Width",{"$f":"Frame_Width/2-3.5","v":-3.5}]
[{"$f":"IF(OR(ModelNo=\"0502\",ModelNo=\"U502\",ModelNo=\"0602\",ModelNo=\"U602\"),5,\"\")","v":""},"0502","Glass Height",{"$f":"Frame_Height-7.5","v":-7.5}]
[{"$f":"IF(OR(ModelNo=\"0502\",ModelNo=\"U502\",ModelNo=\"0602\",ModelNo=\"U602\"),6,\"\")","v":""},"0502","Screen Width",{"$f":"IF(Screen=\"F\",INT((Frame_Width-4.882)*16+0.5)/16,IF(Screen=\"H\",INT(((Frame_Width/2)-2.69)*16+0.5)/16,\"N/A\"))","v":-2.6875}]
[{"$f":"IF(OR(ModelNo=\"0502\",ModelNo=\"U502\",ModelNo=\"0602\",ModelNo=\"U602\"),7,\"\")","v":""},"0502","Screen Height",{"$f":"INT((Frame_Height-4.651)*16+0.5)/16","v":-4.625}]
[{"$f":"IF(OR(ModelNo=\"0502\",ModelNo=\"U502\",ModelNo=\"0602\",ModelNo=\"U602\"),8,\"\")","v":""},"0502","Egress Opening Width",{"$f":"TRUNC((Frame_Width/2-6.438)*16+0.5)/16","v":-6.375}]
[{"$f":"IF(OR(ModelNo=\"0502\",ModelNo=\"U502\",ModelNo=\"0602\",ModelNo=\"U602\"),9,\"\")","v":""},"0502","Egress Opening Height",{"$f":"TRUNC((Frame_Height-5.75)*16+0.5)/16","v":-5.6875}]
[{"$f":"IF(OR(ModelNo=\"0502\",ModelNo=\"U502\",ModelNo=\"0602\",ModelNo=\"U602\"),10,\"\")","v":""},"0502","Egress Opening Area (sq.ft.)",{"$f":"(D430*D431)/144","v":0.25179036458333331}]
[{"$f":"IF(OR(ModelNo=\"0503\",ModelNo=\"U503\",ModelNo=\"0603\",ModelNo=\"U603\"),1,\"\")","v":""},"0503","Operating Sash Width",{"$f":"(Frame_Width/4)+0.875","v":0.875}]
[{"$f":"IF(OR(ModelNo=\"0503\",ModelNo=\"U503\",ModelNo=\"0603\",ModelNo=\"U603\"),2,\"\")","v":""},"0503","Operating Sash Height",{"$f":"Frame_Height-4.625","v":-4.625}]
[{"$f":"IF(OR(ModelNo=\"0503\",ModelNo=\"U503\",ModelNo=\"0603\",ModelNo=\"U603\"),3,\"\")","v":""},"0503","Fixed Sash Width",{"$f":"(Frame_Width-(2*(Frame_Width/4)))-1.0625","v":-1.0625}]
[{"$f":"IF(OR(ModelNo=\"0503\",ModelNo=\"U503\",ModelNo=\"0603\",ModelNo=\"U603\"),4,\"\")","v":""},"0503","Fixed Sash Height",{"$f":"Frame_Height-4.625","v":-4.625}]
[{"$f":"IF(OR(ModelNo=\"0503\",ModelNo=\"U503\",ModelNo=\"0603\",ModelNo=\"U603\"),5,\"\")","v":""},"0503","Roller Track Length",{"$f":"Frame_Width-3.125","v":-3.125}]
[{"$f":"IF(OR(ModelNo=\"0503\",ModelNo=\"U503\",ModelNo=\"0603\",ModelNo=\"U603\"),6,\"\")","v":""},"0503","Operating Sash Glass Width",{"$f":"TRUNC((Frame_Width/4-2)*16+0.5)/16","v":-1.9375}]
[{"$f":"IF(OR(ModelNo=\"0503\",ModelNo=\"U503\",ModelNo=\"0603\",ModelNo=\"U603\"),7,\"\")","v":""},"0503","Operating Sash Glass Height",{"$f":"Frame_Height-7.5","v":-7.5}]
[{"$f":"IF(OR(ModelNo=\"0503\",ModelNo=\"U503\",ModelNo=\"0603\",ModelNo=\"U603\"),8,\"\")","v":""},"0503","Fixed Sash Glass Width",{"$f":"TRUNC((Frame_Width-(2*(Frame_Width/4))-3.9375)*16+0.5)/16","v":-3.875}]
[{"$f":"IF(OR(ModelNo=\"0503\",ModelNo=\"U503\",ModelNo=\"0603\",ModelNo=\"U603\"),9,\"\")","v":""},"0503","Fixed Sash Glass Height",{"$f":"Frame_Height-7.5","v":-7.5}]
[{"$f":"IF(OR(ModelNo=\"0503\",ModelNo=\"U503\",ModelNo=\"0603\",ModelNo=\"U603\"),10,\"\")","v":""},"0503","Screen Width",{"$f":"IF(Screen=\"F\",INT((Frame_Width-4.882)*16+0.5)/16,IF(Screen=\"H\",INT(((Frame_Width/4)-0.938)*16+0.5)/16,\"N/A\"))","v":-0.9375}]
[{"$f":"IF(OR(ModelNo=\"0503\",ModelNo=\"U503\",ModelNo=\"0603\",ModelNo=\"U603\"),11,\"\")","v":""},"0503","Screen Height",{"$f":"INT((Frame_Height-4.65)*16+0.5)/16","v":-4.625}]
[{"$f":"IF(OR(ModelNo=\"0503\",ModelNo=\"U503\",ModelNo=\"0603\",ModelNo=\"U603\"),12,\"\")","v":""},"0503","Egress Opening Width",{"$f":"(Frame_Width/4)-2.125","v":-2.125}]
[{"$f":"IF(OR(ModelNo=\"0503\",ModelNo=\"U503\",ModelNo=\"0603\",ModelNo=\"U603\"),13,\"\")","v":""},"0503","Egress Opening Height",{"$f":"Frame_Height-5.75","v":-5.75}]
[{"$f":"IF(OR(ModelNo=\"0503\",ModelNo=\"U503\",ModelNo=\"0603\",ModelNo=\"U603\"),14,\"\")","v":""},"0503","Egress Opening Area (sq.ft.)",{"$f":"(D444*D445)/144","v":8.4852430555555552E-2}]
[{"$f":"IF(OR(ModelNo=\"0509\",ModelNo=\"U509\",ModelNo=\"0609\",ModelNo=\"U609\"),1,\"\")","v":""},"0509","Operating Sash Width",{"$f":"(INT(((Frame_Width/3)-0.656)*16)/16)+0.875","v":0.1875}]
[{"$f":"IF(OR(ModelNo=\"0509\",ModelNo=\"U509\",ModelNo=\"0609\",ModelNo=\"U609\"),2,\"\")","v":""},"0509","Operating Sash Height",{"$f":"Frame_Height-4.625","v":-4.625}]
[{"$f":"IF(OR(ModelNo=\"0509\",ModelNo=\"U509\",ModelNo=\"0609\",ModelNo=\"U609\"),3,\"\")","v":""},"0509","Fixed Sash Width",{"$f":"(INT((((INT(((Frame_Width/3)-0.656)*16)/16))+1.938)*16+0.5)/16)-1.0625","v":0.1875}]
[{"$f":"IF(OR(ModelNo=\"0509\",ModelNo=\"U509\",ModelNo=\"0609\",ModelNo=\"U609\"),4,\"\")","v":""},"0509","Fixed Sash Height",{"$f":"Frame_Height-4.625","v":-4.625}]
[{"$f":"IF(OR(ModelNo=\"0509\",ModelNo=\"U509\",ModelNo=\"0609\",ModelNo=\"U609\"),5,\"\")","v":""},"0509","Roller Track Length",{"$f":"Frame_Width-3.125","v":-3.125}]
[{"$f":"IF(OR(ModelNo=\"0509\",ModelNo=\"U509\",ModelNo=\"0609\",ModelNo=\"U609\"),6,\"\")","v":""},"0509","Operating Sash Glass Width",{"$f":"(INT((Frame_Width/3-0.656)*16)/16)-2","v":-2.6875}]
[{"$f":"IF(OR(ModelNo=\"0509\",ModelNo=\"U509\",ModelNo=\"0609\",ModelNo=\"U609\"),7,\"\")","v":""},"0509","Operating Sash Glass Height",{"$f":"Frame_Height-7.5","v":-7.5}]
[{"$f":"IF(OR(ModelNo=\"0509\",ModelNo=\"U509\",ModelNo=\"0609\",ModelNo=\"U609\"),8,\"\")","v":""},"0509","Fixed Sash Glass Width",{"$f":"(INT((Frame_Width/3-0.656)*16)/16)-2","v":-2.6875}]
[{"$f":"IF(OR(ModelNo=\"0509\",ModelNo=\"U509\",ModelNo=\"0609\",ModelNo=\"U609\"),9,\"\")","v":""},"0509","Fixed Sash Glass Height",{"$f":"Frame_Height-7.5","v":-7.5}]
[{"$f":"IF(OR(ModelNo=\"0509\",ModelNo=\"U509\",ModelNo=\"0609\",ModelNo=\"U609\"),10,\"\")","v":""},"0509","Screen Width",{"$f":"IF(Screen=\"F\",INT((Frame_Width-4.882)*16+0.5)/16,IF(Screen=\"H\",INT(((TRUNC(((Frame_Width/3)-0.656)*16)/16)-0.938)*16+0.5)/16,\"N/A\"))","v":-1.5625}]
[{"$f":"IF(OR(ModelNo=\"0509\",ModelNo=\"U509\",ModelNo=\"0609\",ModelNo=\"U609\"),11,\"\")","v":""},"0509","Screen Height",{"$f":"INT((Frame_Height-4.65)*16+0.5)/16","v":-4.625}]
[{"$f":"IF(OR(ModelNo=\"0509\",ModelNo=\"U509\",ModelNo=\"0609\",ModelNo=\"U609\"),12,\"\")","v":""},"0509","Egress Opening Width",{"$f":"(Frame_Width/3)-4.625","v":-4.625}]
[{"$f":"IF(OR(ModelNo=\"0509\",ModelNo=\"U509\",ModelNo=\"0609\",ModelNo=\"U609\"),13,\"\")","v":""},"0509","Egress Opening Height",{"$f":"Frame_Height-5.75","v":-5.75}]
[{"$f":"IF(OR(ModelNo=\"0509\",ModelNo=\"U509\",ModelNo=\"0609\",ModelNo=\"U609\"),14,\"\")","v":""},"0509","Egress Opening Area (sq.ft.)",{"$f":"(D458*D459)/144","v":0.18467881944444445}]
[{"$f":"IF(ModelNo=\"0522\",1,\"\")","v":""},"0522","Inner Sash Width",{"$f":"(Frame_Width/2)-1.125","v":-1.125}]
[{"$f":"IF(ModelNo=\"0522\",2,\"\")","v":""},"0522","Inner Sash Height",{"$f":"Frame_Height-3.9375","v":-3.9375}]
[{"$f":"IF(ModelNo=\"0522\",3,\"\")","v":""},"0522","Outer Sash Width",{"$f":"(Frame_Width/2)-2.125","v":-2.125}]
[{"$f":"IF(ModelNo=\"0522\",4,\"\")","v":""},"0522","Outer Sash Height",{"$f":"Frame_Height-4.9375","v":-4.9375}]
[{"$f":"IF(ModelNo=\"0522\",5,\"\")","v":""},"0522","Inner Glass Width",{"$f":"Frame_Width/2-4","v":-4}]
[{"$f":"IF(ModelNo=\"0522\",6,\"\")","v":""},"0522","Inner Glass Height",{"$f":"Frame_Height-6.75","v":-6.75}]
[{"$f":"IF(ModelNo=\"0522\",7,\"\")","v":""},"0522","Outer Glass Width",{"$f":"Frame_Width/2-4","v":-4}]
[{"$f":"IF(ModelNo=\"0522\",8,\"\")","v":""},"0522","Outer Glass Height",{"$f":"Frame_Height-6.75","v":-6.75}]
[{"$f":"IF(ModelNo=\"0522\",9,\"\")","v":""},"0522","Screen Width",{"$f":"IF(Screen=\"F\",INT((Frame_Width-5.59375)*16+0.5)/16,IF(Screen=\"H\",INT(((Frame_Width/2)-2.5)*16+0.5)/16,\"N/A\"))","v":-2.5}]
[{"$f":"IF(ModelNo=\"0522\",10,\"\")","v":""},"0522","Screen Height",{"$f":"Frame_Height-5.1875","v":-5.1875}]
[{"$f":"IF(ModelNo=\"0522\",11,\"\")","v":""},"0522","Egress Opening Width",{"$f":"Frame_Width-(D461+7.875)","v":-6.75}]
[{"$f":"IF(ModelNo=\"0522\",12,\"\")","v":""},"0522","Egress Opening Height",{"$f":"Frame_Height-6.125","v":-6.125}]
[{"$f":"IF(ModelNo=\"0522\",13,\"\")","v":""},"0522","Egress Opening Area (sq.ft.)",{"$f":"(D471*D472)/144","v":0.287109375}]
[{"$f":"IF(ModelNo=\"0523\",1,\"\")","v":""},"0523","Operating Sash Width",{"$f":"TRUNC(((Frame_Width/4)+0.59375)*32+0.5)/32","v":0.59375}]
[{"$f":"IF(ModelNo=\"0523\",2,\"\")","v":""},"0523","Operating Sash Height",{"$f":"Frame_Height-3.9375","v":-3.9375}]
[{"$f":"IF(ModelNo=\"0523\",3,\"\")","v":""},"0523","Fixed Sash Width",{"$f":"(Frame_Width/2)-2.75","v":-2.75}]
[{"$f":"IF(ModelNo=\"0523\",4,\"\")","v":""},"0523","Fixed Sash Height",{"$f":"Frame_Height-4.9375","v":-4.9375}]
[{"$f":"IF(ModelNo=\"0523\",5,\"\")","v":""},"0523","Operating Sash Glass Width",{"$f":"TRUNC((Frame_Width/4-2.28125)*32+0.5)/32","v":-2.25}]
[{"$f":"IF(ModelNo=\"0523\",6,\"\")","v":""},"0523","Operating Sash Glass Height",{"$f":"Frame_Height-6.75","v":-6.75}]
[{"$f":"IF(ModelNo=\"0523\",7,\"\")","v":""},"0523","Fixed Sash Glass Width",{"$f":"(Frame_Width/4)*2-4.625","v":-4.625}]
[{"$f":"IF(ModelNo=\"0523\",8,\"\")","v":""},"0523","Fixed Sash Glass Height",{"$f":"Frame_Height-6.75","v":-6.75}]
[{"$f":"IF(ModelNo=\"0523\",9,\"\")","v":""},"0523","Screen Width",{"$f":"IF(Screen=\"F\",INT((Frame_Width-5.59375)*16+0.5)/16,IF(Screen=\"H\",INT(((Frame_Width/4)-0.71875)*16+0.5)/16,\"N/A\"))","v":-0.6875}]
[{"$f":"IF(ModelNo=\"0523\",10,\"\")","v":""},"0523","Screen Height",{"$f":"Frame_Height-5.1875","v":-5.1875}]
[{"$f":"IF(ModelNo=\"0523\",11,\"\")","v":""},"0523","Egress Opening Width",{"$f":"(Frame_Width/4)-3.25","v":-3.25}]
[{"$f":"IF(ModelNo=\"0523\",12,\"\")","v":""},"0523","Egress Opening Height",{"$f":"Frame_Height-6.125","v":-6.125}]
[{"$f":"IF(ModelNo=\"0523\",13,\"\")","v":""},"0523","Egress Opening Area (sq.ft.)",{"$f":"(D484*D485)/144","v":0.13823784722222221}]
[{"$f":"IF(ModelNo=\"0529\",1,\"\")","v":""},"0529","Operating Sash Width",{"$f":"TRUNC(((Frame_Width/3)-0.1875)*32+0.5)/32","v":-0.15625}]
[{"$f":"IF(ModelNo=\"0529\",2,\"\")","v":""},"0529","Operating Sash Height",{"$f":"Frame_Height-3.9375","v":-3.9375}]
[{"$f":"IF(ModelNo=\"0529\",3,\"\")","v":""},"0529","Fixed Sash Width",{"$f":"TRUNC(((Frame_Width/3)-1.1875)*32+0.5)/32","v":-1.15625}]
[{"$f":"IF(ModelNo=\"0529\",4,\"\")","v":""},"0529","Fixed Sash Height",{"$f":"Frame_Height-4.9375","v":-4.9375}]
[{"$f":"IF(ModelNo=\"0529\",5,\"\")","v":""},"0529","Operating Sash Glass Width",{"$f":"TRUNC(((Frame_Width/3-0.1875)-2.875)*32+0.5)/32","v":-3.03125}]
[{"$f":"IF(ModelNo=\"0529\",6,\"\")","v":""},"0529","Operating Sash Glass Height",{"$f":"Frame_Height-6.75","v":-6.75}]
[{"$f":"IF(ModelNo=\"0529\",7,\"\")","v":""},"0529","Fixed Sash Glass Width",{"$f":"TRUNC(((Frame_Width/3-0.1875)-2.875)*32+0.5)/32","v":-3.03125}]
[{"$f":"IF(ModelNo=\"0529\",8,\"\")","v":""},"0529","Fixed Sash Glass Height",{"$f":"Frame_Height-6.75","v":-6.75}]
[{"$f":"IF(ModelNo=\"0529\",9,\"\")","v":""},"0529","Screen Width",{"$f":"IF(Screen=\"F\",INT((Frame_Width-5.59375)*16+0.5)/16,IF(Screen=\"H\",INT(((Frame_Width/3)-1.4375)*16+0.5)/16,\"N/A\"))","v":-1.4375}]
[{"$f":"IF(ModelNo=\"0529\",10,\"\")","v":""},"0529","Screen Height",{"$f":"Frame_Height-5.1875","v":-5.1875}]
[{"$f":"IF(ModelNo=\"0529\",11,\"\")","v":""},"0529","Egress Opening Width",{"$f":"(Frame_Width/3)-4","v":-4}]
[{"$f":"IF(ModelNo=\"0529\",12,\"\")","v":""},"0529","Egress Opening Height",{"$f":"Frame_Height-6.125","v":-6.125}]
[{"$f":"IF(ModelNo=\"0529\",13,\"\")","v":""},"0529","Egress Opening Area (sq.ft.)",{"$f":"(D497*D498)/144","v":0.1701388888888889}]
[{"$f":"IF(OR(ModelNo=\"0601\",ModelNo=\"B601\",ModelNo=\"U601\"),1,\"\")","v":""},"0601","Top Sash Width",{"$f":"Frame_Width-4.25","v":-4.25}]
[{"$f":"IF(OR(ModelNo=\"0601\",ModelNo=\"B601\",ModelNo=\"U601\"),2,\"\")","v":""},"0601","Top Sash Height",{"$f":"CMR!$L$58-1.9375","v":-1.9375}]
[{"$f":"IF(OR(ModelNo=\"0601\",ModelNo=\"B601\",ModelNo=\"U601\"),3,\"\")","v":""},"0601","Bottom Sash Width",{"$f":"Frame_Width-3.25","v":-3.25}]
[{"$f":"IF(OR(ModelNo=\"0601\",ModelNo=\"B601\",ModelNo=\"U601\"),4,\"\")","v":""},"0601","Bottom Sash Height",{"$f":"CMR!$L$59-0.9375","v":-0.9375}]
[{"$f":"IF(OR(ModelNo=\"0601\",ModelNo=\"B601\",ModelNo=\"U601\"),5,\"\")","v":""},"0601","Top Glass Width",{"$f":"CMR!$L$61","v":-6.0625}]
[{"$f":"IF(OR(ModelNo=\"0601\",ModelNo=\"B601\",ModelNo=\"U601\"),6,\"\")","v":""},"0601","Top Glass Height",{"$f":"CMR!$L$63","v":-3.75}]
[{"$f":"IF(OR(ModelNo=\"0601\",ModelNo=\"B601\",ModelNo=\"U601\"),7,\"\")","v":""},"0601","Bottom Glass Width",{"$f":"CMR!$L$62","v":-6.0625}]
[{"$f":"IF(OR(ModelNo=\"0601\",ModelNo=\"B601\",ModelNo=\"U601\"),8,\"\")","v":""},"0601","Bottom Glass Height",{"$f":"CMR!$L$64","v":-3.75}]
[{"$f":"IF(OR(ModelNo=\"0601\",ModelNo=\"B601\",ModelNo=\"U601\"),9,\"\")","v":""},"0601","Screen Width",{"$f":"IF(Screen=\"F\",Frame_Width-5,IF(Screen=\"L\",Frame_Width-2.5625,Frame_Width-4.5625))","v":-4.5625}]
[{"$f":"IF(OR(ModelNo=\"0601\",ModelNo=\"B601\",ModelNo=\"U601\"),10,\"\")","v":""},"0601","Screen Height",{"$f":"IF(Screen=\"F\",Frame_Height-4.6875,IF(Screen=\"L\",CMR!$L$59-3.0625,CMR!$L$59-2.25))","v":-2.25}]
[{"$f":"IF(OR(ModelNo=\"0601\",ModelNo=\"B601\",ModelNo=\"U601\"),11,\"\")","v":""},"0601","Top Sash Weight (Plus 5 lb)",{"$f":"IF(ISERROR(TOP_WGT&\" \"&\"lb\"),\"N/A\",TOP_WGT&\" \"&\"lb\")","v":"N/A"}]
[{"$f":"IF(OR(ModelNo=\"0601\",ModelNo=\"B601\",ModelNo=\"U601\"),12,\"\")","v":""},"0601","Top Balance Size (C.F)",{"$f":"IF(ISERROR((VLOOKUP(TOP_WGT,CFB,2,FALSE))&(VLOOKUP(TOP_WGT,CFB,3,FALSE))),\"N/A\",(VLOOKUP(TOP_WGT,CFB,2,FALSE))&(VLOOKUP(TOP_WGT,CFB,3,FALSE)))","v":"N/A"}]
[{"$f":"IF(OR(ModelNo=\"0601\",ModelNo=\"B601\",ModelNo=\"U601\"),13,\"\")","v":""},"0601","Top Balance Size (Spiral)",{"$f":"TOPTUBELENGTH&\"-\"&TOP_SPIRAL","v":{"$error":"#N/A"}}]
[{"$f":"IF(OR(ModelNo=\"0601\",ModelNo=\"B601\",ModelNo=\"U601\"),14,\"\")","v":""},"0601","Bottom Sash Weight",{"$f":"IF(ISERROR(BTM_WGT&\" \"&\"lb\"),\"N/A\",BTM_WGT&\" \"&\"lb\")","v":"N/A"}]
[{"$f":"IF(OR(ModelNo=\"0601\",ModelNo=\"B601\",ModelNo=\"U601\"),15,\"\")","v":""},"0601","Bottom Balance Size (C.F)",{"$f":"IF(ISERROR((VLOOKUP(BTM_WGT,CFB,2,FALSE))&(VLOOKUP(BTM_WGT,CFB,3,FALSE))),\"N/A\",(VLOOKUP(BTM_WGT,CFB,2,FALSE))&(VLOOKUP(BTM_WGT,CFB,3,FALSE)))","v":"N/A"}]
[{"$f":"IF(OR(ModelNo=\"0601\",ModelNo=\"B601\",ModelNo=\"U601\"),16,\"\")","v":""},"0601","Bottom Balance Size (Spriral)",{"$f":"BOTTUBELENGTH&\"-\"&BOT_SPIRAL","v":{"$error":"#N/A"}}]
[{"$f":"IF(OR(ModelNo=\"0601\",ModelNo=\"B601\",ModelNo=\"U601\"),17,\"\")","v":""},"0601","Egress Opening Width",{"$f":"IF(ISERROR(EW),\"N/A\",EW)","v":"N/A"}]
[{"$f":"IF(OR(ModelNo=\"0601\",ModelNo=\"B601\",ModelNo=\"U601\"),18,\"\")","v":""},"0601","Egress Opening Height",{"$f":"IF(ISERROR(EH),\"N/A\",EH)","v":"N/A"}]
[{"$f":"IF(OR(ModelNo=\"0601\",ModelNo=\"B601\",ModelNo=\"U601\"),19,\"\")","v":""},"0601","Egress Opening Area (sq.ft.)",{"$f":"IF(ISERROR(EO),\"N/A\",EO)","v":"N/A"}]
[{"$f":"IF(ModelNo=B519,1,\"\")","v":""},"0605","Glass Width",{"$f":"Frame_Width-2.875","v":-2.875}]
[{"$f":"IF(ModelNo=B520,2,\"\")","v":""},"0605","Glass Height",{"$f":"Frame_Height-2.875","v":-2.875}]
[{"$f":"IF(ModelNo=B521,3,\"\")","v":""},"0605","Glass Area (sq.ft.)",{"$f":"(D519*D520)/144","v":5.7400173611111112E-2}]
[{"$f":"IF(ModelNo=B522,1,\"\")","v":""},"0700","Bottom Sash Width",{"$f":"Frame_Width-2.3125","v":-2.3125}]
[{"$f":"IF(ModelNo=B523,2,\"\")","v":""},"0700","Bottom Sash Height",{"$f":"CMR!$E$11+0.125","v":0.125}]
[{"$f":"IF(ModelNo=B524,3,\"\")","v":""},"0700","Bottom Glass Width",{"$f":"CMR!$E$14","v":-3.9375}]
[{"$f":"IF(ModelNo=B525,4,\"\")","v":""},"0700","Bottom Glass Height",{"$f":"CMR!$E$16","v":-1.5}]
[{"$f":"IF(ModelNo=B526,5,\"\")","v":""},"0700","Top Glass Width",{"$f":"CMR!$E$13","v":-1.9375}]
[{"$f":"IF(ModelNo=B527,6,\"\")","v":""},"0700","Top Glass Height",{"$f":"CMR!$E$15","v":-1.875}]
[{"$f":"IF(ModelNo=B528,7,\"\")","v":""},"0700","Astragal Length",{"$f":"TRUNC((Frame_Width-1.218)*32+0.5)/32","v":-1.1875}]
[{"$f":"IF(ModelNo=B529,8,\"\")","v":""},"0700","Screen Width",{"$f":"TRUNC((Frame_Width-1.75)*32+0.5)/32","v":-1.71875}]
[{"$f":"IF(ModelNo=B530,9,\"\")","v":""},"0700","Screen Height",{"$f":"TRUNC((CMR!$E$11-1.1875)*32+0.5)/32","v":-1.15625}]
[{"$f":"IF(ModelNo=B531,10,\"\")","v":""},"0700","Bottom Sash Weight",{"$f":"IF(ISERROR(BTM_WGT&\" \"&\"lb\"),\"N/A\",BTM_WGT&\" \"&\"lb\")","v":"N/A"}]
[{"$f":"IF(ModelNo=B532,11,\"\")","v":""},"0700","Balance Size (C.F)",{"$f":"IF(ISERROR((VLOOKUP(BTM_WGT,CFB,2,FALSE))&(VLOOKUP(BTM_WGT,CFB,3,FALSE))),\"N/A\",(VLOOKUP(BTM_WGT,CFB,2,FALSE))&(VLOOKUP(BTM_WGT,CFB,3,FALSE)))","v":"N/A"}]
[{"$f":"IF(ModelNo=B533,12,\"\")","v":""},"0700","Balance Size (Spiral)",{"$f":"BOTTUBELENGTH&\"-\"&BOT_SPIRAL","v":{"$error":"#N/A"}}]
[{"$f":"IF(ModelNo=B534,13,\"\")","v":""},"0700","Egress Opening Width",{"$f":"IF(ISERROR(EW),\"N/A\",EW)","v":"N/A"}]
[{"$f":"IF(ModelNo=B535,14,\"\")","v":""},"0700","Egress Opening Height",{"$f":"IF(ISERROR(EH),\"N/A\",EH)","v":"N/A"}]
[{"$f":"IF(ModelNo=B536,15,\"\")","v":""},"0700","Egress Opening Area (sq.ft.)",{"$f":"IF(ISERROR(EO),\"N/A\",EO)","v":"N/A"}]
[{"$f":"IF(ModelNo=B537,1,\"\")","v":""},"07HP","Bottom Sash Width",{"$f":"Frame_Width-2.3125","v":-2.3125}]
[{"$f":"IF(ModelNo=B538,2,\"\")","v":""},"07HP","Bottom Sash Height",{"$f":"CMR!$E$11+0.125","v":0.125}]
[{"$f":"IF(ModelNo=B539,3,\"\")","v":""},"07HP","Bottom Glass Width",{"$f":"CMR!$E$14","v":-3.9375}]
[{"$f":"IF(ModelNo=B540,4,\"\")","v":""},"07HP","Bottom Glass Height",{"$f":"CMR!$E$16","v":-1.5}]
[{"$f":"IF(ModelNo=B541,5,\"\")","v":""},"07HP","Top Glass Width",{"$f":"CMR!$E$13","v":-1.9375}]
[{"$f":"IF(ModelNo=B542,6,\"\")","v":""},"07HP","Top Glass Height",{"$f":"CMR!$E$15","v":-1.875}]
[{"$f":"IF(ModelNo=B543,7,\"\")","v":""},"07HP","Astragal Length",{"$f":"TRUNC((Frame_Width-1.218)*32+0.5)/32","v":-1.1875}]
[{"$f":"IF(ModelNo=B544,8,\"\")","v":""},"07HP","Screen Width",{"$f":"TRUNC((Frame_Width-1.75)*32+0.5)/32","v":-1.71875}]
[{"$f":"IF(ModelNo=B545,9,\"\")","v":""},"07HP","Screen Height",{"$f":"TRUNC((CMR!$E$11-1.1875)*32+0.5)/32","v":-1.15625}]
[{"$f":"IF(ModelNo=B546,10,\"\")","v":""},"07HP","Bottom Sash Weight",{"$f":"IF(ISERROR(BTM_WGT&\" \"&\"lb\"),\"N/A\",BTM_WGT&\" \"&\"lb\")","v":"N/A"}]
[{"$f":"IF(ModelNo=B547,11,\"\")","v":""},"07HP","Balance Size (C.F)",{"$f":"IF(ISERROR((VLOOKUP(BTM_WGT,CFB,2,FALSE))&(VLOOKUP(BTM_WGT,CFB,3,FALSE))),\"N/A\",(VLOOKUP(BTM_WGT,CFB,2,FALSE))&(VLOOKUP(BTM_WGT,CFB,3,FALSE)))","v":"N/A"}]
[{"$f":"IF(ModelNo=B548,12,\"\")","v":""},"07HP","Balance Size (Spiral)",{"$f":"BOTTUBELENGTH&\"-\"&BOT_SPIRAL","v":{"$error":"#N/A"}}]
[{"$f":"IF(ModelNo=B549,13,\"\")","v":""},"07HP","Egress Opening Width",{"$f":"IF(ISERROR(EW),\"N/A\",EW)","v":"N/A"}]
[{"$f":"IF(ModelNo=B550,14,\"\")","v":""},"07HP","Egress Opening Height",{"$f":"IF(ISERROR(EH),\"N/A\",EH)","v":"N/A"}]
[{"$f":"IF(ModelNo=B551,15,\"\")","v":""},"07HP","Egress Opening Area (sq.ft.)",{"$f":"IF(ISERROR(EO),\"N/A\",EO)","v":"N/A"}]
[{"$f":"IF(ModelNo=B552,1,\"\")","v":""},"0702","Sash Width",{"$f":"(Frame_Width/2)+0.25","v":0.25}]
[{"$f":"IF(ModelNo=B553,2,\"\")","v":""},"0702","Sash Height",{"$f":"Frame_Height-2.25","v":-2.25}]
[{"$f":"IF(ModelNo=B554,3,\"\")","v":""},"0702","Sash Glass Width",{"$f":"(Frame_Width/2)-1.4375","v":-1.4375}]
[{"$f":"IF(ModelNo=B555,4,\"\")","v":""},"0702","Sash Glass Height",{"$f":"Frame_Height-3.9375","v":-3.9375}]
[{"$f":"IF(ModelNo=B556,5,\"\")","v":""},"0702","Fixed Glass Width",{"$f":"(Frame_Width/2)-1.9375","v":-1.9375}]
[{"$f":"IF(ModelNo=B557,6,\"\")","v":""},"0702","Fixed Glass Height",{"$f":"Frame_Height-2","v":-2}]
[{"$f":"IF(ModelNo=B558,7,\"\")","v":""},"0702","Astragal Length",{"$f":"TRUNC((Frame_Height-1.218)*16+0.5)/16","v":-1.125}]
[{"$f":"IF(ModelNo=B559,8,\"\")","v":""},"0702","Roller Track Length",{"$f":"Frame_Width-1","v":-1}]
[{"$f":"IF(ModelNo=B560,9,\"\")","v":""},"0702","Screen Width",{"$f":"(Frame_Width/2)-1.1875","v":-1.1875}]
[{"$f":"IF(ModelNo=B561,10,\"\")","v":""},"0702","Screen Height",{"$f":"Frame_Height-1.75","v":-1.75}]
[{"$f":"IF(ModelNo=B562,11,\"\")","v":""},"0702","Egress Opening Width",{"$f":"TRUNC(((Frame_Width/2)-3.25)*16+0.5)/16","v":-3.1875}]
[{"$f":"IF(ModelNo=B563,12,\"\")","v":""},"0702","Egress Opening Height",{"$f":"TRUNC((Frame_Height-3.074)*16+0.5)/16","v":-3}]
[{"$f":"IF(ModelNo=B564,13,\"\")","v":""},"0702","Egress Opening Area (sq.ft.)",{"$f":"(D562*D563)/144","v":6.640625E-2}]
[{"$f":"IF(ModelNo=B565,1,\"\")","v":""},"0703","Sash Width",{"$f":"Frame_Width/4","v":0}]
[{"$f":"IF(ModelNo=B566,2,\"\")","v":""},"0703","Sash Height",{"$f":"Frame_Height-2.25","v":-2.25}]
[{"$f":"IF(ModelNo=B567,3,\"\")","v":""},"0703","Sash Glass Width",{"$f":"(TRUNC((Frame_Width/4-0.25)*16+0.5)/16)-1.4375","v":-1.625}]
[{"$f":"IF(ModelNo=B568,4,\"\")","v":""},"0703","Sash Glass Height",{"$f":"Frame_Height-3.9375","v":-3.9375}]
[{"$f":"IF(ModelNo=B569,5,\"\")","v":""},"0703","Fixed Glass Width",{"$f":"(Frame_Width-2*(TRUNC((Frame_Width/4-0.25)*16+0.5)/16))-1.9375","v":-1.5625}]
[{"$f":"IF(ModelNo=B570,6,\"\")","v":""},"0703","Fixed Glass Height",{"$f":"Frame_Height-2","v":-2}]
[{"$f":"IF(ModelNo=B571,7,\"\")","v":""},"0703","Astragal Length",{"$f":"TRUNC((Frame_Height-1.218)*16+0.5)/16","v":-1.125}]
[{"$f":"IF(ModelNo=B572,8,\"\")","v":""},"0703","Roller Track Length",{"$f":"Frame_Width-1","v":-1}]
[{"$f":"IF(ModelNo=B573,9,\"\")","v":""},"0703","Screen Width",{"$f":"(Frame_Width/4)-1.3125","v":-1.3125}]
[{"$f":"IF(ModelNo=B574,10,\"\")","v":""},"0703","Screen Height",{"$f":"Frame_Height-1.75","v":-1.75}]
[{"$f":"IF(ModelNo=B575,11,\"\")","v":""},"0703","Egress Opening Width",{"$f":"(Frame_Width/4)-2.3125","v":-2.3125}]
[{"$f":"IF(ModelNo=B576,12,\"\")","v":""},"0703","Egress Opening Height",{"$f":"TRUNC((Frame_Height-3.074)*16+0.5)/16","v":-3}]
[{"$f":"IF(ModelNo=B577,13,\"\")","v":""},"0703","Egress Opening Area (sq.ft.)",{"$f":"(D575*D576)/144","v":4.8177083333333336E-2}]
[{"$f":"IF(ModelNo=B578,1,\"\")","v":""},"0704","Glass Width",{"$f":"Frame_Width-1.9375","v":-1.9375}]
[{"$f":"IF(ModelNo=B579,2,\"\")","v":""},"0704","Glass Height",{"$f":"Frame_Height-1.9375","v":-1.9375}]
[{"$f":"IF(ModelNo=B580,3,\"\")","v":""},"0704","Glass Area (sq.ft.)",{"$f":"(D578*D579)/144","v":2.6068793402777776E-2}]
[{"$f":"IF(ModelNo=B581,1,\"\")","v":""},"0709","Sash Width",{"$f":"TRUNC(((Frame_Width/3)+0.4375)*16+0.5)/16","v":0.4375}]
[{"$f":"IF(ModelNo=B582,2,\"\")","v":""},"0709","Sash Height",{"$f":"Frame_Height-2.25","v":-2.25}]
[{"$f":"IF(ModelNo=B583,3,\"\")","v":""},"0709","Sash Glass Width",{"$f":"(TRUNC((Frame_Width/3+0.1875)*16+0.5)/16)-1.4375","v":-1.25}]
[{"$f":"IF(ModelNo=B584,4,\"\")","v":""},"0709","Sash Glass Height",{"$f":"Frame_Height-3.9375","v":-3.9375}]
[{"$f":"IF(ModelNo=B585,5,\"\")","v":""},"0709","Fixed Glass Width",{"$f":"(Frame_Width-2*(TRUNC((Frame_Width/3+0.1875)*16+0.5)/16))-1.9375","v":-2.3125}]
[{"$f":"IF(ModelNo=B586,6,\"\")","v":""},"0709","Fixed Glass Height",{"$f":"Frame_Height-2","v":-2}]
[{"$f":"IF(ModelNo=B587,7,\"\")","v":""},"0709","Astragal Length",{"$f":"TRUNC((Frame_Height-1.218)*16+0.5)/16","v":-1.125}]
[{"$f":"IF(ModelNo=B588,8,\"\")","v":""},"0709","Roller Track Length",{"$f":"Frame_Width-1","v":-1}]
[{"$f":"IF(ModelNo=B589,9,\"\")","v":""},"0709","Screen Width",{"$f":"TRUNC(((Frame_Width/3)-0.875)*16+0.5)/16","v":-0.8125}]
[{"$f":"IF(ModelNo=B590,10,\"\")","v":""},"0709","Screen Height",{"$f":"Frame_Height-1.75","v":-1.75}]
[{"$f":"IF(ModelNo=B591,11,\"\")","v":""},"0709","Egress Opening Width",{"$f":"TRUNC(((Frame_Width/3)-4.3125)*16+0.5)/16","v":-4.25}]
[{"$f":"IF(ModelNo=B592,12,\"\")","v":""},"0709","Egress Opening Height",{"$f":"TRUNC((Frame_Height-3.074)*16+0.5)/16","v":-3}]
[{"$f":"IF(ModelNo=B593,13,\"\")","v":""},"0709","Egress Opening Area (sq.ft.)",{"$f":"(D591*D592)/144","v":8.8541666666666671E-2}]
[{"$f":"IF(OR(ModelNo=\"0901\",ModelNo=\"09A1\",ModelNo=\"09B1\",ModelNo=\"09L1\"),1,\"\")","v":""},"0901","Top Sash Width",{"$f":"Frame_Width-3.4375","v":-3.4375}]
[{"$f":"IF(OR(ModelNo=\"0901\",ModelNo=\"09A1\",ModelNo=\"09B1\",ModelNo=\"09L1\"),2,\"\")","v":""},"0901","Top Sash Height",{"$f":"CMR!$E$74-0.8125","v":-0.8125}]
[{"$f":"IF(OR(ModelNo=\"0901\",ModelNo=\"09A1\",ModelNo=\"09B1\",ModelNo=\"09L1\"),3,\"\")","v":""},"0901","Bottom Sash Width",{"$f":"Frame_Width-3","v":-3}]
[{"$f":"IF(OR(ModelNo=\"0901\",ModelNo=\"09A1\",ModelNo=\"09B1\",ModelNo=\"09L1\"),4,\"\")","v":""},"0901","Bottom Sash Height",{"$f":"CMR!$E$75-0.8125","v":-0.8125}]
[{"$f":"IF(OR(ModelNo=\"0901\",ModelNo=\"09A1\",ModelNo=\"09B1\",ModelNo=\"09L1\"),5,\"\")","v":""},"0901","Top Glass Width",{"$f":"CMR!$E$77","v":-4.8125}]
[{"$f":"IF(OR(ModelNo=\"0901\",ModelNo=\"09A1\",ModelNo=\"09B1\",ModelNo=\"09L1\"),6,\"\")","v":""},"0901","Top Glass Height",{"$f":"CMR!$E$79","v":-3}]
[{"$f":"IF(OR(ModelNo=\"0901\",ModelNo=\"09A1\",ModelNo=\"09B1\",ModelNo=\"09L1\"),7,\"\")","v":""},"0901","Bottom Glass Width",{"$f":"CMR!$E$78","v":-4.8125}]
[{"$f":"IF(OR(ModelNo=\"0901\",ModelNo=\"09A1\",ModelNo=\"09B1\",ModelNo=\"09L1\"),8,\"\")","v":""},"0901","Bottom Glass Height",{"$f":"CMR!$E$80","v":-3}]
[{"$f":"IF(OR(ModelNo=\"0901\",ModelNo=\"09A1\",ModelNo=\"09B1\",ModelNo=\"09L1\"),9,\"\")","v":""},"0901","Screen Width",{"$f":"IF(Screen=\"L\",Frame_Width-1.5625,Frame_Width-3.5625)","v":-3.5625}]
[{"$f":"IF(OR(ModelNo=\"0901\",ModelNo=\"09A1\",ModelNo=\"09B1\",ModelNo=\"09L1\"),10,\"\")","v":""},"0901","Screen Height",{"$f":"IF(Screen=\"F\",Frame_Height-2,IF(Screen=\"L\",CMR!$E$75-1.75,CMR!$E$75-0.75))","v":-0.75}]
[{"$f":"IF(OR(ModelNo=\"0901\",ModelNo=\"09A1\",ModelNo=\"09B1\",ModelNo=\"09L1\"),11,\"\")","v":""},"0901","Top Sash Weight (Plus 5 lb)",{"$f":"IF(ISERROR(TOP_WGT&\" \"&\"lb\"),\"N/A\",TOP_WGT&\" \"&\"lb\")","v":"N/A"}]
[{"$f":"IF(OR(ModelNo=\"0901\",ModelNo=\"09A1\",ModelNo=\"09B1\",ModelNo=\"09L1\"),12,\"\")","v":""},"0901","Top Balance Size (C.F)",{"$f":"IF(ISERROR((VLOOKUP(TOP_WGT,CFB,2,FALSE))&(VLOOKUP(TOP_WGT,CFB,3,FALSE))),\"N/A\",(VLOOKUP(TOP_WGT,CFB,2,FALSE))&(VLOOKUP(TOP_WGT,CFB,3,FALSE)))","v":"N/A"}]
[{"$f":"IF(OR(ModelNo=\"0901\",ModelNo=\"09A1\",ModelNo=\"09B1\",ModelNo=\"09L1\"),13,\"\")","v":""},"0901","Top Balance Size (Spiral)",{"$f":"IF(ModelNo=\"09L1\",\"N/A\",TOPTUBELENGTH&\"-\"&TOP_SPIRAL)","v":{"$error":"#N/A"}}]
[{"$f":"IF(OR(ModelNo=\"0901\",ModelNo=\"09A1\",ModelNo=\"09B1\",ModelNo=\"09L1\"),14,\"\")","v":""},"0901","Bottom Sash Weight",{"$f":"IF(ISERROR(BTM_WGT&\" \"&\"lb\"),\"N/A\",BTM_WGT&\" \"&\"lb\")","v":"N/A"}]
[{"$f":"IF(OR(ModelNo=\"0901\",ModelNo=\"09A1\",ModelNo=\"09B1\",ModelNo=\"09L1\"),15,\"\")","v":""},"0901","Bottom Balance Size (C.F)",{"$f":"IF(ISERROR((VLOOKUP(BTM_WGT,CFB,2,FALSE))&(VLOOKUP(BTM_WGT,CFB,3,FALSE))),\"N/A\",(VLOOKUP(BTM_WGT,CFB,2,FALSE))&(VLOOKUP(BTM_WGT,CFB,3,FALSE)))","v":"N/A"}]
[{"$f":"IF(OR(ModelNo=\"0901\",ModelNo=\"09A1\",ModelNo=\"09B1\",ModelNo=\"09L1\"),16,\"\")","v":""},"0901","Bottom Balance Size (Spriral)",{"$f":"IF(ModelNo=\"09L1\",\"N/A\",BOTTUBELENGTH&\"-\"&BOT_SPIRAL)","v":{"$error":"#N/A"}}]
[{"$f":"IF(OR(ModelNo=\"0901\",ModelNo=\"09A1\",ModelNo=\"09B1\",ModelNo=\"09L1\"),17,\"\")","v":""},"0901","Egress Opening Width",{"$f":"IF(ISERROR(EW),\"N/A\",EW)","v":"N/A"}]
[{"$f":"IF(OR(ModelNo=\"0901\",ModelNo=\"09A1\",ModelNo=\"09B1\",ModelNo=\"09L1\"),18,\"\")","v":""},"0901","Egress Opening Height",{"$f":"IF(ISERROR(EH),\"N/A\",EH)","v":"N/A"}]
[{"$f":"IF(OR(ModelNo=\"0901\",ModelNo=\"09A1\",ModelNo=\"09B1\",ModelNo=\"09L1\"),19,\"\")","v":""},"0901","Egress Opening Area (sq.ft.)",{"$f":"IF(ISERROR(EO),\"N/A\",EO)","v":"N/A"}]
[{"$f":"IF(OR(ModelNo=\"0902\",ModelNo=\"09A2\",ModelNo=\"09B2\",ModelNo=\"09L2\"),1,\"\")","v":""},"0902","Sash Width",{"$f":"(Frame_Width/2)-0.375","v":-0.375}]
[{"$f":"IF(OR(ModelNo=\"0902\",ModelNo=\"09A2\",ModelNo=\"09B2\",ModelNo=\"09L2\"),2,\"\")","v":""},"0902","Sash Height",{"$f":"Frame_Height-3.4375","v":-3.4375}]
[{"$f":"IF(OR(ModelNo=\"0902\",ModelNo=\"09A2\",ModelNo=\"09B2\",ModelNo=\"09L2\"),3,\"\")","v":""},"0902","Roller Track Length",{"$f":"Frame_Width-2.25","v":-2.25}]
[{"$f":"IF(OR(ModelNo=\"0902\",ModelNo=\"09A2\",ModelNo=\"09B2\",ModelNo=\"09L2\"),4,\"\")","v":""},"0902","Glass Width",{"$f":"INT((Frame_Width/2-2.75)*16+0.5)/16","v":-2.75}]
[{"$f":"IF(OR(ModelNo=\"0902\",ModelNo=\"09A2\",ModelNo=\"09B2\",ModelNo=\"09L2\"),5,\"\")","v":""},"0902","Glass Height",{"$f":"TRUNC((Frame_Height-5.5625)*16+0.5)/16","v":-5.5}]
[{"$f":"IF(OR(ModelNo=\"0902\",ModelNo=\"09A2\",ModelNo=\"09B2\",ModelNo=\"09L2\"),6,\"\")","v":""},"0902","Screen Width",{"$f":"IF(Screen=\"F\",Frame_Width-2.75,IF(Screen=\"H\",(Frame_Width/2)-1.6875,\"N/A\"))","v":-1.6875}]
[{"$f":"IF(OR(ModelNo=\"0902\",ModelNo=\"09A2\",ModelNo=\"09B2\",ModelNo=\"09L2\"),7,\"\")","v":""},"0902","Screen Height",{"$f":"Frame_Height-3.75","v":-3.75}]
[{"$f":"IF(OR(ModelNo=\"0902\",ModelNo=\"09A2\",ModelNo=\"09B2\",ModelNo=\"09L2\"),8,\"\")","v":""},"0902","Egress Opening Width",{"$f":"(Frame_Width/2)-4.25","v":-4.25}]
[{"$f":"IF(OR(ModelNo=\"0902\",ModelNo=\"09A2\",ModelNo=\"09B2\",ModelNo=\"09L2\"),9,\"\")","v":""},"0902","Egress Opening Height",{"$f":"Frame_Height-4.1875","v":-4.1875}]
[{"$f":"IF(OR(ModelNo=\"0902\",ModelNo=\"09A2\",ModelNo=\"09B2\",ModelNo=\"09L2\"),10,\"\")","v":""},"0902","Egress Opening Area (sq.ft.)",{"$f":"(D620*D621)/144","v":0.12358940972222222}]
[{"$f":"IF(OR(ModelNo=\"0903\",ModelNo=\"09A3\",ModelNo=\"09B3\",ModelNo=\"09L3\"),1,\"\")","v":""},"0903","Operating Sash Width",{"$f":"(IF(4*Frame_Width-TRUNC(4*Frame_Width)=0,INT(((Frame_Width-7.75)/4)*16+0.5)/16,INT(((Frame_Width-7.875)/4)*16+0.5)/16))+2.375","v":0.4375}]
[{"$f":"IF(OR(ModelNo=\"0903\",ModelNo=\"09A3\",ModelNo=\"09B3\",ModelNo=\"09L3\"),2,\"\")","v":""},"0903","Operating Sash Height",{"$f":"Frame_Height-3.4375","v":-3.4375}]
[{"$f":"IF(OR(ModelNo=\"0903\",ModelNo=\"09A3\",ModelNo=\"09B3\",ModelNo=\"09L3\"),3,\"\")","v":""},"0903","Fixed Sash Width",{"$f":"(Frame_Width/2)+0.125","v":0.125}]
[{"$f":"IF(OR(ModelNo=\"0903\",ModelNo=\"09A3\",ModelNo=\"09B3\",ModelNo=\"09L3\"),4,\"\")","v":""},"0903","Fixed Sash Height",{"$f":"Frame_Height-3.4375","v":-3.4375}]
[{"$f":"IF(OR(ModelNo=\"0903\",ModelNo=\"09A3\",ModelNo=\"09B3\",ModelNo=\"09L3\"),5,\"\")","v":""},"0903","Roller Track Length",{"$f":"Frame_Width-2.25","v":-2.25}]
[{"$f":"IF(OR(ModelNo=\"0903\",ModelNo=\"09A3\",ModelNo=\"09B3\",ModelNo=\"09L3\"),6,\"\")","v":""},"0903","Operating Sash Glass Width",{"$f":"IF(4*Frame_Width-TRUNC(4*Frame_Width)=0,INT(((Frame_Width-7.75)/4)*16+0.5)/16,INT(((Frame_Width-7.875)/4)*16+0.5)/16)","v":-1.9375}]
[{"$f":"IF(OR(ModelNo=\"0903\",ModelNo=\"09A3\",ModelNo=\"09B3\",ModelNo=\"09L3\"),7,\"\")","v":""},"0903","Operating Sash Glass Height",{"$f":"TRUNC((Frame_Height-5.5625)*16+0.5)/16","v":-5.5}]
[{"$f":"IF(OR(ModelNo=\"0903\",ModelNo=\"09A3\",ModelNo=\"09B3\",ModelNo=\"09L3\"),8,\"\")","v":""},"0903","Fixed Sash Glass Width",{"$f":"TRUNC(((Frame_Width/2-2.25))*16+0.5)/16","v":-2.1875}]
[{"$f":"IF(OR(ModelNo=\"0903\",ModelNo=\"09A3\",ModelNo=\"09B3\",ModelNo=\"09L3\"),9,\"\")","v":""},"0903","Fixed Sash Glass Height",{"$f":"TRUNC((Frame_Height-5.5625)*16+0.5)/16","v":-5.5}]
[{"$f":"IF(OR(ModelNo=\"0903\",ModelNo=\"09A3\",ModelNo=\"09B3\",ModelNo=\"09L3\"),10,\"\")","v":""},"0903","Screen Width",{"$f":"IF(Screen=\"F\",Frame_Width-2,IF(Screen=\"H\",(Frame_Width/4)-0.875,\"N/A\"))","v":-0.875}]
[{"$f":"IF(OR(ModelNo=\"0903\",ModelNo=\"09A3\",ModelNo=\"09B3\",ModelNo=\"09L3\"),11,\"\")","v":""},"0903","Screen Height",{"$f":"Frame_Height-3.75","v":-3.75}]
[{"$f":"IF(OR(ModelNo=\"0903\",ModelNo=\"09A3\",ModelNo=\"09B3\",ModelNo=\"09L3\"),12,\"\")","v":""},"0903","Egress Opening Width",{"$f":"TRUNC(((Frame_Width/4)-3.5)*16)/16","v":-3.5}]
[{"$f":"IF(OR(ModelNo=\"0903\",ModelNo=\"09A3\",ModelNo=\"09B3\",ModelNo=\"09L3\"),13,\"\")","v":""},"0903","Egress Opening Height",{"$f":"Frame_Height-4.25","v":-4.25}]
[{"$f":"IF(OR(ModelNo=\"0903\",ModelNo=\"09A3\",ModelNo=\"09B3\",ModelNo=\"09L3\"),14,\"\")","v":""},"0903","Egress Opening Area (sq.ft.)",{"$f":"(D634*D635)/144","v":0.1032986111111111}]
[{"$f":"IF(ModelNo=B637,1,\"\")","v":""},"09C7","Sash Width",{"$f":"Frame_Width-2.875","v":-2.875}]
[{"$f":"IF(ModelNo=B638,2,\"\")","v":""},"09C7","Sash Height",{"$f":"Frame_Height-2.8125","v":-2.8125}]
[{"$f":"IF(ModelNo=B639,3,\"\")","v":""},"09C7","Glass Width",{"$f":"TRUNC((Frame_Width-4.75)*16+0.5)/16","v":-4.6875}]
[{"$f":"IF(ModelNo=B640,4,\"\")","v":""},"09C7","Glass Height",{"$f":"TRUNC((Frame_Height-4.6875)*16+0.5)/16","v":-4.625}]
[{"$f":"IF(ModelNo=B641,5,\"\")","v":""},"09C7","Glass Area (sq.ft.)",{"$f":"(D639*D640)/144","v":0.15055338541666666}]
[{"$f":"IF(ModelNo=B642,6,\"\")","v":""},"09C7","Screen Width",{"$f":"Frame_Width-4","v":-4}]
[{"$f":"IF(ModelNo=B643,7,\"\")","v":""},"09C7","Screen Height",{"$f":"Frame_Height-3.9375","v":-3.9375}]
[{"$f":"IF(ModelNo=B644,8,\"\")","v":""},"09C7","Hopper Does not Meet Egress"]
[{"$f":"IF(OR(ModelNo=\"0909\",ModelNo=\"09A9\",ModelNo=\"09B9\",ModelNo=\"09L9\"),1,\"\")","v":""},"0909","Operating Sash Width",{"$f":"(IF(4*Frame_Width-TRUNC(4*Frame_Width)=0,TRUNC(((Frame_Width-6.125)/3)*16+0.5)/16,TRUNC(((Frame_Width-6)/3)*16+0.5)/16))+2.375","v":0.375}]
[{"$f":"IF(OR(ModelNo=\"0909\",ModelNo=\"09A9\",ModelNo=\"09B9\",ModelNo=\"09L9\"),2,\"\")","v":""},"0909","Operating Sash Height",{"$f":"Frame_Height-3.4375","v":-3.4375}]
[{"$f":"IF(OR(ModelNo=\"0909\",ModelNo=\"09A9\",ModelNo=\"09B9\",ModelNo=\"09L9\"),3,\"\")","v":""},"0909","Fixed Sash Width",{"$f":"(IF(4*Frame_Width-TRUNC(4*Frame_Width)=0,TRUNC(((Frame_Width-6.125)/3)*16+0.5)/16,TRUNC(((Frame_Width-6)/3)*16+0.5)/16))+2.375","v":0.375}]
[{"$f":"IF(OR(ModelNo=\"0909\",ModelNo=\"09A9\",ModelNo=\"09B9\",ModelNo=\"09L9\"),4,\"\")","v":""},"0909","Fixed Sash Height",{"$f":"Frame_Height-3.4375","v":-3.4375}]
[{"$f":"IF(OR(ModelNo=\"0909\",ModelNo=\"09A9\",ModelNo=\"09B9\",ModelNo=\"09L9\"),5,\"\")","v":""},"0909","Roller Track Length",{"$f":"Frame_Width-2.25","v":-2.25}]
[{"$f":"IF(OR(ModelNo=\"0909\",ModelNo=\"09A9\",ModelNo=\"09B9\",ModelNo=\"09L9\"),6,\"\")","v":""},"0909","Operating Sash Glass Width",{"$f":"IF(4*Frame_Width-TRUNC(4*Frame_Width)=0,TRUNC(((Frame_Width-6.125)/3)*16+0.5)/16,TRUNC(((Frame_Width-6)/3)*16+0.5)/16)","v":-2}]
[{"$f":"IF(OR(ModelNo=\"0909\",ModelNo=\"09A9\",ModelNo=\"09B9\",ModelNo=\"09L9\"),7,\"\")","v":""},"0909","Operating Sash Glass Height",{"$f":"TRUNC((Frame_Height-5.5625)*16+0.5)/16","v":-5.5}]
[{"$f":"IF(OR(ModelNo=\"0909\",ModelNo=\"09A9\",ModelNo=\"09B9\",ModelNo=\"09L9\"),8,\"\")","v":""},"0909","Fixed Sash Glass Width",{"$f":"IF(4*Frame_Width-TRUNC(4*Frame_Width)=0,TRUNC(((Frame_Width-6.125)/3)*16+0.5)/16,TRUNC(((Frame_Width-6)/3)*16+0.5)/16)","v":-2}]
[{"$f":"IF(OR(ModelNo=\"0909\",ModelNo=\"09A9\",ModelNo=\"09B9\",ModelNo=\"09L9\"),9,\"\")","v":""},"0909","Fixed Sash Glass Height",{"$f":"TRUNC((Frame_Height-5.5625)*16+0.5)/16","v":-5.5}]
[{"$f":"IF(OR(ModelNo=\"0909\",ModelNo=\"09A9\",ModelNo=\"09B9\",ModelNo=\"09L9\"),10,\"\")","v":""},"0909","Screen Width",{"$f":"IF(Screen=\"F\",Frame_Width-2,IF(Screen=\"H\",(IF(4*Frame_Width-TRUNC(4*Frame_Width)=0,TRUNC(((Frame_Width-6.125)/3)*16+0.5)/16,TRUNC(((Frame_Width-6)/3)*16+0.5)/16))+1.75,\"N/A\"))","v":-0.25}]
[{"$f":"IF(OR(ModelNo=\"0909\",ModelNo=\"09A9\",ModelNo=\"09B9\",ModelNo=\"09L9\"),11,\"\")","v":""},"0909","Screen Height",{"$f":"Frame_Height-3.75","v":-3.75}]
[{"$f":"IF(OR(ModelNo=\"0909\",ModelNo=\"09A9\",ModelNo=\"09B9\",ModelNo=\"09L9\"),12,\"\")","v":""},"0909","Egress Opening Width",{"$f":"TRUNC(((Frame_Width/3)-3.639)*16)/16","v":-3.625}]
[{"$f":"IF(OR(ModelNo=\"0909\",ModelNo=\"09A9\",ModelNo=\"09B9\",ModelNo=\"09L9\"),13,\"\")","v":""},"0909","Egress Opening Height",{"$f":"Frame_Height-4.25","v":-4.25}]
[{"$f":"IF(OR(ModelNo=\"0909\",ModelNo=\"09A9\",ModelNo=\"09B9\",ModelNo=\"09L9\"),14,\"\")","v":""},"0909","Egress Opening Area (sq.ft.)",{"$f":"(D656*D657)/144","v":0.10698784722222222}]
[{"$f":"IF(OR(ModelNo=\"0914\",ModelNo=\"09L4\"),1,\"\")","v":""},"0914","Glass Width",{"$f":"TRUNC((Frame_Width-2.8125)*16+0.5)/16","v":-2.75}]
[{"$f":"IF(OR(ModelNo=\"0914\",ModelNo=\"09L4\"),2,\"\")","v":""},"0914","Glass Height",{"$f":"TRUNC((Frame_Height-2.8125)*16+0.5)/16","v":-2.75}]
[{"$f":"IF(OR(ModelNo=\"0914\",ModelNo=\"09L4\"),3,\"\")","v":""},"0914","Glass Area (sq.ft.)",{"$f":"(D659*D660)/144","v":5.2517361111111112E-2}]
[{"$f":"IF(OR(ModelNo=\"1105\",ModelNo=\"1106\",ModelNo=\"1108\",ModelNo=\"1176\"),1,\"\")","v":""},"1100","Sash Width",{"$f":"(Frame_Width/2)+1.0625","v":1.0625}]
[{"$f":"IF(OR(ModelNo=\"1105\",ModelNo=\"1106\",ModelNo=\"1108\",ModelNo=\"1176\"),2,\"\")","v":""},"1100","Sash Height",{"$f":"Frame_Height-2.1875","v":-2.1875}]
[{"$f":"IF(OR(ModelNo=\"1105\",ModelNo=\"1106\",ModelNo=\"1108\",ModelNo=\"1176\"),3,\"\")","v":""},"1100","Roller Track Length",{"$f":"Frame_Width-1.25","v":-1.25}]
[{"$f":"IF(OR(ModelNo=\"1105\",ModelNo=\"1106\",ModelNo=\"1108\",ModelNo=\"1176\"),4,\"\")","v":""},"1100","Glass Width",{"$f":"(Frame_Width/2)-2.8125","v":-2.8125}]
[{"$f":"IF(OR(ModelNo=\"1105\",ModelNo=\"1106\",ModelNo=\"1108\",ModelNo=\"1176\"),5,\"\")","v":""},"1100","Glass Height",{"$f":"Frame_Height-6.125","v":-6.125}]
[{"$f":"IF(OR(ModelNo=\"1105\",ModelNo=\"1106\",ModelNo=\"1108\",ModelNo=\"1176\"),6,\"\")","v":""},"1100","Screen Width",{"$f":"(Frame_Width/2)+0.0625","v":6.25E-2}]
[{"$f":"IF(OR(ModelNo=\"1105\",ModelNo=\"1106\",ModelNo=\"1108\",ModelNo=\"1176\"),7,\"\")","v":""},"1100","Screen Height",{"$f":"Frame_Height-1.625","v":-1.625}]
[{"$f":"IF(OR(ModelNo=\"1105\",ModelNo=\"1106\",ModelNo=\"1108\",ModelNo=\"1176\"),8,\"\")","v":""},"1100","Egress Opening Width",{"$f":"(Frame_Width/2)-5.59375","v":-5.59375}]
[{"$f":"IF(OR(ModelNo=\"1105\",ModelNo=\"1106\",ModelNo=\"1108\",ModelNo=\"1176\"),9,\"\")","v":""},"1100","Egress Opening Height",{"$f":"Frame_Height-3.125","v":-3.125}]
[{"$f":"IF(OR(ModelNo=\"1105\",ModelNo=\"1106\",ModelNo=\"1108\",ModelNo=\"1176\"),10,\"\")","v":""},"1100","Egress Opening Area (sq.ft.)",{"$f":"(D669*D670)/144","v":0.12139214409722222}]
[{"$f":"IF(ModelNo=B672,1,\"\")","v":""},"1109","Sash Width",{"$f":"TRUNC(((Frame_Width/3)+1.5625)*16+0.5)/16","v":1.5625}]
[{"$f":"IF(ModelNo=B673,2,\"\")","v":""},"1109","Sash Height",{"$f":"Frame_Height-2.1875","v":-2.1875}]
[{"$f":"IF(ModelNo=B674,3,\"\")","v":""},"1109","Roller Track Length",{"$f":"TRUNC(((((Frame_Width+0.625)/3)*2)-0.75)*16+0.5)/16","v":-0.25}]
[{"$f":"IF(ModelNo=B675,4,\"\")","v":""},"1109","Glass Width",{"$f":"TRUNC(((Frame_Width/3)-2.3125)*16+0.5)/16","v":-2.25}]
[{"$f":"IF(ModelNo=B676,5,\"\")","v":""},"1109","Glass Height",{"$f":"Frame_Height-6.125","v":-6.125}]
[{"$f":"IF(ModelNo=B677,6,\"\")","v":""},"1109","Screen Width",{"$f":"TRUNC(((Frame_Width/3)-0.0625)*16+0.5)/16","v":0}]
[{"$f":"IF(ModelNo=B678,7,\"\")","v":""},"1109","Screen Height",{"$f":"Frame_Height-1.625","v":-1.625}]
[{"$f":"IF(ModelNo=B679,8,\"\")","v":""},"1109","Egress Opening Width",{"$f":"(Frame_Width/3)-5.25","v":-5.25}]
[{"$f":"IF(ModelNo=B680,9,\"\")","v":""},"1109","Egress Opening Height",{"$f":"Frame_Height-3.125","v":-3.125}]
[{"$f":"IF(ModelNo=B681,10,\"\")","v":""},"1109","Egress Opening Area (sq.ft.)",{"$f":"(D679*D680)/144","v":0.11393229166666667}]
[{"$f":"IF(OR(ModelNo=\"11C5\",ModelNo=\"11i5\",ModelNo=\"11C6\",ModelNo=\"11i6\",ModelNo=\"11C8\",ModelNo=\"11i8\"),1,\"\")","v":""},"11C/i","Sash Width",{"$f":"(Frame_Width/2)+0.6875","v":0.6875}]
[{"$f":"IF(OR(ModelNo=\"11C5\",ModelNo=\"11i5\",ModelNo=\"11C6\",ModelNo=\"11i6\",ModelNo=\"11C8\",ModelNo=\"11i8\"),2,\"\")","v":""},"11C/i","Sash Height",{"$f":"Frame_Height-3.0625","v":-3.0625}]
[{"$f":"IF(OR(ModelNo=\"11C5\",ModelNo=\"11i5\",ModelNo=\"11C6\",ModelNo=\"11i6\",ModelNo=\"11C8\",ModelNo=\"11i8\"),3,\"\")","v":""},"11C/i","Roller Track Length",{"$f":"Frame_Width-2.125","v":-2.125}]
[{"$f":"IF(OR(ModelNo=\"11C5\",ModelNo=\"11i5\",ModelNo=\"11C6\",ModelNo=\"11i6\",ModelNo=\"11C8\",ModelNo=\"11i8\"),4,\"\")","v":""},"11C/i","Glass Width",{"$f":"(Frame_Width/2)-3.1875","v":-3.1875}]
[{"$f":"IF(OR(ModelNo=\"11C5\",ModelNo=\"11i5\",ModelNo=\"11C6\",ModelNo=\"11i6\",ModelNo=\"11C8\",ModelNo=\"11i8\"),5,\"\")","v":""},"11C/i","Glass Height",{"$f":"Frame_Height-6.9375","v":-6.9375}]
[{"$f":"IF(OR(ModelNo=\"11C5\",ModelNo=\"11i5\",ModelNo=\"11C6\",ModelNo=\"11i6\",ModelNo=\"11C8\",ModelNo=\"11i8\"),6,\"\")","v":""},"11C/i","Screen Width",{"$f":"Frame_Width/2","v":0}]
[{"$f":"IF(OR(ModelNo=\"11C5\",ModelNo=\"11i5\",ModelNo=\"11C6\",ModelNo=\"11i6\",ModelNo=\"11C8\",ModelNo=\"11i8\"),7,\"\")","v":""},"11C/i","Screen Height",{"$f":"Frame_Height-2.125","v":-2.125}]
[{"$f":"IF(OR(ModelNo=\"11C5\",ModelNo=\"11i5\",ModelNo=\"11C6\",ModelNo=\"11i6\",ModelNo=\"11C8\",ModelNo=\"11i8\"),8,\"\")","v":""},"11C/i","Egress Opening Width",{"$f":"(Frame_Width/2)-6","v":-6}]
[{"$f":"IF(OR(ModelNo=\"11C5\",ModelNo=\"11i5\",ModelNo=\"11C6\",ModelNo=\"11i6\",ModelNo=\"11C8\",ModelNo=\"11i8\"),9,\"\")","v":""},"11C/i","Egress Opening Height",{"$f":"Frame_Height-4","v":-4}]
[{"$f":"IF(OR(ModelNo=\"11C5\",ModelNo=\"11i5\",ModelNo=\"11C6\",ModelNo=\"11i6\",ModelNo=\"11C8\",ModelNo=\"11i8\"),10,\"\")","v":""},"11C/i","Egress Opening Area (sq.ft.)",{"$f":"(D689*D690)/144","v":0.16666666666666666}]
[{"$f":"IF(ModelNo=B692,1,\"\")","v":""},"11C9","Sash Width",{"$f":"TRUNC(((Frame_Width/3)+1.25)*16+0.5)/16","v":1.25}]
[{"$f":"IF(ModelNo=B693,2,\"\")","v":""},"11C9","Sash Height",{"$f":"Frame_Height-3","v":-3}]
[{"$f":"IF(ModelNo=B694,3,\"\")","v":""},"11C9","Roller Track Length",{"$f":"TRUNC(((((Frame_Width+0.625)/3)*2)-0.75)*16+0.5)/16","v":-0.25}]
[{"$f":"IF(ModelNo=B695,4,\"\")","v":""},"11C9","Glass Width",{"$f":"TRUNC(((Frame_Width/3)-2.625)*16+0.5)/16","v":-2.5625}]
[{"$f":"IF(ModelNo=B696,5,\"\")","v":""},"11C9","Glass Height",{"$f":"Frame_Height-6.9375","v":-6.9375}]
[{"$f":"IF(ModelNo=B697,6,\"\")","v":""},"11C9","Screen Width",{"$f":"TRUNC(((Frame_Width/3)-0.1875)*16+0.5)/16","v":-0.125}]
[{"$f":"IF(ModelNo=B698,7,\"\")","v":""},"11C9","Screen Height",{"$f":"Frame_Height-2.125","v":-2.125}]
[{"$f":"IF(ModelNo=B699,8,\"\")","v":""},"11C9","Egress Opening Width",{"$f":"(Frame_Width/3)-5.75","v":-5.75}]
[{"$f":"IF(ModelNo=B700,9,\"\")","v":""},"11C9","Egress Opening Height",{"$f":"Frame_Height-4","v":-4}]
[{"$f":"IF(ModelNo=B701,10,\"\")","v":""},"11C9","Egress Opening Area (sq.ft.)",{"$f":"(D699*D700)/144","v":0.15972222222222221}]
[{"$f":"IF(OR(ModelNo=\"5102\",ModelNo=\"5105\",ModelNo=\"5106\",ModelNo=\"5108\",,ModelNo=\"5175\"),1,\"\")","v":""},"5102","Sash Width",{"$f":"(Frame_Width/2)+1.0625","v":1.0625}]
[{"$f":"IF(OR(ModelNo=\"5102\",ModelNo=\"5105\",ModelNo=\"5106\",ModelNo=\"5108\",,ModelNo=\"5175\"),2,\"\")","v":""},"5102","Sash Height",{"$f":"Frame_Height-2.1875","v":-2.1875}]
[{"$f":"IF(OR(ModelNo=\"5102\",ModelNo=\"5105\",ModelNo=\"5106\",ModelNo=\"5108\",,ModelNo=\"5175\"),3,\"\")","v":""},"5102","Roller Track Length",{"$f":"Frame_Width-1.25","v":-1.25}]
[{"$f":"IF(OR(ModelNo=\"5102\",ModelNo=\"5105\",ModelNo=\"5106\",ModelNo=\"5108\",,ModelNo=\"5175\"),4,\"\")","v":""},"5102","Glass Width",{"$f":"(Frame_Width/2)-2.8125","v":-2.8125}]
[{"$f":"IF(OR(ModelNo=\"5102\",ModelNo=\"5105\",ModelNo=\"5106\",ModelNo=\"5108\",,ModelNo=\"5175\"),5,\"\")","v":""},"5102","Glass Height",{"$f":"Frame_Height-6.125","v":-6.125}]
[{"$f":"IF(OR(ModelNo=\"5102\",ModelNo=\"5105\",ModelNo=\"5106\",ModelNo=\"5108\",,ModelNo=\"5175\"),6,\"\")","v":""},"5102","Screen Width",{"$f":"(Frame_Width/2)+0.0625","v":6.25E-2}]
[{"$f":"IF(OR(ModelNo=\"5102\",ModelNo=\"5105\",ModelNo=\"5106\",ModelNo=\"5108\",,ModelNo=\"5175\"),7,\"\")","v":""},"5102","Screen Height",{"$f":"Frame_Height-1.625","v":-1.625}]
[{"$f":"IF(OR(ModelNo=\"5102\",ModelNo=\"5105\",ModelNo=\"5106\",ModelNo=\"5108\",,ModelNo=\"5175\"),8,\"\")","v":""},"5102","Egress Opening Width",{"$f":"(Frame_Width/2)-5.59375","v":-5.59375}]
[{"$f":"IF(OR(ModelNo=\"5102\",ModelNo=\"5105\",ModelNo=\"5106\",ModelNo=\"5108\",,ModelNo=\"5175\"),9,\"\")","v":""},"5102","Egress Opening Height",{"$f":"Frame_Height-3.125","v":-3.125}]
[{"$f":"IF(OR(ModelNo=\"5102\",ModelNo=\"5105\",ModelNo=\"5106\",ModelNo=\"5108\",,ModelNo=\"5175\"),10,\"\")","v":""},"5102","Egress Opening Area (sq.ft.)",{"$f":"(D709*D710)/144","v":0.12139214409722222}]
[{"$f":"IF(OR(ModelNo=\"5103\",ModelNo=\"5109\"),1,\"\")","v":""},"5103","Sash Width",{"$f":"TRUNC(((Frame_Width/3)+1.5625)*16+0.5)/16","v":1.5625}]
[{"$f":"IF(OR(ModelNo=\"5103\",ModelNo=\"5109\"),2,\"\")","v":""},"5103","Sash Height",{"$f":"Frame_Height-2.1875","v":-2.1875}]
[{"$f":"IF(OR(ModelNo=\"5103\",ModelNo=\"5109\"),3,\"\")","v":""},"5103","Roller Track Length",{"$f":"TRUNC(((((Frame_Width+0.625)/3)*2)-0.75)*16+0.5)/16","v":-0.25}]
[{"$f":"IF(OR(ModelNo=\"5103\",ModelNo=\"5109\"),4,\"\")","v":""},"5103","Glass Width",{"$f":"TRUNC(((Frame_Width/3)-2.3125)*16+0.5)/16","v":-2.25}]
[{"$f":"IF(OR(ModelNo=\"5103\",ModelNo=\"5109\"),5,\"\")","v":""},"5103","Glass Height",{"$f":"Frame_Height-6.125","v":-6.125}]
[{"$f":"IF(OR(ModelNo=\"5103\",ModelNo=\"5109\"),6,\"\")","v":""},"5103","Screen Width",{"$f":"TRUNC(((Frame_Width/3)+0.1875)*16+0.5)/16","v":0.1875}]
[{"$f":"IF(OR(ModelNo=\"5103\",ModelNo=\"5109\"),7,\"\")","v":""},"5103","Screen Height",{"$f":"Frame_Height-1.625","v":-1.625}]
[{"$f":"IF(OR(ModelNo=\"5103\",ModelNo=\"5109\"),8,\"\")","v":""},"5103","Egress Opening Width",{"$f":"(Frame_Width/3)-5.25","v":-5.25}]
[{"$f":"IF(OR(ModelNo=\"5103\",ModelNo=\"5109\"),9,\"\")","v":""},"5103","Egress Opening Height",{"$f":"Frame_Height-3.125","v":-3.125}]
[{"$f":"IF(OR(ModelNo=\"5103\",ModelNo=\"5109\"),10,\"\")","v":""},"5103","Egress Opening Area (sq.ft.)",{"$f":"(D719*D720)/144","v":0.11393229166666667}]
[{"$f":"IF(OR(ModelNo=\"51I5\",ModelNo=\"51I6\",ModelNo=\"51I8\"),1,\"\")","v":""},"51i5","Sash Width",{"$f":"(Frame_Width/2)+1.0625","v":1.0625}]
[{"$f":"IF(OR(ModelNo=\"51I5\",ModelNo=\"51I6\",ModelNo=\"51I8\"),2,\"\")","v":""},"51i5","Sash Height",{"$f":"Frame_Height-2.1875","v":-2.1875}]
[{"$f":"IF(OR(ModelNo=\"51I5\",ModelNo=\"51I6\",ModelNo=\"51I8\"),3,\"\")","v":""},"51i5","Roller Track Length",{"$f":"Frame_Width-1.25","v":-1.25}]
[{"$f":"IF(OR(ModelNo=\"51I5\",ModelNo=\"51I6\",ModelNo=\"51I8\"),4,\"\")","v":""},"51i5","Glass Width",{"$f":"(Frame_Width/2)-3.1875","v":-3.1875}]
[{"$f":"IF(OR(ModelNo=\"51I5\",ModelNo=\"51I6\",ModelNo=\"51I8\"),5,\"\")","v":""},"51i5","Glass Height",{"$f":"Frame_Height-6.9375","v":-6.9375}]
[{"$f":"IF(OR(ModelNo=\"51I5\",ModelNo=\"51I6\",ModelNo=\"51I8\"),6,\"\")","v":""},"51i5","Screen Width",{"$f":"Frame_Width/2","v":0}]
[{"$f":"IF(OR(ModelNo=\"51I5\",ModelNo=\"51I6\",ModelNo=\"51I8\"),7,\"\")","v":""},"51i5","Screen Height",{"$f":"Frame_Height-2.125","v":-2.125}]
[{"$f":"IF(OR(ModelNo=\"51I5\",ModelNo=\"51I6\",ModelNo=\"51I8\"),8,\"\")","v":""},"51i5","Egress Opening Width",{"$f":"(Frame_Width/2)-5.5","v":-5.5}]
[{"$f":"IF(OR(ModelNo=\"51I5\",ModelNo=\"51I6\",ModelNo=\"51I8\"),9,\"\")","v":""},"51i5","Egress Opening Height",{"$f":"Frame_Height-3.125","v":-3.125}]
[{"$f":"IF(OR(ModelNo=\"51I5\",ModelNo=\"51I6\",ModelNo=\"51I8\"),10,\"\")","v":""},"51i5","Egress Opening Area (sq.ft.)",{"$f":"(D729*D730)/144","v":0.1193576388888889}]
[{"$f":"IF(OR(ModelNo=\"6102\",ModelNo=\"6105\",ModelNo=\"6106\",ModelNo=\"6108\",ModelNo=\"6175\",ModelNo=\"8102\",ModelNo=\"8105\",ModelNo=\"8106\",ModelNo=\"8108\",ModelNo=\"8175\"),1,\"\")","v":""},"6102","Sash Width",{"$f":"(Frame_Width/2)-0.1875","v":-0.1875}]
[{"$f":"IF(OR(ModelNo=\"6102\",ModelNo=\"6105\",ModelNo=\"6106\",ModelNo=\"6108\",ModelNo=\"6175\",ModelNo=\"8102\",ModelNo=\"8105\",ModelNo=\"8106\",ModelNo=\"8108\",ModelNo=\"8175\"),2,\"\")","v":""},"6102","Sash Height",{"$f":"Frame_Height-3.6875","v":-3.6875}]
[{"$f":"IF(OR(ModelNo=\"6102\",ModelNo=\"6105\",ModelNo=\"6106\",ModelNo=\"6108\",ModelNo=\"6175\",ModelNo=\"8102\",ModelNo=\"8105\",ModelNo=\"8106\",ModelNo=\"8108\",ModelNo=\"8175\"),3,\"\")","v":""},"6102","Operating Sash Roller Track Length",{"$f":"Frame_Width-2.5","v":-2.5}]
[{"$f":"IF(OR(ModelNo=\"6102\",ModelNo=\"6105\",ModelNo=\"6106\",ModelNo=\"6108\",ModelNo=\"6175\",ModelNo=\"8102\",ModelNo=\"8105\",ModelNo=\"8106\",ModelNo=\"8108\",ModelNo=\"8175\"),4,\"\")","v":""},"6102","Screen Roller Track Length",{"$f":"Frame_Width","v":0}]
[{"$f":"IF(OR(ModelNo=\"6102\",ModelNo=\"6105\",ModelNo=\"6106\",ModelNo=\"6108\",ModelNo=\"6175\",ModelNo=\"8102\",ModelNo=\"8105\",ModelNo=\"8106\",ModelNo=\"8108\",ModelNo=\"8175\"),5,\"\")","v":""},"6102","Fixed Panel Support",{"$f":"(Frame_Width/2)-0.25","v":-0.25}]
[{"$f":"IF(OR(ModelNo=\"6102\",ModelNo=\"6105\",ModelNo=\"6106\",ModelNo=\"6108\",ModelNo=\"6175\",ModelNo=\"8102\",ModelNo=\"8105\",ModelNo=\"8106\",ModelNo=\"8108\",ModelNo=\"8175\"),6,\"\")","v":""},"6102","Glass Width",{"$f":"(Frame_Width/2)-3.75","v":-3.75}]
[{"$f":"IF(OR(ModelNo=\"6102\",ModelNo=\"6105\",ModelNo=\"6106\",ModelNo=\"6108\",ModelNo=\"6175\",ModelNo=\"8102\",ModelNo=\"8105\",ModelNo=\"8106\",ModelNo=\"8108\",ModelNo=\"8175\"),7,\"\")","v":""},"6102","Glass Height",{"$f":"Frame_Height-8.9375","v":-8.9375}]
[{"$f":"IF(OR(ModelNo=\"6102\",ModelNo=\"6105\",ModelNo=\"6106\",ModelNo=\"6108\",ModelNo=\"6175\",ModelNo=\"8102\",ModelNo=\"8105\",ModelNo=\"8106\",ModelNo=\"8108\",ModelNo=\"8175\"),8,\"\")","v":""},"6102","Screen Width",{"$f":"(Frame_Width/2)-0.9375","v":-0.9375}]
[{"$f":"IF(OR(ModelNo=\"6102\",ModelNo=\"6105\",ModelNo=\"6106\",ModelNo=\"6108\",ModelNo=\"6175\",ModelNo=\"8102\",ModelNo=\"8105\",ModelNo=\"8106\",ModelNo=\"8108\",ModelNo=\"8175\"),9,\"\")","v":""},"6102","Screen Height",{"$f":"Frame_Height-3.125","v":-3.125}]
[{"$f":"IF(OR(ModelNo=\"6102\",ModelNo=\"6105\",ModelNo=\"6106\",ModelNo=\"6108\",ModelNo=\"6175\",ModelNo=\"8102\",ModelNo=\"8105\",ModelNo=\"8106\",ModelNo=\"8108\",ModelNo=\"8175\"),10,\"\")","v":""},"6102","Egress Opening Width",{"$f":"(Frame_Width/2)-6.4375","v":-6.4375}]
[{"$f":"IF(OR(ModelNo=\"6102\",ModelNo=\"6105\",ModelNo=\"6106\",ModelNo=\"6108\",ModelNo=\"6175\",ModelNo=\"8102\",ModelNo=\"8105\",ModelNo=\"8106\",ModelNo=\"8108\",ModelNo=\"8175\"),11,\"\")","v":""},"6102","Egress Opening Height",{"$f":"Frame_Height-4.875","v":-4.875}]
[{"$f":"IF(OR(ModelNo=\"6102\",ModelNo=\"6105\",ModelNo=\"6106\",ModelNo=\"6108\",ModelNo=\"6175\",ModelNo=\"8102\",ModelNo=\"8105\",ModelNo=\"8106\",ModelNo=\"8108\",ModelNo=\"8175\"),12,\"\")","v":""},"6102","Egress Opening Area (sq.ft.)",{"$f":"(D741*D742)/144","v":0.21793619791666666}]
[{"$f":"IF(OR(ModelNo=\"6103\",ModelNo=\"6109\",ModelNo=\"6122\",ModelNo=\"8103\",ModelNo=\"8109\",ModelNo=\"8122\"),1,\"\")","v":""},"6103","Sash Width",{"$f":"(TRUNC(((Frame_Width/3)-0.4792)*16+0.5)/16)+0.4375","v":0}]
[{"$f":"IF(OR(ModelNo=\"6103\",ModelNo=\"6109\",ModelNo=\"6122\",ModelNo=\"8103\",ModelNo=\"8109\",ModelNo=\"8122\"),2,\"\")","v":""},"6103","Sash Height",{"$f":"Frame_Height-3.6875","v":-3.6875}]
[{"$f":"IF(OR(ModelNo=\"6103\",ModelNo=\"6109\",ModelNo=\"6122\",ModelNo=\"8103\",ModelNo=\"8109\",ModelNo=\"8122\"),3,\"\")","v":""},"6103","Operating Sash Roller Track Length",{"$f":"Frame_Width-2.5","v":-2.5}]
[{"$f":"IF(OR(ModelNo=\"6103\",ModelNo=\"6109\",ModelNo=\"6122\",ModelNo=\"8103\",ModelNo=\"8109\",ModelNo=\"8122\"),4,\"\")","v":""},"6103","Screen Roller Track Length",{"$f":"Frame_Width","v":0}]
[{"$f":"IF(OR(ModelNo=\"6103\",ModelNo=\"6109\",ModelNo=\"6122\",ModelNo=\"8103\",ModelNo=\"8109\",ModelNo=\"8122\"),5,\"\")","v":""},"6103","Fixed Panel Support",{"$f":"TRUNC(((Frame_Width/3)-0.10412)*16+0.5)/16","v":-6.25E-2}]
[{"$f":"IF(OR(ModelNo=\"6103\",ModelNo=\"6109\",ModelNo=\"6122\",ModelNo=\"8103\",ModelNo=\"8109\",ModelNo=\"8122\"),6,\"\")","v":""},"6103","Glass Width",{"$f":"TRUNC(((Frame_Width/3)-3.60412)*16+0.5)/16","v":-3.5625}]
[{"$f":"IF(OR(ModelNo=\"6103\",ModelNo=\"6109\",ModelNo=\"6122\",ModelNo=\"8103\",ModelNo=\"8109\",ModelNo=\"8122\"),7,\"\")","v":""},"6103","Glass Height",{"$f":"Frame_Height-8.9375","v":-8.9375}]
[{"$f":"IF(OR(ModelNo=\"6103\",ModelNo=\"6109\",ModelNo=\"6122\",ModelNo=\"8103\",ModelNo=\"8109\",ModelNo=\"8122\"),8,\"\")","v":""},"6103","Screen Width",{"$f":"TRUNC(((Frame_Width/3)-0.7917)*16+0.5)/16","v":-0.75}]
[{"$f":"IF(OR(ModelNo=\"6103\",ModelNo=\"6109\",ModelNo=\"6122\",ModelNo=\"8103\",ModelNo=\"8109\",ModelNo=\"8122\"),9,\"\")","v":""},"6103","Screen Height",{"$f":"Frame_Height-3.125","v":-3.125}]
[{"$f":"IF(OR(ModelNo=\"6103\",ModelNo=\"6109\",ModelNo=\"6122\",ModelNo=\"8103\",ModelNo=\"8109\",ModelNo=\"8122\"),10,\"\")","v":""},"6103","Egress Opening Width",{"$f":"TRUNC(((Frame_Width/3)-6.16666667)*16+0.5)/16","v":-6.125}]
[{"$f":"IF(OR(ModelNo=\"6103\",ModelNo=\"6109\",ModelNo=\"6122\",ModelNo=\"8103\",ModelNo=\"8109\",ModelNo=\"8122\"),11,\"\")","v":""},"6103","Egress Opening Height",{"$f":"Frame_Height-4.875","v":-4.875}]
[{"$f":"IF(OR(ModelNo=\"6103\",ModelNo=\"6109\",ModelNo=\"6122\",ModelNo=\"8103\",ModelNo=\"8109\",ModelNo=\"8122\"),12,\"\")","v":""},"6103","Egress Opening Area (sq.ft.)",{"$f":"(D753*D754)/144","v":0.20735677083333334}]
[{"$f":"IF(OR(ModelNo=\"6104\",ModelNo=\"6112\",ModelNo=\"8104\",ModelNo=\"8112\"),1,\"\")","v":""},"6104","Sash Width",{"$f":"(TRUNC(((Frame_Width/4)-0.1875)*16+0.5)/16)+0.4375","v":0.3125}]
[{"$f":"IF(OR(ModelNo=\"6104\",ModelNo=\"6112\",ModelNo=\"8104\",ModelNo=\"8112\"),2,\"\")","v":""},"6104","Sash Height",{"$f":"Frame_Height-3.6875","v":-3.6875}]
[{"$f":"IF(OR(ModelNo=\"6104\",ModelNo=\"6112\",ModelNo=\"8104\",ModelNo=\"8112\"),3,\"\")","v":""},"6104","Operating Sash Roller Track Length",{"$f":"Frame_Width-2.5","v":-2.5}]
[{"$f":"IF(OR(ModelNo=\"6104\",ModelNo=\"6112\",ModelNo=\"8104\",ModelNo=\"8112\"),4,\"\")","v":""},"6104","Screen Roller Track Length",{"$f":"Frame_Width","v":0}]
[{"$f":"IF(OR(ModelNo=\"6104\",ModelNo=\"6112\",ModelNo=\"8104\",ModelNo=\"8112\"),5,\"\")","v":""},"6104","Fixed Panel Support",{"$f":"TRUNC(((Frame_Width/4)+0.1875)*16+0.5)/16","v":0.1875}]
[{"$f":"IF(OR(ModelNo=\"6104\",ModelNo=\"6112\",ModelNo=\"8104\",ModelNo=\"8112\"),6,\"\")","v":""},"6104","Four Panel Mullion",{"$f":"Frame_Height-3.6875","v":-3.6875}]
[{"$f":"IF(OR(ModelNo=\"6104\",ModelNo=\"6112\",ModelNo=\"8104\",ModelNo=\"8112\"),7,\"\")","v":""},"6104","Screw Cover Snap on Mullion",{"$f":"Frame_Height-6","v":-6}]
[{"$f":"IF(OR(ModelNo=\"6104\",ModelNo=\"6112\",ModelNo=\"8104\",ModelNo=\"8112\"),8,\"\")","v":""},"6104","Glass Width",{"$f":"TRUNC(((Frame_Width/4)-3.3125)*16+0.5)/16","v":-3.25}]
[{"$f":"IF(OR(ModelNo=\"6104\",ModelNo=\"6112\",ModelNo=\"8104\",ModelNo=\"8112\"),9,\"\")","v":""},"6104","Glass Height",{"$f":"Frame_Height-8.9375","v":-8.9375}]
[{"$f":"IF(OR(ModelNo=\"6104\",ModelNo=\"6112\",ModelNo=\"8104\",ModelNo=\"8112\"),10,\"\")","v":""},"6104","Screen Width",{"$f":"TRUNC((Frame_Width/4)*16+0.5)/16","v":0}]
[{"$f":"IF(OR(ModelNo=\"6104\",ModelNo=\"6112\",ModelNo=\"8104\",ModelNo=\"8112\"),11,\"\")","v":""},"6104","Screen Height",{"$f":"Frame_Height-3.125","v":-3.125}]
[{"$f":"IF(OR(ModelNo=\"6104\",ModelNo=\"6112\",ModelNo=\"8104\",ModelNo=\"8112\"),12,\"\")","v":""},"6104","Egress Opening Width",{"$f":"TRUNC(((Frame_Width/4)+6)*16+0.5)/16","v":6}]
[{"$f":"IF(OR(ModelNo=\"6104\",ModelNo=\"6112\",ModelNo=\"8104\",ModelNo=\"8112\"),13,\"\")","v":""},"6104","Egress Opening Height",{"$f":"Frame_Height-4.875","v":-4.875}]
[{"$f":"IF(OR(ModelNo=\"6104\",ModelNo=\"6112\",ModelNo=\"8104\",ModelNo=\"8112\"),14,\"\")","v":""},"6104","Egress Opening Area (sq.ft.)",{"$f":"(D767*D768)/144","v":-0.203125}]
[{"$f":"IF(OR(ModelNo=\"6202\",ModelNo=\"6205\",ModelNo=\"6206\",ModelNo=\"6208\",ModelNo=\"6275\",ModelNo=\"8202\",ModelNo=\"8205\",ModelNo=\"8206\",ModelNo=\"8208\",ModelNo=\"8275\"),1,\"\")","v":""},6202,"Sash Width",{"$f":"(Frame_Width/2)-0.0625","v":-6.25E-2}]
[{"$f":"IF(OR(ModelNo=\"6202\",ModelNo=\"6205\",ModelNo=\"6206\",ModelNo=\"6208\",ModelNo=\"6275\",ModelNo=\"8202\",ModelNo=\"8205\",ModelNo=\"8206\",ModelNo=\"8208\",ModelNo=\"8275\"),2,\"\")","v":""},6202,"Sash Height",{"$f":"Frame_Height-3.25","v":-3.25}]
[{"$f":"IF(OR(ModelNo=\"6202\",ModelNo=\"6205\",ModelNo=\"6206\",ModelNo=\"6208\",ModelNo=\"6275\",ModelNo=\"8202\",ModelNo=\"8205\",ModelNo=\"8206\",ModelNo=\"8208\",ModelNo=\"8275\"),3,\"\")","v":""},6202,"Operating Sash Roller Track Length",{"$f":"Frame_Width-1.875","v":-1.875}]
[{"$f":"IF(OR(ModelNo=\"6202\",ModelNo=\"6205\",ModelNo=\"6206\",ModelNo=\"6208\",ModelNo=\"6275\",ModelNo=\"8202\",ModelNo=\"8205\",ModelNo=\"8206\",ModelNo=\"8208\",ModelNo=\"8275\"),4,\"\")","v":""},6202,"Screen Roller Track Length",{"$f":"Frame_Width-1.8125","v":-1.8125}]
[{"$f":"IF(OR(ModelNo=\"6202\",ModelNo=\"6205\",ModelNo=\"6206\",ModelNo=\"6208\",ModelNo=\"6275\",ModelNo=\"8202\",ModelNo=\"8205\",ModelNo=\"8206\",ModelNo=\"8208\",ModelNo=\"8275\"),5,\"\")","v":""},6202,"Fixed Panel Support",{"$f":"(Frame_Width/2)-0.1875","v":-0.1875}]
[{"$f":"IF(OR(ModelNo=\"6202\",ModelNo=\"6205\",ModelNo=\"6206\",ModelNo=\"6208\",ModelNo=\"6275\",ModelNo=\"8202\",ModelNo=\"8205\",ModelNo=\"8206\",ModelNo=\"8208\",ModelNo=\"8275\"),6,\"\")","v":""},6202,"Glass Width",{"$f":"(Frame_Width/2)-3.6875","v":-3.6875}]
[{"$f":"IF(OR(ModelNo=\"6202\",ModelNo=\"6205\",ModelNo=\"6206\",ModelNo=\"6208\",ModelNo=\"6275\",ModelNo=\"8202\",ModelNo=\"8205\",ModelNo=\"8206\",ModelNo=\"8208\",ModelNo=\"8275\"),7,\"\")","v":""},6202,"Glass Height",{"$f":"Frame_Height-6.875","v":-6.875}]
[{"$f":"IF(OR(ModelNo=\"6202\",ModelNo=\"6205\",ModelNo=\"6206\",ModelNo=\"6208\",ModelNo=\"6275\",ModelNo=\"8202\",ModelNo=\"8205\",ModelNo=\"8206\",ModelNo=\"8208\",ModelNo=\"8275\"),8,\"\")","v":""},6202,"Screen Width",{"$f":"(Frame_Width/2)-1.5","v":-1.5}]
[{"$f":"IF(OR(ModelNo=\"6202\",ModelNo=\"6205\",ModelNo=\"6206\",ModelNo=\"6208\",ModelNo=\"6275\",ModelNo=\"8202\",ModelNo=\"8205\",ModelNo=\"8206\",ModelNo=\"8208\",ModelNo=\"8275\"),9,\"\")","v":""},6202,"Screen Height",{"$f":"Frame_Height-2.75","v":-2.75}]
[{"$f":"IF(OR(ModelNo=\"6202\",ModelNo=\"6205\",ModelNo=\"6206\",ModelNo=\"6208\",ModelNo=\"6275\",ModelNo=\"8202\",ModelNo=\"8205\",ModelNo=\"8206\",ModelNo=\"8208\",ModelNo=\"8275\"),10,\"\")","v":""},6202,"Egress Opening Width",{"$f":"Frame_Width-D770-((2.108*2)+2.5)","v":-6.6535000000000002}]
[{"$f":"IF(OR(ModelNo=\"6202\",ModelNo=\"6205\",ModelNo=\"6206\",ModelNo=\"6208\",ModelNo=\"6275\",ModelNo=\"8202\",ModelNo=\"8205\",ModelNo=\"8206\",ModelNo=\"8208\",ModelNo=\"8275\"),11,\"\")","v":""},6202,"Egress Opening Height",{"$f":"Frame_Height-(2.108*2)","v":-4.2160000000000002}]
[{"$f":"IF(OR(ModelNo=\"6202\",ModelNo=\"6205\",ModelNo=\"6206\",ModelNo=\"6208\",ModelNo=\"6275\",ModelNo=\"8202\",ModelNo=\"8205\",ModelNo=\"8206\",ModelNo=\"8208\",ModelNo=\"8275\"),12,\"\")","v":""},6202,"Egress Opening Area (sq.ft.)",{"$f":"(D779*D780)/144","v":0.19479969444444445}]
[{"$f":"IF(OR(ModelNo=\"6203\",ModelNo=\"6209\",ModelNo=\"6222\",ModelNo=\"8203\",ModelNo=\"8209\",ModelNo=\"8222\"),1,\"\")","v":""},6203,"Sash Width",{"$f":"TRUNC(((Frame_Width+0.375)/3)*16+0.5)/16","v":0.125}]
[{"$f":"IF(OR(ModelNo=\"6203\",ModelNo=\"6209\",ModelNo=\"6222\",ModelNo=\"8203\",ModelNo=\"8209\",ModelNo=\"8222\"),2,\"\")","v":""},6203,"Sash Height",{"$f":"Frame_Height-3.25","v":-3.25}]
[{"$f":"IF(OR(ModelNo=\"6203\",ModelNo=\"6209\",ModelNo=\"6222\",ModelNo=\"8203\",ModelNo=\"8209\",ModelNo=\"8222\"),3,\"\")","v":""},6203,"Operating Sash Roller Track Length",{"$f":"TRUNC((((2*Frame_Width)-4.3125)/3)*16+0.5)/16","v":-1.375}]
[{"$f":"IF(OR(ModelNo=\"6203\",ModelNo=\"6209\",ModelNo=\"6222\",ModelNo=\"8203\",ModelNo=\"8209\",ModelNo=\"8222\"),4,\"\")","v":""},6203,"Screen Roller Track Length",{"$f":"TRUNC(((Frame_Width-0.75)/3)*16+0.5)/16","v":-0.1875}]
[{"$f":"IF(OR(ModelNo=\"6203\",ModelNo=\"6209\",ModelNo=\"6222\",ModelNo=\"8203\",ModelNo=\"8209\",ModelNo=\"8222\"),5,\"\")","v":""},6203,"Fixed Panel Support",{"$f":"TRUNC((Frame_Width/3)*16+0.5)/16","v":0}]
[{"$f":"IF(OR(ModelNo=\"6203\",ModelNo=\"6209\",ModelNo=\"6222\",ModelNo=\"8203\",ModelNo=\"8209\",ModelNo=\"8222\"),6,\"\")","v":""},6203,"Glass Width",{"$f":"TRUNC(((Frame_Width/3)-3.5)*16+0.5)/16","v":-3.4375}]
[{"$f":"IF(OR(ModelNo=\"6203\",ModelNo=\"6209\",ModelNo=\"6222\",ModelNo=\"8203\",ModelNo=\"8209\",ModelNo=\"8222\"),7,\"\")","v":""},6203,"Glass Height",{"$f":"Frame_Height-6.875","v":-6.875}]
[{"$f":"IF(OR(ModelNo=\"6203\",ModelNo=\"6209\",ModelNo=\"6222\",ModelNo=\"8203\",ModelNo=\"8209\",ModelNo=\"8222\"),8,\"\")","v":""},6203,"Screen Width",{"$f":"TRUNC(((Frame_Width-3.9375)/3)*16+0.5)/16","v":-1.25}]
[{"$f":"IF(OR(ModelNo=\"6203\",ModelNo=\"6209\",ModelNo=\"6222\",ModelNo=\"8203\",ModelNo=\"8209\",ModelNo=\"8222\"),9,\"\")","v":""},6203,"Screen Height",{"$f":"Frame_Height-2.75","v":-2.75}]
[{"$f":"IF(OR(ModelNo=\"6203\",ModelNo=\"6209\",ModelNo=\"6222\",ModelNo=\"8203\",ModelNo=\"8209\",ModelNo=\"8222\"),10,\"\")","v":""},6203,"Egress Opening Width",{"$f":"Frame_Width-(2.108*2)-(D782*2)-2.5-0.5","v":-7.4660000000000002}]
[{"$f":"IF(OR(ModelNo=\"6203\",ModelNo=\"6209\",ModelNo=\"6222\",ModelNo=\"8203\",ModelNo=\"8209\",ModelNo=\"8222\"),11,\"\")","v":""},6203,"Egress Opening Height",{"$f":"Frame_Height-(2.108*2)","v":-4.2160000000000002}]
[{"$f":"IF(OR(ModelNo=\"6203\",ModelNo=\"6209\",ModelNo=\"6222\",ModelNo=\"8203\",ModelNo=\"8209\",ModelNo=\"8222\"),12,\"\")","v":""},6203,"Egress Opening Area (sq.ft.)",{"$f":"(D791*D792)/144","v":0.21858788888888891}]
[{"$f":"IF(OR(ModelNo=\"6204\",ModelNo=\"6212\",ModelNo=\"8204\",ModelNo=\"8212\"),1,\"\")","v":""},6204,"Sash Width",{"$f":"(TRUNC(((Frame_Width+1.375)/4)*16+0.5)/16)+0.4375","v":0.8125}]
[{"$f":"IF(OR(ModelNo=\"6204\",ModelNo=\"6212\",ModelNo=\"8204\",ModelNo=\"8212\"),2,\"\")","v":""},6204,"Sash Height",{"$f":"Frame_Height-3.25","v":-3.25}]
[{"$f":"IF(OR(ModelNo=\"6204\",ModelNo=\"6212\",ModelNo=\"8204\",ModelNo=\"8212\"),3,\"\")","v":""},6204,"Operating Sash Roller Track Length",{"$f":"Frame_Width-1.875","v":-1.875}]
[{"$f":"IF(OR(ModelNo=\"6204\",ModelNo=\"6212\",ModelNo=\"8204\",ModelNo=\"8212\"),4,\"\")","v":""},6204,"Screen Roller Track Length",{"$f":"Frame_Width-1.8125","v":-1.8125}]
[{"$f":"IF(OR(ModelNo=\"6204\",ModelNo=\"6212\",ModelNo=\"8204\",ModelNo=\"8212\"),5,\"\")","v":""},6204,"Fixed Panel Support",{"$f":"TRUNC(((Frame_Width+0.875)/4)*16+0.5)/16","v":0.25}]
[{"$f":"IF(OR(ModelNo=\"6204\",ModelNo=\"6212\",ModelNo=\"8204\",ModelNo=\"8212\"),6,\"\")","v":""},6204,"Glass Width",{"$f":"TRUNC(((Frame_Width/4)-3.281)*16+0.5)/16","v":-3.1875}]
[{"$f":"IF(OR(ModelNo=\"6204\",ModelNo=\"6212\",ModelNo=\"8204\",ModelNo=\"8212\"),7,\"\")","v":""},6204,"Glass Height",{"$f":"Frame_Height-6.875","v":-6.875}]
[{"$f":"IF(OR(ModelNo=\"6204\",ModelNo=\"6212\",ModelNo=\"8204\",ModelNo=\"8212\"),8,\"\")","v":""},6204,"Screen Width",{"$f":"TRUNC(((Frame_Width/4)-1.125)*16+0.5)/16","v":-1.0625}]
[{"$f":"IF(OR(ModelNo=\"6204\",ModelNo=\"6212\",ModelNo=\"8204\",ModelNo=\"8212\"),9,\"\")","v":""},6204,"Screen Height",{"$f":"Frame_Height-2.75","v":-2.75}]
[{"$f":"IF(OR(ModelNo=\"6204\",ModelNo=\"6212\",ModelNo=\"8204\",ModelNo=\"8212\"),10,\"\")","v":""},6204,"Egress Opening Width",{"$f":"Frame_Width-(D794*2)-(2.108*2)-(2.5*2)-0.875","v":-11.716000000000001}]
[{"$f":"IF(OR(ModelNo=\"6204\",ModelNo=\"6212\",ModelNo=\"8204\",ModelNo=\"8212\"),11,\"\")","v":""},6204,"Egress Opening Height",{"$f":"Frame_Height-(2.108*2)","v":-4.2160000000000002}]
[{"$f":"IF(OR(ModelNo=\"6204\",ModelNo=\"6212\",ModelNo=\"8204\",ModelNo=\"8212\"),12,\"\")","v":""},6204,"Egress Opening Area (sq.ft.)",{"$f":"(D803*D804)/144","v":0.34301844444444446}]
[{"$f":"IF(OR(ModelNo=\"E301(3250)\",ModelNo=\"E301(3052)\",ModelNo=\"E301(2862)\"),1,\"\")","v":""},"E301","Top Sash Width",{"$f":"Frame_Width-3.25","v":-3.25}]
[{"$f":"IF(OR(ModelNo=\"E301(3250)\",ModelNo=\"E301(3052)\",ModelNo=\"E301(2862)\"),2,\"\")","v":""},"E301","Top Sash Height",{"$f":"CMR!$E$42-1.625","v":-1.625}]
[{"$f":"IF(OR(ModelNo=\"E301(3250)\",ModelNo=\"E301(3052)\",ModelNo=\"E301(2862)\"),3,\"\")","v":""},"E301","Bottom Sash Width",{"$f":"Frame_Width-2.25","v":-2.25}]
[{"$f":"IF(OR(ModelNo=\"E301(3250)\",ModelNo=\"E301(3052)\",ModelNo=\"E301(2862)\"),4,\"\")","v":""},"E301","Bottom Sash Height",{"$f":"CMR!$E$43-0.625","v":-0.625}]
[{"$f":"IF(OR(ModelNo=\"E301(3250)\",ModelNo=\"E301(3052)\",ModelNo=\"E301(2862)\"),5,\"\")","v":""},"E301","Top Glass Width",{"$f":"CMR!$E$45","v":-4.875}]
[{"$f":"IF(OR(ModelNo=\"E301(3250)\",ModelNo=\"E301(3052)\",ModelNo=\"E301(2862)\"),6,\"\")","v":""},"E301","Top Glass Height",{"$f":"CMR!$E$47","v":-3.25}]
[{"$f":"IF(OR(ModelNo=\"E301(3250)\",ModelNo=\"E301(3052)\",ModelNo=\"E301(2862)\"),7,\"\")","v":""},"E301","Bottom Glass Width",{"$f":"CMR!$E$46","v":-3.875}]
[{"$f":"IF(OR(ModelNo=\"E301(3250)\",ModelNo=\"E301(3052)\",ModelNo=\"E301(2862)\"),8,\"\")","v":""},"E301","Bottom Glass Height",{"$f":"CMR!$E$48","v":-2.25}]
[{"$f":"IF(OR(ModelNo=\"E301(3250)\",ModelNo=\"E301(3052)\",ModelNo=\"E301(2862)\"),9,\"\")","v":""},"E301","Screen Width",{"$f":"IF(Screen=\"F\",Frame_Width-3.125,Frame_Width-3.5)","v":-3.5}]
[{"$f":"IF(OR(ModelNo=\"E301(3250)\",ModelNo=\"E301(3052)\",ModelNo=\"E301(2862)\"),10,\"\")","v":""},"E301","Screen Height",{"$f":"IF(Screen=\"F\",Frame_Height-2.1875,CMR!$E$43-0.25)","v":-0.25}]
[{"$f":"IF(OR(ModelNo=\"E301(3250)\",ModelNo=\"E301(3052)\",ModelNo=\"E301(2862)\"),11,\"\")","v":""},"E301","Top Sash Weight (Plus 5 lb)",{"$f":"IF(ISERROR(TOP_WGT&\" \"&\"lb\"),\"N/A\",TOP_WGT&\" \"&\"lb\")","v":"N/A"}]
[{"$f":"IF(OR(ModelNo=\"E301(3250)\",ModelNo=\"E301(3052)\",ModelNo=\"E301(2862)\"),12,\"\")","v":""},"E301","Top Balance Size",{"$f":"IF(ISERROR((VLOOKUP(TOP_WGT,CFB,2,FALSE))&(VLOOKUP(TOP_WGT,CFB,3,FALSE))),\"N/A\",(VLOOKUP(TOP_WGT,CFB,2,FALSE))&(VLOOKUP(TOP_WGT,CFB,3,FALSE)))","v":"N/A"}]
[{"$f":"IF(OR(ModelNo=\"E301(3250)\",ModelNo=\"E301(3052)\",ModelNo=\"E301(2862)\"),13,\"\")","v":""},"E301","Bottom Sash Weight",{"$f":"IF(ISERROR(BTM_WGT&\" \"&\"lb\"),\"N/A\",BTM_WGT&\" \"&\"lb\")","v":"N/A"}]
[{"$f":"IF(OR(ModelNo=\"E301(3250)\",ModelNo=\"E301(3052)\",ModelNo=\"E301(2862)\"),14,\"\")","v":""},"E301","Bottom Balance Size","55EGR"]
[{"$f":"IF(OR(ModelNo=\"E301(3250)\",ModelNo=\"E301(3052)\",ModelNo=\"E301(2862)\"),15,\"\")","v":""},"E301","Egress Opening Width",{"$f":"IF(ISERROR(EW),\"N/A\",EW)","v":"N/A"}]
[{"$f":"IF(OR(ModelNo=\"E301(3250)\",ModelNo=\"E301(3052)\",ModelNo=\"E301(2862)\"),16,\"\")","v":""},"E301","Egress Opening Height",{"$f":"IF(ISERROR(E301EH),\"N/A\",E301EH)","v":0}]
[{"$f":"IF(OR(ModelNo=\"E301(3250)\",ModelNo=\"E301(3052)\",ModelNo=\"E301(2862)\"),17,\"\")","v":""},"E301","Egress Opening Area (sq.ft.)",{"$f":"IF(ISERROR(EO),\"N/A\",EO)","v":"N/A"}]
[{"$f":"IF(ModelNo=B823,1,\"\")","v":""},"3100","Bottom Sash Width",{"$f":"TRUNC((Frame_Width-2.14315)*32+0.5)/32","v":-2.125}]
[{"$f":"IF(ModelNo=B824,2,\"\")","v":""},"3100","Bottom Sash Height",{"$f":"TRUNC(((CMR!$E$91-0.375)*32+0.5))/32","v":-0.34375}]
[{"$f":"IF(ModelNo=B825,3,\"\")","v":""},"3100","Bottom Glass Width",{"$f":"CMR!$E$94","v":-4.75}]
[{"$f":"IF(ModelNo=B826,4,\"\")","v":""},"3100","Bottom Glass Height",{"$f":"CMR!$E$96","v":-2.96875}]
[{"$f":"IF(ModelNo=B827,5,\"\")","v":""},"3100","Top Glass Width",{"$f":"CMR!$E$93","v":-4}]
[{"$f":"IF(ModelNo=B828,6,\"\")","v":""},"3100","Top Glass Height",{"$f":"CMR!$E$95","v":-3.03125}]
[{"$f":"IF(ModelNo=B829,7,\"\")","v":""},"3100","Astragal Length",{"$f":"Frame_Width-2.6875","v":-2.6875}]
[{"$f":"IF(ModelNo=B830,8,\"\")","v":""},"3100","Screen Width",{"$f":"Frame_Width-4.25","v":-4.25}]
[{"$f":"IF(ModelNo=B831,9,\"\")","v":""},"3100","Screen Height",{"$f":"CMR!$E$91-2.125","v":-2.125}]
[{"$f":"IF(ModelNo=B832,10,\"\")","v":""},"3100","Bottom Sash Weight",{"$f":"IF(ISERROR(BTM_WGT&\" \"&\"lb\"),\"N/A\",BTM_WGT&\" \"&\"lb\")","v":"N/A"}]
[{"$f":"IF(ModelNo=B833,11,\"\")","v":""},"3100","Balance Size",{"$f":"IF(ISERROR((VLOOKUP(BTM_WGT,CURVE,2,FALSE))&(VLOOKUP(BTM_WGT,CURVE,3,FALSE))),\"N/A\",(VLOOKUP(BTM_WGT,CURVE,2,FALSE))&(VLOOKUP(BTM_WGT,CURVE,3,FALSE)))","v":"N/A"}]
[{"$f":"IF(ModelNo=B834,12,\"\")","v":""},"3100","Egress Opening Width",{"$f":"IF(ISERROR(EW),\"N/A\",EW)","v":"N/A"}]
[{"$f":"IF(ModelNo=B835,13,\"\")","v":""},"3100","Egress Opening Height",{"$f":"IF(ISERROR(EH),\"N/A\",EH)","v":"N/A"}]
[{"$f":"IF(ModelNo=B836,14,\"\")","v":""},"3100","Egress Opening Area (sq.ft.)",{"$f":"IF(ISERROR(EO),\"N/A\",EO)","v":"N/A"}]
[{"$f":"IF(ModelNo=B837,1,\"\")","v":""},"3102","Sash Width",{"$f":"TRUNC((CMR!$E$101-0.7)*16+0.5)/16","v":-0.625}]
[{"$f":"IF(ModelNo=B838,2,\"\")","v":""},"3102","Sash Height",{"$f":"TRUNC((Frame_Height-3.4)*16+0.5)/16","v":-3.3125}]
[{"$f":"IF(ModelNo=B839,3,\"\")","v":""},"3102","Sash Glass Width",{"$f":"CMR!$E$104","v":-2.25}]
[{"$f":"IF(ModelNo=B840,4,\"\")","v":""},"3102","Sash Glass Height",{"$f":"CMR!$E$106","v":-4.9375}]
[{"$f":"IF(ModelNo=B841,5,\"\")","v":""},"3102","Fixed Glass Width",{"$f":"CMR!$E$103","v":-3.09375}]
[{"$f":"IF(ModelNo=B842,6,\"\")","v":""},"3102","Fixed Glass Height",{"$f":"CMR!$E$105","v":-5.09375}]
[{"$f":"IF(ModelNo=B843,7,\"\")","v":""},"3102","Astragal Length",{"$f":"Frame_Height-4.5625","v":-4.5625}]
[{"$f":"IF(ModelNo=B844,8,\"\")","v":""},"3102","Roller Track Length",{"$f":"Frame_Width-1.8125","v":-1.8125}]
[{"$f":"IF(ModelNo=B845,9,\"\")","v":""},"3102","Screen Width",{"$f":"CMR!$E$101-3.4375","v":-3.4375}]
[{"$f":"IF(ModelNo=B846,10,\"\")","v":""},"3102","Screen Height",{"$f":"Frame_Height-5.375","v":-5.375}]
[{"$f":"IF(ModelNo=B847,11,\"\")","v":""},"3102","Egress Opening Width",{"$f":"TRUNC(((Frame_Width/2)-4.8125)*32+0.5)/32","v":-4.78125}]
[{"$f":"IF(ModelNo=B848,12,\"\")","v":""},"3102","Egress Opening Height",{"$f":"TRUNC((Frame_Height-6)*32+0.5)/32","v":-5.96875}]
[{"$f":"IF(ModelNo=B849,13,\"\")","v":""},"3102","Egress Opening Area (sq.ft.)",{"$f":"(D847*D848)/144","v":0.19818115234375}]
[{"$f":"IF(ModelNo=B850,1,\"\")","v":""},"3104","Glass Width",{"$f":"Frame_Width-4.28125","v":-4.28125}]
[{"$f":"IF(ModelNo=B851,2,\"\")","v":""},"3104","Glass Height",{"$f":"Frame_Height-4.28125","v":-4.28125}]
[{"$f":"IF(ModelNo=B852,3,\"\")","v":""},"3104","Glass Area (sq.ft.)",{"$f":"(D850*D851)/144","v":0.1272854275173611}]
[{"$f":"IF(ModelNo=B853,1,\"\")","v":""},"3109","Operating Sash Width",{"$f":"TRUNC((((Frame_Width/3)+0.5781)-1.2587)*16+0.5)/16","v":-0.625}]
[{"$f":"IF(ModelNo=B854,2,\"\")","v":""},"3109","Operating Sash Height",{"$f":"TRUNC((Frame_Height-3.46875)*16+0.5)/16","v":-3.4375}]
[{"$f":"IF(ModelNo=B855,3,\"\")","v":""},"3109","Astragal Length",{"$f":"Frame_Height-4.5625","v":-4.5625}]
[{"$f":"IF(ModelNo=B856,4,\"\")","v":""},"3109","Roller Track Length",{"$f":"Frame_Width-1.8125","v":-1.8125}]
[{"$f":"IF(ModelNo=B857,5,\"\")","v":""},"3109","Sash Glass Width",{"$f":"TRUNC((D853-1.625)*16+0.5)/16","v":-2.1875}]
[{"$f":"IF(ModelNo=B858,6,\"\")","v":""},"3109","Sash Glass Height",{"$f":"D854-1.625","v":-5.0625}]
[{"$f":"IF(ModelNo=B859,7,\"\")","v":""},"3109","Fixed Glass Width",{"$f":"TRUNC(((Frame_Width-(((Frame_Width/3)+0.5781)*2))-1.1476)*16+0.5)/16","v":-2.25}]
[{"$f":"IF(ModelNo=B860,8,\"\")","v":""},"3109","Fixed Glass Height",{"$f":"TRUNC((Frame_Height-5.09375)*16+0.5)/16","v":-5.0625}]
[{"$f":"IF(ModelNo=B861,9,\"\")","v":""},"3109","Screen Width",{"$f":"TRUNC((((Frame_Width/3)+0.5781)-3.3275)*16+0.5)/16","v":-2.6875}]
[{"$f":"IF(ModelNo=B862,10,\"\")","v":""},"3109","Screen Height",{"$f":"Frame_Height-5.375","v":-5.375}]
[{"$f":"IF(ModelNo=B863,11,\"\")","v":""},"3109","Egress Opening Width",{"$f":"TRUNC(((Frame_Width/3)-3.25)*32+0.5)/32","v":-3.21875}]
[{"$f":"IF(ModelNo=B864,12,\"\")","v":""},"3109","Egress Opening Height",{"$f":"TRUNC((Frame_Height-6)*32+0.5)/32","v":-5.96875}]
[{"$f":"IF(ModelNo=B865,13,\"\")","v":""},"3109","Egress Opening Area (sq.ft.)",{"$f":"(D863*D864)/144","v":0.13341606987847221}]
[{"$f":"IF(ModelNo=B866,1,\"\")","v":""},"i201","Top Sash Width",{"$f":"Frame_Width-3.25","v":-3.25}]
[{"$f":"IF(ModelNo=B867,2,\"\")","v":""},"i201","Top Sash Height",{"$f":"CMR!$E$26-1.5625","v":-1.5625}]
[{"$f":"IF(ModelNo=B868,3,\"\")","v":""},"i201","Bottom Sash Width",{"$f":"Frame_Width-2.25","v":-2.25}]
[{"$f":"IF(ModelNo=B869,4,\"\")","v":""},"i201","Bottom Sash Height",{"$f":"CMR!$E$27-0.5625","v":-0.5625}]
[{"$f":"IF(ModelNo=B870,5,\"\")","v":""},"i201","Top Glass Width",{"$f":"CMR!$E$29","v":-4.875}]
[{"$f":"IF(ModelNo=B871,6,\"\")","v":""},"i201","Top Glass Height",{"$f":"CMR!$E$31","v":-3.15625}]
[{"$f":"IF(ModelNo=B872,7,\"\")","v":""},"i201","Bottom Glass Width",{"$f":"CMR!$E$30","v":-3.875}]
[{"$f":"IF(ModelNo=B873,8,\"\")","v":""},"i201","Bottom Glass Height",{"$f":"CMR!$E$32","v":-2.15625}]
[{"$f":"IF(ModelNo=B874,9,\"\")","v":""},"i201","Screen Width",{"$f":"IF(Screen=\"L\",Frame_Width-1.6875,Frame_Width-3.6875)","v":-3.6875}]
[{"$f":"IF(ModelNo=B875,10,\"\")","v":""},"i201","Screen Height",{"$f":"IF(Screen=\"L\",TRUNC((CMR!$E$27-1.375)*16+0.5)/16,IF(Screen=\"F\",TRUNC((Frame_Height-2.875)*16+0.5)/16,TRUNC((CMR!$E$27-0.3125)*16+0.5)/16))","v":-0.25}]
[{"$f":"IF(ModelNo=B876,11,\"\")","v":""},"i201","Top Sash Weight (Plus 5 lb)",{"$f":"IF(ISERROR(TOP_WGT&\" \"&\"lb\"),\"N/A\",TOP_WGT&\" \"&\"lb\")","v":"N/A"}]
[{"$f":"IF(ModelNo=B877,12,\"\")","v":""},"i201","Top Balance Size",{"$f":"IF(ISERROR((VLOOKUP(TOP_WGT,CURVE,2,FALSE))&(VLOOKUP(TOP_WGT,CURVE,3,FALSE))),\"N/A\",(VLOOKUP(TOP_WGT,CURVE,2,FALSE))&(VLOOKUP(TOP_WGT,CURVE,3,FALSE)))","v":"N/A"}]
[{"$f":"IF(ModelNo=B878,13,\"\")","v":""},"i201","Bottom Sash Weight",{"$f":"IF(ISERROR(BTM_WGT&\" \"&\"lb\"),\"N/A\",BTM_WGT&\" \"&\"lb\")","v":"N/A"}]
[{"$f":"IF(ModelNo=B879,14,\"\")","v":""},"i201","Bottom Balance Size",{"$f":"IF(ISERROR((VLOOKUP(BTM_WGT,CURVE,2,FALSE))&(VLOOKUP(BTM_WGT,CURVE,3,FALSE))),\"N/A\",(VLOOKUP(BTM_WGT,CURVE,2,FALSE))&(VLOOKUP(BTM_WGT,CURVE,3,FALSE)))","v":"N/A"}]
[{"$f":"IF(ModelNo=B880,15,\"\")","v":""},"i201","Egress Opening Width",{"$f":"IF(ISERROR(EW),\"N/A\",EW)","v":"N/A"}]
[{"$f":"IF(ModelNo=B881,16,\"\")","v":""},"i201","Egress Opening Height",{"$f":"IF(ISERROR(EH),\"N/A\",EH)","v":"N/A"}]
[{"$f":"IF(ModelNo=B882,17,\"\")","v":""},"i201","Egress Opening Area (sq.ft.)",{"$f":"IF(ISERROR(EO),\"N/A\",EO)","v":"N/A"}]
[{"$f":"IF(OR(ModelNo=\"S140\",ModelNo=\"S140 (HP)\",ModelNo=\"S144\",ModelNo=\"S144 (HP)\",ModelNo=\"S146\",ModelNo=\"S146 (HP)\"),1,\"\")","v":""},"S140","Frame Radius",{"$f":"IF(ModelNo=\"S146\",((Frame_Height-LEG)/2)+(((Frame_Width*2)^2)/(8*(Frame_Height-LEG))),((Frame_Height-LEG)/2)+((Frame_Width^2)/(8*(Frame_Height-LEG))))","v":{"$error":"#DIV/0!"}}]
[{"$f":"IF(OR(ModelNo=\"S140\",ModelNo=\"S140 (HP)\",ModelNo=\"S144\",ModelNo=\"S144 (HP)\",ModelNo=\"S146\",ModelNo=\"S146 (HP)\"),2,\"\")","v":""},"S140","Bottom Sash Width",{"$f":"BSW_S140","v":{"$error":"#N/A"}}]
[{"$f":"IF(OR(ModelNo=\"S140\",ModelNo=\"S140 (HP)\",ModelNo=\"S144\",ModelNo=\"S144 (HP)\",ModelNo=\"S146\",ModelNo=\"S146 (HP)\"),3,\"\")","v":""},"S140","Bottom Sash Height",{"$f":"BSH_S140","v":{"$error":"#N/A"}}]
[{"$f":"IF(OR(ModelNo=\"S140\",ModelNo=\"S140 (HP)\",ModelNo=\"S144\",ModelNo=\"S144 (HP)\",ModelNo=\"S146\",ModelNo=\"S146 (HP)\"),4,\"\")","v":""},"S140","Bottom Glass Width",{"$f":"BGW_S140","v":{"$error":"#N/A"}}]
[{"$f":"IF(OR(ModelNo=\"S140\",ModelNo=\"S140 (HP)\",ModelNo=\"S144\",ModelNo=\"S144 (HP)\",ModelNo=\"S146\",ModelNo=\"S146 (HP)\"),5,\"\")","v":""},"S140","Bottom Glass Height",{"$f":"BGH_S140","v":{"$error":"#N/A"}}]
[{"$f":"IF(OR(ModelNo=\"S140\",ModelNo=\"S140 (HP)\",ModelNo=\"S144\",ModelNo=\"S144 (HP)\",ModelNo=\"S146\",ModelNo=\"S146 (HP)\"),6,\"\")","v":""},"S140","Top Glass Radius",{"$f":"CMR!$N$13","v":{"$error":"#DIV/0!"}}]
[{"$f":"IF(OR(ModelNo=\"S140\",ModelNo=\"S140 (HP)\",ModelNo=\"S144\",ModelNo=\"S144 (HP)\",ModelNo=\"S146\",ModelNo=\"S146 (HP)\"),7,\"\")","v":""},"S140","Top Glass Width",{"$f":"Frame_Width-(2*EXT)","v":0}]
[{"$f":"IF(OR(ModelNo=\"S140\",ModelNo=\"S140 (HP)\",ModelNo=\"S144\",ModelNo=\"S144 (HP)\",ModelNo=\"S146\",ModelNo=\"S146 (HP)\"),8,\"\")","v":""},"S140","Top Glass Height",{"$f":"CMR!$L$15","v":-0.51370000000000005}]
[{"$f":"IF(OR(ModelNo=\"S140\",ModelNo=\"S140 (HP)\",ModelNo=\"S144\",ModelNo=\"S144 (HP)\",ModelNo=\"S146\",ModelNo=\"S146 (HP)\"),9,\"\")","v":""},"S140","Top Glass Leg Height",{"$f":"CMR!$N$16","v":{"$error":"#DIV/0!"}}]
[{"$f":"IF(OR(ModelNo=\"S140\",ModelNo=\"S140 (HP)\",ModelNo=\"S144\",ModelNo=\"S144 (HP)\",ModelNo=\"S146\",ModelNo=\"S146 (HP)\"),10,\"\")","v":""},"S140","Astragal Length",{"$f":"IF(EXTSELECT=8,TRUNC((Frame_Width-2.875)*16+0.5)/16,IF(EXTSELECT=7,TRUNC((Frame_Width-2.95)*16+0.5)/16,IF(EXTSELECT=6,TRUNC((Frame_Width-2.868)*16+0.5)/16,IF(OR(EXTSELECT=4,EXTSELECT=5),TRUNC((Frame_Width-1.218)*16+0.5)/16,TRUNC((Frame_Width-4.125)*16+0.5)/16))))","v":-4.0625}]
[{"$f":"IF(OR(ModelNo=\"S140\",ModelNo=\"S140 (HP)\",ModelNo=\"S144\",ModelNo=\"S144 (HP)\",ModelNo=\"S146\",ModelNo=\"S146 (HP)\"),11,\"\")","v":""},"S140","Screen Width",{"$f":"IF(OR(EXTSELECT=7,EXTSELECT=8),Frame_Width-3.3125,IF(OR(EXTSELECT=4,EXTSELECT=5),Frame_Width-1.75,IF(EXTSELECT=6,Frame_Width-3.6875,Frame_Width-4.5)))","v":-4.5}]
[{"$f":"IF(OR(ModelNo=\"S140\",ModelNo=\"S140 (HP)\",ModelNo=\"S144\",ModelNo=\"S144 (HP)\",ModelNo=\"S146\",ModelNo=\"S146 (HP)\"),12,\"\")","v":""},"S140","Screen Height",{"$f":"IF(OR(EXTSELECT=2,EXTSELECT=3),CDIMS140-1.3125,IF(EXTSELECT=6,CDIMS140-0.75,IF(EXTSELECT=7,CDIMS140-1.46875,IF(EXTSELECT=8,CDIMS140-1.75,CDIMS140-1.1875))))","v":-1.1875}]
[{"$f":"IF(OR(ModelNo=\"S140\",ModelNo=\"S140 (HP)\",ModelNo=\"S144\",ModelNo=\"S144 (HP)\",ModelNo=\"S146\",ModelNo=\"S146 (HP)\"),13,\"\")","v":""},"S140","Bottom Sash Weight",{"$f":"IF(ISERROR(BTM_WGT&\" \"&\"lb\"),\"N/A\",BTM_WGT&\" \"&\"lb\")","v":"N/A"}]
[{"$f":"IF(OR(ModelNo=\"S140\",ModelNo=\"S140 (HP)\",ModelNo=\"S144\",ModelNo=\"S144 (HP)\",ModelNo=\"S146\",ModelNo=\"S146 (HP)\"),14,\"\")","v":""},"S140","Balance Size",{"$f":"IF(ISERROR((VLOOKUP(BTM_WGT,CFB,2,FALSE))&(VLOOKUP(BTM_WGT,CFB,3,FALSE))),\"N/A\",(VLOOKUP(BTM_WGT,CFB,2,FALSE))&(VLOOKUP(BTM_WGT,CFB,3,FALSE)))","v":"N/A"}]
[{"$f":"IF(OR(ModelNo=\"S140\",ModelNo=\"S140 (HP)\",ModelNo=\"S144\",ModelNo=\"S144 (HP)\",ModelNo=\"S146\",ModelNo=\"S146 (HP)\"),15,\"\")","v":""},"S140","Egress Opening Width",{"$f":"IF(ISERROR(EW),\"N/A\",EW)","v":"N/A"}]
[{"$f":"IF(OR(ModelNo=\"S140\",ModelNo=\"S140 (HP)\",ModelNo=\"S144\",ModelNo=\"S144 (HP)\",ModelNo=\"S146\",ModelNo=\"S146 (HP)\"),16,\"\")","v":""},"S140","Egress Opening Height",{"$f":"IF(ISERROR(EH),\"N/A\",EH)","v":"N/A"}]
[{"$f":"IF(OR(ModelNo=\"S140\",ModelNo=\"S140 (HP)\",ModelNo=\"S144\",ModelNo=\"S144 (HP)\",ModelNo=\"S146\",ModelNo=\"S146 (HP)\"),17,\"\")","v":""},"S140","Egress Opening Area (sq.ft.)",{"$f":"(D897*D898)/144","v":{"$error":"#VALUE!"}}]
[{"$f":"IF(OR(ModelNo=\"0161\",ModelNo=\"0961\",ModelNo=\"8061\"),1,\"\")","v":""},"0161","Sash Width",{"$f":"Frame_Width-2","v":-2}]
[{"$f":"IF(OR(ModelNo=\"0161\",ModelNo=\"0961\",ModelNo=\"8061\"),2,\"\")","v":""},"0161","Sash Height",{"$f":"Frame_Height-2","v":-2}]
[{"$f":"IF(OR(ModelNo=\"0161\",ModelNo=\"0961\",ModelNo=\"8061\"),3,\"\")","v":""},"0161","Glass Width",{"$f":"Frame_Width-5.125","v":-5.125}]
[{"$f":"IF(OR(ModelNo=\"0161\",ModelNo=\"0961\",ModelNo=\"8061\"),4,\"\")","v":""},"0161","Glass Height",{"$f":"Frame_Height-5.125","v":-5.125}]
[{"$f":"IF(OR(ModelNo=\"0161\",ModelNo=\"0961\",ModelNo=\"8061\"),5,\"\")","v":""},"0161","Screen Width",{"$f":"Frame_Width-4.625","v":-4.625}]
[{"$f":"IF(OR(ModelNo=\"0161\",ModelNo=\"0961\",ModelNo=\"8061\"),6,\"\")","v":""},"0161","Screen Height",{"$f":"Frame_Height-4.625","v":-4.625}]
[{"$f":"IF(OR(ModelNo=\"0162\",ModelNo=\"0962\",ModelNo=\"8062\"),1,\"\")","v":""},"0162","Sash Width",{"$f":"(Frame_Width/2)-2","v":-2}]
[{"$f":"IF(OR(ModelNo=\"0162\",ModelNo=\"0962\",ModelNo=\"8062\"),2,\"\")","v":""},"0162","Sash Height",{"$f":"Frame_Height-2","v":-2}]
[{"$f":"IF(OR(ModelNo=\"0162\",ModelNo=\"0962\",ModelNo=\"8062\"),2,\"\")","v":""},"0162","Glass Width",{"$f":"(Frame_Width/2)-5.125","v":-5.125}]
[{"$f":"IF(OR(ModelNo=\"0162\",ModelNo=\"0962\",ModelNo=\"8062\"),3,\"\")","v":""},"0162","Glass Height",{"$f":"Frame_Height-5.125","v":-5.125}]
[{"$f":"IF(OR(ModelNo=\"0162\",ModelNo=\"0962\",ModelNo=\"8062\"),4,\"\")","v":""},"0162","Screen Width",{"$f":"(Frame_Width/2)-4.625","v":-4.625}]
[{"$f":"IF(OR(ModelNo=\"0162\",ModelNo=\"0962\",ModelNo=\"8062\"),5,\"\")","v":""},"0162","Screen Height",{"$f":"Frame_Height-4.625","v":-4.625}]
[{"$f":"IF(OR(ModelNo=\"0163\",ModelNo=\"0963\",ModelNo=\"8063\"),1,\"\")","v":""},"0163","Operating Sash Width",{"$f":"(Frame_Width/4)-2","v":-2}]
[{"$f":"IF(OR(ModelNo=\"0163\",ModelNo=\"0963\",ModelNo=\"8063\"),2,\"\")","v":""},"0163","Operating Sash Height",{"$f":"Frame_Height-2","v":-2}]
[{"$f":"IF(OR(ModelNo=\"0163\",ModelNo=\"0963\",ModelNo=\"8063\"),3,\"\")","v":""},"0163","Fixed Frame Width",{"$f":"Frame_Width-(2*(Frame_Width/4))","v":0}]
[{"$f":"IF(OR(ModelNo=\"0163\",ModelNo=\"0963\",ModelNo=\"8063\"),4,\"\")","v":""},"0163","Fixed Frame Height",{"$f":"Frame_Height","v":0}]
[{"$f":"IF(OR(ModelNo=\"0163\",ModelNo=\"0963\",ModelNo=\"8063\"),5,\"\")","v":""},"0163","Operating Sash Glass Width",{"$f":"(Frame_Width/4)-5.125","v":-5.125}]
[{"$f":"IF(OR(ModelNo=\"0163\",ModelNo=\"0963\",ModelNo=\"8063\"),6,\"\")","v":""},"0163","Operating Sash Glass Height",{"$f":"Frame_Height-5.125","v":-5.125}]
[{"$f":"IF(OR(ModelNo=\"0163\",ModelNo=\"0963\",ModelNo=\"8063\"),7,\"\")","v":""},"0163","Fixed Glass Width",{"$f":"(Frame_Width-(2*Frame_Width/4))-5.125","v":-5.125}]
[{"$f":"IF(OR(ModelNo=\"0163\",ModelNo=\"0963\",ModelNo=\"8063\"),8,\"\")","v":""},"0163","Fixed Glass Height",{"$f":"Frame_Height-5.125","v":-5.125}]
[{"$f":"IF(OR(ModelNo=\"0163\",ModelNo=\"0963\",ModelNo=\"8063\"),9,\"\")","v":""},"0163","Screen Width",{"$f":"(Frame_Width/4)-4.625","v":-4.625}]
[{"$f":"IF(OR(ModelNo=\"0163\",ModelNo=\"0963\",ModelNo=\"8063\"),10,\"\")","v":""},"0163","Screen Height",{"$f":"Frame_Height-4.625","v":-4.625}]
[{"$f":"IF(OR(ModelNo=\"0164\",ModelNo=\"0964\",ModelNo=\"8064\"),1,\"\")","v":""},"0164","Glass Width",{"$f":"Frame_Width-5.125","v":-5.125}]
[{"$f":"IF(OR(ModelNo=\"0164\",ModelNo=\"0964\",ModelNo=\"8064\"),2,\"\")","v":""},"0164","Glass Height",{"$f":"Frame_Height-5.125","v":-5.125}]
[{"$f":"IF(OR(ModelNo=\"0164\",ModelNo=\"0964\",ModelNo=\"8064\"),3,\"\")","v":""},"0164","Glass Area (sq.ft.)",{"$f":"(D922*D923)/144","v":0.1824001736111111}]
[{"$f":"IF(OR(ModelNo=\"0169\",ModelNo=\"0969\",ModelNo=\"8069\"),1,\"\")","v":""},"0169","Operating Sash Width",{"$f":"(Frame_Width/3)-2","v":-2}]
[{"$f":"IF(OR(ModelNo=\"0169\",ModelNo=\"0969\",ModelNo=\"8069\"),2,\"\")","v":""},"0169","Operating Sash Height",{"$f":"Frame_Height-2","v":-2}]
[{"$f":"IF(OR(ModelNo=\"0169\",ModelNo=\"0969\",ModelNo=\"8069\"),3,\"\")","v":""},"0169","Fixed Frame Width",{"$f":"Frame_Width-(2*(Frame_Width/3))","v":0}]
[{"$f":"IF(OR(ModelNo=\"0169\",ModelNo=\"0969\",ModelNo=\"8069\"),4,\"\")","v":""},"0169","Fixed Frame Height",{"$f":"Frame_Height","v":0}]
[{"$f":"IF(OR(ModelNo=\"0169\",ModelNo=\"0969\",ModelNo=\"8069\"),5,\"\")","v":""},"0169","Operating Sash Glass Width",{"$f":"(Frame_Width/3)-5.125","v":-5.125}]
[{"$f":"IF(OR(ModelNo=\"0169\",ModelNo=\"0969\",ModelNo=\"8069\"),6,\"\")","v":""},"0169","Operating Sash Glass Height",{"$f":"Frame_Height-5.125","v":-5.125}]
[{"$f":"IF(OR(ModelNo=\"0169\",ModelNo=\"0969\",ModelNo=\"8069\"),7,\"\")","v":""},"0169","Fixed Glass Width",{"$f":"(Frame_Width-(2*Frame_Width/3))-5.125","v":-5.125}]
[{"$f":"IF(OR(ModelNo=\"0169\",ModelNo=\"0969\",ModelNo=\"8069\"),8,\"\")","v":""},"0169","Fixed Glass Height",{"$f":"Frame_Height-5.125","v":-5.125}]
[{"$f":"IF(OR(ModelNo=\"0169\",ModelNo=\"0969\",ModelNo=\"8069\"),9,\"\")","v":""},"0169","Screen Width",{"$f":"(Frame_Width/3)-4.625","v":-4.625}]
[{"$f":"IF(OR(ModelNo=\"0169\",ModelNo=\"0969\",ModelNo=\"8069\"),10,\"\")","v":""},"0169","Screen Height",{"$f":"Frame_Height-4.625","v":-4.625}]
[{"$f":"IF(ModelNo=B935,1,\"\")","v":""},"V100","Bottom Sash Width",{"$f":"TRUNC((Frame_Width-2.188)*32+0.5)/32","v":-2.15625}]
[{"$f":"IF(ModelNo=B936,2,\"\")","v":""},"V100","Bottom Sash Height",{"$f":"TRUNC(((CMR!$L$100-1.0625)*16+0.5))/16","v":-1}]
[{"$f":"IF(ModelNo=B937,3,\"\")","v":""},"V100","Bottom Glass Width",{"$f":"CMR!$L$103","v":-3.4375}]
[{"$f":"IF(ModelNo=B938,4,\"\")","v":""},"V100","Bottom Glass Height",{"$f":"CMR!$L$105","v":-2.28125}]
[{"$f":"IF(ModelNo=B939,5,\"\")","v":""},"V100","Top Glass Width",{"$f":"CMR!$L$102","v":-3.46875}]
[{"$f":"IF(ModelNo=B940,6,\"\")","v":""},"V100","Top Glass Height",{"$f":"CMR!$L$104","v":-2.125}]
[{"$f":"IF(ModelNo=B941,7,\"\")","v":""},"V100","Astragal Length",{"$f":"Frame_Width-2.875","v":-2.875}]
[{"$f":"IF(ModelNo=B942,8,\"\")","v":""},"V100","Screen Width",{"$f":"Frame_Width-3.3125","v":-3.3125}]
[{"$f":"IF(ModelNo=B943,9,\"\")","v":""},"V100","Screen Height",{"$f":"TRUNC((CMR!$L$100-1.678)*32+0.5)/32-0.0625","v":-1.71875}]
[{"$f":"IF(ModelNo=B944,10,\"\")","v":""},"V100","Bottom Sash Weight",{"$f":"IF(ISERROR(BTM_WGT&\" \"&\"lb\"),\"N/A\",BTM_WGT&\" \"&\"lb\")","v":"N/A"}]
[{"$f":"IF(ModelNo=B945,11,\"\")","v":""},"V100","Balance Size",{"$f":"IF(V_BOTTBALANCE=0,\"N/A\",V_BOTTBALANCE)","v":{"$error":"#N/A"}}]
[{"$f":"IF(ModelNo=B946,12,\"\")","v":""},"V100","Egress Opening Width",{"$f":"IF(ISERROR(EW),\"N/A\",EW)","v":"N/A"}]
[{"$f":"IF(ModelNo=B947,13,\"\")","v":""},"V100","Egress Opening Height",{"$f":"IF(ISERROR(EH),\"N/A\",EH)","v":"N/A"}]
[{"$f":"IF(ModelNo=B948,14,\"\")","v":""},"V100","Egress Opening Area (sq.ft.)",{"$f":"IF(ISERROR(EO),\"N/A\",VEO)","v":"N/A"}]
[{"$f":"IF(ModelNo=B949,1,\"\")","v":""},"V101","Top Sash Width",{"$f":"Frame_Width-3.4375","v":-3.4375}]
[{"$f":"IF(ModelNo=B950,2,\"\")","v":""},"V101","Top Sash Height",{"$f":"CMR!$L$115-1.5625","v":-1.5625}]
[{"$f":"IF(ModelNo=B951,3,\"\")","v":""},"V101","Bottom Sash Width",{"$f":"Frame_Width-2.1875","v":-2.1875}]
[{"$f":"IF(ModelNo=B952,4,\"\")","v":""},"V101","Bottom Sash Height",{"$f":"CMR!$L$116-0.3125","v":-0.3125}]
[{"$f":"IF(ModelNo=B953,5,\"\")","v":""},"V101","Top Glass Width",{"$f":"CMR!$L$118","v":-4.6875}]
[{"$f":"IF(ModelNo=B954,6,\"\")","v":""},"V101","Top Glass Height",{"$f":"CMR!$L$120","v":-2.875}]
[{"$f":"IF(ModelNo=B955,7,\"\")","v":""},"V101","Bottom Glass Width",{"$f":"CMR!$L$119","v":-3.4375}]
[{"$f":"IF(ModelNo=B956,8,\"\")","v":""},"V101","Bottom Glass Height",{"$f":"CMR!$L$121","v":-1.625}]
[{"$f":"IF(ModelNo=B957,9,\"\")","v":""},"V101","Screen Width",{"$f":"Frame_Width-3.75","v":-3.75}]
[{"$f":"IF(ModelNo=B958,10,\"\")","v":""},"V101","Screen Height",{"$f":"IF(Screen=\"F\",Frame_Height-2.9375,CMR!$L$116-0.25)","v":-0.25}]
[{"$f":"IF(ModelNo=B959,11,\"\")","v":""},"V101","Top Sash Weight (Plus 5 lb)",{"$f":"IF(ISERROR(TOP_WGT&\" \"&\"lb\"),\"N/A\",TOP_WGT&\" \"&\"lb\")","v":"N/A"}]
[{"$f":"IF(ModelNo=B960,12,\"\")","v":""},"V101","Top Balance Size",{"$f":"IF(V_TOPBALANCE=0,\"N/A\",V_TOPBALANCE)","v":{"$error":"#N/A"}}]
[{"$f":"IF(ModelNo=B961,13,\"\")","v":""},"V101","Bottom Sash Weight",{"$f":"IF(ISERROR(BTM_WGT&\" \"&\"lb\"),\"N/A\",BTM_WGT&\" \"&\"lb\")","v":"N/A"}]
[{"$f":"IF(ModelNo=B962,14,\"\")","v":""},"V101","Bottom Balance Size",{"$f":"IF(V_BOTTBALANCE=0,\"N/A\",V_BOTTBALANCE)","v":{"$error":"#N/A"}}]
[{"$f":"IF(ModelNo=B963,15,\"\")","v":""},"V101","Egress Opening Width",{"$f":"IF(ISERROR(EW),\"N/A\",EW)","v":"N/A"}]
[{"$f":"IF(ModelNo=B964,16,\"\")","v":""},"V101","Egress Opening Height",{"$f":"IF(ISERROR(EH),\"N/A\",EH)","v":"N/A"}]
[{"$f":"IF(ModelNo=B965,17,\"\")","v":""},"V101","Egress Opening Area (sq.ft.)",{"$f":"IF(ISERROR(EO),\"N/A\",VEO)","v":"N/A"}]
[{"$f":"IF(ModelNo=B966,1,\"\")","v":""},"V200","Bottom Sash Width",{"$f":"TRUNC((Frame_Width-2.188)*32+0.5)/32","v":-2.15625}]
[{"$f":"IF(ModelNo=B967,2,\"\")","v":""},"V200","Bottom Sash Height",{"$f":"TRUNC(((CMR!$L$125-0.8125)*32+0.5))/32-0.0625","v":-0.84375}]
[{"$f":"IF(ModelNo=B968,3,\"\")","v":""},"V200","Bottom Glass Width",{"$f":"CMR!$L$128","v":-3.5}]
[{"$f":"IF(ModelNo=B969,4,\"\")","v":""},"V200","Bottom Glass Height",{"$f":"CMR!$L$130","v":-2.25}]
[{"$f":"IF(ModelNo=B970,5,\"\")","v":""},"V200","Top Glass Width",{"$f":"CMR!$L$127","v":-3.53125}]
[{"$f":"IF(ModelNo=B971,6,\"\")","v":""},"V200","Top Glass Height",{"$f":"CMR!$L$129","v":-2.21875}]
[{"$f":"IF(ModelNo=B972,7,\"\")","v":""},"V200","Astragal Length",{"$f":"TRUNC((Frame_Width-2.95)*16+0.5)/16","v":-2.875}]
[{"$f":"IF(ModelNo=B973,8,\"\")","v":""},"V200","Screen Width",{"$f":"Frame_Width-3.5625","v":-3.5625}]
[{"$f":"IF(ModelNo=B974,9,\"\")","v":""},"V200","Screen Height",{"$f":"TRUNC((CMR!$L$125-1.4375)*32+0.5)/32","v":-1.40625}]
[{"$f":"IF(ModelNo=B975,10,\"\")","v":""},"V200","Bottom Sash Weight",{"$f":"IF(ISERROR(BTM_WGT&\" \"&\"lb\"),\"N/A\",BTM_WGT&\" \"&\"lb\")","v":"N/A"}]
[{"$f":"IF(ModelNo=B976,11,\"\")","v":""},"V200","Balance Size",{"$f":"IF(V_BOTTBALANCE=0,\"N/A\",V_BOTTBALANCE)","v":{"$error":"#N/A"}}]
[{"$f":"IF(ModelNo=B977,12,\"\")","v":""},"V200","Egress Opening Width",{"$f":"IF(ISERROR(EW),\"N/A\",EW)","v":"N/A"}]
[{"$f":"IF(ModelNo=B978,13,\"\")","v":""},"V200","Egress Opening Height",{"$f":"IF(ISERROR(EH),\"N/A\",EH)","v":"N/A"}]
[{"$f":"IF(ModelNo=B979,14,\"\")","v":""},"V200","Egress Opening Area (sq.ft.)",{"$f":"IF(ISERROR(EO),\"N/A\",VEO)","v":"N/A"}]
[{"$f":"IF(ModelNo=B980,1,\"\")","v":""},"V102","Sash Width",{"$f":"(Frame_Width/2)-0.6875","v":-0.6875}]
[{"$f":"IF(ModelNo=B981,2,\"\")","v":""},"V102","Sash Height",{"$f":"Frame_Height-2.1875","v":-2.1875}]
[{"$f":"IF(ModelNo=B982,3,\"\")","v":""},"V102","Sash Glass Width",{"$f":"((Frame_Width/2)-0.6875)-1.375","v":-2.0625}]
[{"$f":"IF(ModelNo=B983,4,\"\")","v":""},"V102","Sash Glass Height",{"$f":"Frame_Height-3.5","v":-3.5}]
[{"$f":"IF(ModelNo=B984,5,\"\")","v":""},"V102","Fixed Glass Width",{"$f":"(Frame_Width/2)-2.0625","v":-2.0625}]
[{"$f":"IF(ModelNo=B985,6,\"\")","v":""},"V102","Fixed Glass Height",{"$f":"Frame_Height-3.5","v":-3.5}]
[{"$f":"IF(ModelNo=B986,7,\"\")","v":""},"V102","Astragal Length",{"$f":"Frame_Height-2.875","v":-2.875}]
[{"$f":"IF(ModelNo=B987,8,\"\")","v":""},"V102","Roller Track Length",{"$f":"Frame_Width-1","v":-1}]
[{"$f":"IF(ModelNo=B988,9,\"\")","v":""},"V102","Screen Width",{"$f":"TRUNC(((Frame_Width/2)-2.5625)*16+0.5)/16","v":-2.5}]
[{"$f":"IF(ModelNo=B989,10,\"\")","v":""},"V102","Screen Height",{"$f":"TRUNC((Frame_Height-3.375)*16+0.5)/16","v":-3.3125}]
[{"$f":"IF(ModelNo=B990,11,\"\")","v":""},"V102","Egress Opening Width",{"$f":"TRUNC(((Frame_Width-D980)-4.5)*32+0.5)/32","v":-3.78125}]
[{"$f":"IF(ModelNo=B991,12,\"\")","v":""},"V102","Egress Opening Height",{"$f":"TRUNC((Frame_Height-6)*32+0.5)/32","v":-5.96875}]
[{"$f":"IF(ModelNo=B992,13,\"\")","v":""},"V102","Egress Opening Area (sq.ft.)",{"$f":"(D990*D991)/144","v":0.15673149956597221}]
[{"$f":"IF(ModelNo=B993,1,\"\")","v":""},"V103","Sash Width",{"$f":"TRUNC((Frame_Width/4+0.219)*16+0.5)/16","v":0.25}]
[{"$f":"IF(ModelNo=B994,2,\"\")","v":""},"V103","Sash Height",{"$f":"TRUNC((Frame_Height-2.1875)*16+0.5)/16","v":-2.125}]
[{"$f":"IF(ModelNo=B995,3,\"\")","v":""},"V103","Sash Glass Width",{"$f":"TRUNC(((TRUNC((Frame_Width/4+0.219)*16+0.5)/16)-1.3125)*16+0.5)/16","v":-1}]
[{"$f":"IF(ModelNo=B996,4,\"\")","v":""},"V103","Sash Glass Height",{"$f":"(TRUNC((Frame_Height-2.1875)*16+0.5)/16)-1.3125","v":-3.4375}]
[{"$f":"IF(ModelNo=B997,5,\"\")","v":""},"V103","Fixed Glass Width",{"$f":"TRUNC((Frame_Width/2-2.219)*16+0.5)/16","v":-2.1875}]
[{"$f":"IF(ModelNo=B998,6,\"\")","v":""},"V103","Fixed Glass Height",{"$f":"TRUNC((Frame_Height-3.5)*16+0.5)/16","v":-3.4375}]
[{"$f":"IF(ModelNo=B999,7,\"\")","v":""},"V103","Astragal Length",{"$f":"Frame_Height-2.875","v":-2.875}]
[{"$f":"IF(ModelNo=B1000,8,\"\")","v":""},"V103","Roller Track Length",{"$f":"Frame_Width-0.75","v":-0.75}]
[{"$f":"IF(ModelNo=B1001,9,\"\")","v":""},"V103","Screen Width",{"$f":"TRUNC((Frame_Width/4-1.719)*16+0.5)/16","v":-1.6875}]
[{"$f":"IF(ModelNo=B1002,10,\"\")","v":""},"V103","Screen Height",{"$f":"Frame_Height-3.375","v":-3.375}]
[{"$f":"IF(ModelNo=B1003,11,\"\")","v":""},"V103","Egress Opening Width",{"$f":"TRUNC(((Frame_Width/3)-3.25)*32+0.5)/32","v":-3.21875}]
[{"$f":"IF(ModelNo=B1004,12,\"\")","v":""},"V103","Egress Opening Height",{"$f":"TRUNC((Frame_Height-6)*32+0.5)/32","v":-5.96875}]
[{"$f":"IF(ModelNo=B1005,13,\"\")","v":""},"V103","Egress Opening Area (sq.ft.)",{"$f":"(D1003*D1004)/144","v":0.13341606987847221}]
[{"$f":"IF(OR(ModelNo=\"V104\",ModelNo=\"V114\",ModelNo=\"V204\"),1,\"\")","v":""},"V104","Glass Width",{"$f":"Frame_Width-3.5","v":-3.5}]
[{"$f":"IF(OR(ModelNo=\"V104\",ModelNo=\"V114\",ModelNo=\"V204\"),2,\"\")","v":""},"V104","Glass Height",{"$f":"Frame_Height-3.5","v":-3.5}]
[{"$f":"IF(OR(ModelNo=\"V104\",ModelNo=\"V114\",ModelNo=\"V204\"),3,\"\")","v":""},"V104","Glass Area (sq.ft.)",{"$f":"(D1006*D1007)/144","v":8.5069444444444448E-2}]
[{"$f":"IF(ModelNo=B1009,1,\"\")","v":""},"V109","Sash Width",{"$f":"TRUNC((Frame_Width/3-0.188)*16+0.5)/16","v":-0.125}]
[{"$f":"IF(ModelNo=B1010,2,\"\")","v":""},"V109","Sash Height",{"$f":"TRUNC((Frame_Height-2.1875)*16+0.5)/16","v":-2.125}]
[{"$f":"IF(ModelNo=B1011,3,\"\")","v":""},"V109","Sash Glass Width",{"$f":"TRUNC((Frame_Width/3-1.5)*16+0.5)/16","v":-1.4375}]
[{"$f":"IF(ModelNo=B1012,4,\"\")","v":""},"V109","Sash Glass Height",{"$f":"(TRUNC((Frame_Height-2.1875)*16+0.5)/16)-1.3125","v":-3.4375}]
[{"$f":"IF(ModelNo=B1013,5,\"\")","v":""},"V109","Fixed Glass Width",{"$f":"TRUNC((Frame_Width/3-1.5)*16+0.5)/16","v":-1.4375}]
[{"$f":"IF(ModelNo=B1014,6,\"\")","v":""},"V109","Fixed Glass Height",{"$f":"TRUNC((Frame_Height-3.5)*16+0.5)/16","v":-3.4375}]
[{"$f":"IF(ModelNo=B1015,7,\"\")","v":""},"V109","Astragal Length",{"$f":"Frame_Height-2.875","v":-2.875}]
[{"$f":"IF(ModelNo=B1016,8,\"\")","v":""},"V109","Roller Track Length",{"$f":"Frame_Width-0.75","v":-0.75}]
[{"$f":"IF(ModelNo=B1017,9,\"\")","v":""},"V109","Screen Width",{"$f":"TRUNC((Frame_Width/3-2)*16+0.5)/16","v":-1.9375}]
[{"$f":"IF(ModelNo=B1018,10,\"\")","v":""},"V109","Screen Height",{"$f":"Frame_Height-3.375","v":-3.375}]
[{"$f":"IF(ModelNo=B1019,11,\"\")","v":""},"V109","Egress Opening Width",{"$f":"TRUNC(((Frame_Width/3)-3.25)*32+0.5)/32","v":-3.21875}]
[{"$f":"IF(ModelNo=B1020,12,\"\")","v":""},"V109","Egress Opening Height",{"$f":"TRUNC((Frame_Height-6)*32+0.5)/32","v":-5.96875}]
[{"$f":"IF(ModelNo=B1021,13,\"\")","v":""},"V109","Egress Opening Area (sq.ft.)",{"$f":"(D1019*D1020)/144","v":0.13341606987847221}]
[{"$f":"IF(ModelNo=B1022,1,\"\")","v":""},"V202","Sash Width",{"$f":"(Frame_Width/2)-0.9375","v":-0.9375}]
[{"$f":"IF(ModelNo=B1023,2,\"\")","v":""},"V202","Sash Height",{"$f":"Frame_Height-2.1875","v":-2.1875}]
[{"$f":"IF(ModelNo=B1024,3,\"\")","v":""},"V202","Sash Glass Width",{"$f":"((Frame_Width/2)-0.9375)-1.3125","v":-2.25}]
[{"$f":"IF(ModelNo=B1025,4,\"\")","v":""},"V202","Sash Glass Height",{"$f":"Frame_Height-3.5","v":-3.5}]
[{"$f":"IF(ModelNo=B1026,5,\"\")","v":""},"V202","Fixed Glass Width",{"$f":"(Frame_Width/2)-2.25","v":-2.25}]
[{"$f":"IF(ModelNo=B1027,6,\"\")","v":""},"V202","Fixed Glass Height",{"$f":"Frame_Height-3.5","v":-3.5}]
[{"$f":"IF(ModelNo=B1028,7,\"\")","v":""},"V202","Astragal Length",{"$f":"TRUNC((Frame_Height-2.95)*16+0.5)/16","v":-2.875}]
[{"$f":"IF(ModelNo=B1029,8,\"\")","v":""},"V202","Roller Track Length",{"$f":"TRUNC((Frame_Width-1.1875)*16+0.5)/16","v":-1.125}]
[{"$f":"IF(ModelNo=B1030,9,\"\")","v":""},"V202","Screen Width",{"$f":"TRUNC(((Frame_Width/2)-2.5)*16+0.5)/16","v":-2.4375}]
[{"$f":"IF(ModelNo=B1031,10,\"\")","v":""},"V202","Screen Height",{"$f":"TRUNC((Frame_Height-3.375)*16+0.5)/16","v":-3.3125}]
[{"$f":"IF(ModelNo=B1032,11,\"\")","v":""},"V202","Egress Opening Width",{"$f":"TRUNC(((Frame_Width/2)-4.8125)*32+0.5)/32","v":-4.78125}]
[{"$f":"IF(ModelNo=B1033,12,\"\")","v":""},"V202","Egress Opening Height",{"$f":"TRUNC((Frame_Height-6)*32+0.5)/32","v":-5.96875}]
[{"$f":"IF(ModelNo=B1034,13,\"\")","v":""},"V202","Egress Opening Area (sq.ft.)",{"$f":"(D1032*D1033)/144","v":0.19818115234375}]
[{"$f":"IF(ModelNo=B1035,1,\"\")","v":""},"V203","Sash Width",{"$f":"(Frame_Width/4)-0.0625","v":-6.25E-2}]
[{"$f":"IF(ModelNo=B1036,2,\"\")","v":""},"V203","Sash Height",{"$f":"Frame_Height-2.1875","v":-2.1875}]
[{"$f":"IF(ModelNo=B1037,3,\"\")","v":""},"V203","Sash Glass Width",{"$f":"(Frame_Width/4)-1.375","v":-1.375}]
[{"$f":"IF(ModelNo=B1038,4,\"\")","v":""},"V203","Sash Glass Height",{"$f":"Frame_Height-3.5","v":-3.5}]
[{"$f":"IF(ModelNo=B1039,5,\"\")","v":""},"V203","Fixed Glass Width",{"$f":"(Frame_Width/2)-2.75","v":-2.75}]
[{"$f":"IF(ModelNo=B1040,6,\"\")","v":""},"V203","Fixed Glass Height",{"$f":"Frame_Height-3.5","v":-3.5}]
[{"$f":"IF(ModelNo=B1041,7,\"\")","v":""},"V203","Astragal Length",{"$f":"TRUNC((Frame_Height-2.95)*16+0.5)/16","v":-2.875}]
[{"$f":"IF(ModelNo=B1042,8,\"\")","v":""},"V203","Roller Track Length",{"$f":"TRUNC((Frame_Width-1.1875)*16+0.5)/16","v":-1.125}]
[{"$f":"IF(ModelNo=B1043,9,\"\")","v":""},"V203","Screen Width",{"$f":"TRUNC((Frame_Width/4-1.625)*16+0.5)/16","v":-1.5625}]
[{"$f":"IF(ModelNo=B1044,10,\"\")","v":""},"V203","Screen Height",{"$f":"TRUNC((Frame_Height-3.375)*16+0.5)/16","v":-3.3125}]
[{"$f":"IF(ModelNo=B1045,11,\"\")","v":""},"V203","Egress Opening Width",{"$f":"TRUNC(((Frame_Width/2)-4.8125)*32+0.5)/32","v":-4.78125}]
[{"$f":"IF(ModelNo=B1046,12,\"\")","v":""},"V203","Egress Opening Height",{"$f":"TRUNC((Frame_Height-6)*32+0.5)/32","v":-5.96875}]
[{"$f":"IF(ModelNo=B1047,13,\"\")","v":""},"V203","Egress Opening Area (sq.ft.)",{"$f":"(D1045*D1046)/144","v":0.19818115234375}]
[{"$f":"IF(ModelNo=B1048,1,\"\")","v":""},"V209","Sash Width",{"$f":"TRUNC((Frame_Width/3-0.521)*16+0.5)/16","v":-0.4375}]
[{"$f":"IF(ModelNo=B1049,2,\"\")","v":""},"V209","Sash Height",{"$f":"Frame_Height-2.1875","v":-2.1875}]
[{"$f":"IF(ModelNo=B1050,3,\"\")","v":""},"V209","Sash Glass Width",{"$f":"TRUNC((Frame_Width/3-1.833)*16+0.5)/16","v":-1.75}]
[{"$f":"IF(ModelNo=B1051,4,\"\")","v":""},"V209","Sash Glass Height",{"$f":"TRUNC((Frame_Height-3.5)*16+0.5)/16","v":-3.4375}]
[{"$f":"IF(ModelNo=B1052,5,\"\")","v":""},"V209","Fixed Glass Width",{"$f":"TRUNC((Frame_Width/3-1.833)*16+0.5)/16","v":-1.75}]
[{"$f":"IF(ModelNo=B1053,6,\"\")","v":""},"V209","Fixed Glass Height",{"$f":"TRUNC((Frame_Height-3.5)*16+0.5)/16","v":-3.4375}]
[{"$f":"IF(ModelNo=B1054,7,\"\")","v":""},"V209","Astragal Length",{"$f":"Frame_Height-2.875","v":-2.875}]
[{"$f":"IF(ModelNo=B1055,8,\"\")","v":""},"V209","Roller Track Length",{"$f":"TRUNC((Frame_Width-1.1875)*16+0.5)/16","v":-1.125}]
[{"$f":"IF(ModelNo=B1056,9,\"\")","v":""},"V209","Screen Width",{"$f":"TRUNC((Frame_Width/3-1.75)*16+0.5)/16","v":-1.6875}]
[{"$f":"IF(ModelNo=B1057,10,\"\")","v":""},"V209","Screen Height",{"$f":"Frame_Height-3.375","v":-3.375}]
[{"$f":"IF(ModelNo=B1058,11,\"\")","v":""},"V209","Egress Opening Width",{"$f":"TRUNC(((Frame_Width/3)-3.25)*32+0.5)/32","v":-3.21875}]
[{"$f":"IF(ModelNo=B1059,12,\"\")","v":""},"V209","Egress Opening Height",{"$f":"TRUNC((Frame_Height-6)*32+0.5)/32","v":-5.96875}]
[{"$f":"IF(ModelNo=B1060,13,\"\")","v":""},"V209","Egress Opening Area (sq.ft.)",{"$f":"(D1058*D1059)/144","v":0.13341606987847221}]
[{"$f":"IF(OR(ModelNo=\"5202\",ModelNo=\"5205\",ModelNo=\"5206\",ModelNo=\"5208\"),1,\"\")","v":""},"5202","Sash Width",{"$f":"TRUNC(((Frame_Width/2)-0.078)*16+0.5)/16","v":0}]
[{"$f":"IF(OR(ModelNo=\"5202\",ModelNo=\"5205\",ModelNo=\"5206\",ModelNo=\"5208\"),2,\"\")","v":""},"5202","Sash Height",{"$f":"TRUNC((Frame_Height-4.275)*16+0.5)/16","v":-4.1875}]
[{"$f":"IF(OR(ModelNo=\"5202\",ModelNo=\"5205\",ModelNo=\"5206\",ModelNo=\"5208\"),3,\"\")","v":""},"5202","Roller Track Length",{"$f":"TRUNC((Frame_Width-2.66)*16+0.5)/16","v":-2.625}]
[{"$f":"IF(OR(ModelNo=\"5202\",ModelNo=\"5205\",ModelNo=\"5206\",ModelNo=\"5208\"),4,\"\")","v":""},"5202","Glass Width",{"$f":"TRUNC(((Frame_Width/2)-5.393)*16+0.5)/16","v":-5.3125}]
[{"$f":"IF(OR(ModelNo=\"5202\",ModelNo=\"5205\",ModelNo=\"5206\",ModelNo=\"5208\"),5,\"\")","v":""},"5202","Glass Height",{"$f":"TRUNC((Frame_Height-9.59)*16+0.5)/16","v":-9.5}]
[{"$f":"IF(OR(ModelNo=\"5202\",ModelNo=\"5205\",ModelNo=\"5206\",ModelNo=\"5208\"),6,\"\")","v":""},"5202","Screen Width",{"$f":"TRUNC(((Frame_Width/2)-0.709)*16+0.5)/16","v":-0.625}]
[{"$f":"IF(OR(ModelNo=\"5202\",ModelNo=\"5205\",ModelNo=\"5206\",ModelNo=\"5208\"),7,\"\")","v":""},"5202","Screen Height",{"$f":"TRUNC((Frame_Height-3.886)*16+0.5)/16","v":-3.8125}]
[{"$f":"IF(OR(ModelNo=\"5202\",ModelNo=\"5205\",ModelNo=\"5206\",ModelNo=\"5208\"),8,\"\")","v":""},"5202","Egress Opening Width",{"$f":"TRUNC(((Frame_Width/2)-7.78)*16+0.5)/16","v":-7.6875}]
[{"$f":"IF(OR(ModelNo=\"5202\",ModelNo=\"5205\",ModelNo=\"5206\",ModelNo=\"5208\"),9,\"\")","v":""},"5202","Egress Opening Height",{"$f":"Frame_Height-5.25","v":-5.25}]
[{"$f":"IF(OR(ModelNo=\"5202\",ModelNo=\"5205\",ModelNo=\"5206\",ModelNo=\"5208\"),10,\"\")","v":""},"5202","Egress Opening Area (sq.ft.)",{"$f":"(D1068*D1069)/144","v":0.2802734375}]
[{"$f":"IF(OR(ModelNo=\"5203\",ModelNo=\"5209\",ModelNo=\"5210\",ModelNo=\"5212\"),1,\"\")","v":""},"5203","Sash Width",{"$f":"TRUNC(((Frame_Width/3)+0.853)*16+0.5)/16","v":0.875}]
[{"$f":"IF(OR(ModelNo=\"5203\",ModelNo=\"5209\",ModelNo=\"5210\",ModelNo=\"5212\"),2,\"\")","v":""},"5203","Sash Height",{"$f":"TRUNC((Frame_Height-4.275)*16+0.5)/16","v":-4.1875}]
[{"$f":"IF(OR(ModelNo=\"5203\",ModelNo=\"5209\",ModelNo=\"5210\",ModelNo=\"5212\"),3,\"\")","v":""},"5203","Roller Track Length",{"$f":"TRUNC((Frame_Width-2.66)*16+0.5)/16","v":-2.625}]
[{"$f":"IF(OR(ModelNo=\"5203\",ModelNo=\"5209\",ModelNo=\"5210\",ModelNo=\"5212\"),4,\"\")","v":""},"5203","Glass Width",{"$f":"TRUNC(((Frame_Width/3)-4.461)*16+0.5)/16","v":-4.375}]
[{"$f":"IF(OR(ModelNo=\"5203\",ModelNo=\"5209\",ModelNo=\"5210\",ModelNo=\"5212\"),5,\"\")","v":""},"5203","Glass Height",{"$f":"TRUNC((Frame_Height-9.59)*16+0.5)/16","v":-9.5}]
[{"$f":"IF(OR(ModelNo=\"5203\",ModelNo=\"5209\",ModelNo=\"5210\",ModelNo=\"5212\"),6,\"\")","v":""},"5203","Screen Width",{"$f":"TRUNC(((Frame_Width/3)+0.223)*16+0.5)/16","v":0.25}]
[{"$f":"IF(OR(ModelNo=\"5203\",ModelNo=\"5209\",ModelNo=\"5210\",ModelNo=\"5212\"),7,\"\")","v":""},"5203","Screen Height",{"$f":"TRUNC((Frame_Height-3.886)*16+0.5)/16","v":-3.8125}]
[{"$f":"IF(OR(ModelNo=\"5203\",ModelNo=\"5209\",ModelNo=\"5210\",ModelNo=\"5212\"),8,\"\")","v":""},"5203","Egress Opening Width",{"$f":"TRUNC(((Frame_Width/3)-6.75)*16+0.5)/16","v":-6.6875}]
[{"$f":"IF(OR(ModelNo=\"5203\",ModelNo=\"5209\",ModelNo=\"5210\",ModelNo=\"5212\"),9,\"\")","v":""},"5203","Egress Opening Height",{"$f":"Frame_Height-5.25","v":-5.25}]
[{"$f":"IF(OR(ModelNo=\"5203\",ModelNo=\"5209\",ModelNo=\"5210\",ModelNo=\"5212\"),10,\"\")","v":""},"5203","Egress Opening Area (sq.ft.)",{"$f":"(D1078*D1079)/144","v":0.24381510416666666}]
[{"$f":"IF(OR(ModelNo=\"6402\",ModelNo=\"6405\",ModelNo=\"6406\",ModelNo=\"6408\",ModelNo=\"6475\",ModelNo=\"8402\",ModelNo=\"8405\",ModelNo=\"8406\",ModelNo=\"8408\",ModelNo=\"8475\"),1,\"\")","v":""},"6402","Sash Width",{"$f":"IF(TYPE=2,TRUNC(((Frame_Width/2)+1)*16+0.5)/16,TRUNC(((Frame_Width/2)+0.1875)*16+0.5)/16)","v":0.1875}]
[{"$f":"IF(OR(ModelNo=\"6402\",ModelNo=\"6405\",ModelNo=\"6406\",ModelNo=\"6408\",ModelNo=\"6475\",ModelNo=\"8402\",ModelNo=\"8405\",ModelNo=\"8406\",ModelNo=\"8408\",ModelNo=\"8475\"),2,\"\")","v":""},"6402","Sash Height",{"$f":"Frame_Height-3.375","v":-3.375}]
[{"$f":"IF(OR(ModelNo=\"6402\",ModelNo=\"6405\",ModelNo=\"6406\",ModelNo=\"6408\",ModelNo=\"6475\",ModelNo=\"8402\",ModelNo=\"8405\",ModelNo=\"8406\",ModelNo=\"8408\",ModelNo=\"8475\"),3,\"\")","v":""},"6402","Operating Sash Roller Track Length",{"$f":"IF(TYPE=3,Frame_Width-8.1875,Frame_Width-4.0625)","v":-4.0625}]
[{"$f":"IF(OR(ModelNo=\"6402\",ModelNo=\"6405\",ModelNo=\"6406\",ModelNo=\"6408\",ModelNo=\"6475\",ModelNo=\"8402\",ModelNo=\"8405\",ModelNo=\"8406\",ModelNo=\"8408\",ModelNo=\"8475\"),4,\"\")","v":""},"6402","Screen Roller Track Length (Sill)",{"$f":"IF(TYPE=3,Frame_Width-2.25,\"N/A\")","v":"N/A"}]
[{"$f":"IF(OR(ModelNo=\"6402\",ModelNo=\"6405\",ModelNo=\"6406\",ModelNo=\"6408\",ModelNo=\"6475\",ModelNo=\"8402\",ModelNo=\"8405\",ModelNo=\"8406\",ModelNo=\"8408\",ModelNo=\"8475\"),5,\"\")","v":""},"6402","Screen Roller Track Length (Head)",{"$f":"Frame_Width-3.0625","v":-3.0625}]
[{"$f":"IF(OR(ModelNo=\"6402\",ModelNo=\"6405\",ModelNo=\"6406\",ModelNo=\"6408\",ModelNo=\"6475\",ModelNo=\"8402\",ModelNo=\"8405\",ModelNo=\"8406\",ModelNo=\"8408\",ModelNo=\"8475\"),6,\"\")","v":""},"6402","Fixed Panel Support",{"$f":"IF(TYPE=1,TRUNC(((Frame_Width/2)-0.8125)*16+0.5)/16,IF(TYPE=2,TRUNC(((Frame_Width/2))*32+0.5)/32,IF(TYPE=3,TRUNC(((Frame_Width/2)-10)*32+0.5)/32,\"\")))","v":-0.75}]
[{"$f":"IF(OR(ModelNo=\"6402\",ModelNo=\"6405\",ModelNo=\"6406\",ModelNo=\"6408\",ModelNo=\"6475\",ModelNo=\"8402\",ModelNo=\"8405\",ModelNo=\"8406\",ModelNo=\"8408\",ModelNo=\"8475\"),7,\"\")","v":""},"6402","Glass Width",{"$f":"IF(TYPE=2,TRUNC(((Frame_Width/2)-7.875)*16+0.5)/16,TRUNC(((Frame_Width/2)-5.1875)*16+0.5)/16)","v":-5.125}]
[{"$f":"IF(OR(ModelNo=\"6402\",ModelNo=\"6405\",ModelNo=\"6406\",ModelNo=\"6408\",ModelNo=\"6475\",ModelNo=\"8402\",ModelNo=\"8405\",ModelNo=\"8406\",ModelNo=\"8408\",ModelNo=\"8475\"),8,\"\")","v":""},"6402","Glass Height",{"$f":"IF(TYPE=1,TRUNC((Frame_Height-8.6875)*16+0.5)/16,IF(TYPE=2,TRUNC((Frame_Height-12.1875)*32+0.5)/32,IF(TYPE=3,TRUNC((Frame_Height-14.1875)*32+0.5)/32,\"\")))","v":-8.625}]
[{"$f":"IF(OR(ModelNo=\"6402\",ModelNo=\"6405\",ModelNo=\"6406\",ModelNo=\"6408\",ModelNo=\"6475\",ModelNo=\"8402\",ModelNo=\"8405\",ModelNo=\"8406\",ModelNo=\"8408\",ModelNo=\"8475\"),9,\"\")","v":""},"6402","Screen Width",{"$f":"(Frame_Width/2)-0.125","v":-0.125}]
[{"$f":"IF(OR(ModelNo=\"6402\",ModelNo=\"6405\",ModelNo=\"6406\",ModelNo=\"6408\",ModelNo=\"6475\",ModelNo=\"8402\",ModelNo=\"8405\",ModelNo=\"8406\",ModelNo=\"8408\",ModelNo=\"8475\"),10,\"\")","v":""},"6402","Screen Height",{"$f":"IF(TYPE=3,Frame_Height-2.9375,Frame_Height-2.5625)","v":-2.5625}]
[{"$f":"IF(OR(ModelNo=\"6402\",ModelNo=\"6405\",ModelNo=\"6406\",ModelNo=\"6408\",ModelNo=\"6475\",ModelNo=\"8402\",ModelNo=\"8405\",ModelNo=\"8406\",ModelNo=\"8408\",ModelNo=\"8475\"),11,\"\")","v":""},"6402","Egress Opening Width",{"$f":"TRUNC((Frame_Width-D1081-(2.176*2)-4)*16+0.5)/16","v":-8.5}]
[{"$f":"IF(OR(ModelNo=\"6402\",ModelNo=\"6405\",ModelNo=\"6406\",ModelNo=\"6408\",ModelNo=\"6475\",ModelNo=\"8402\",ModelNo=\"8405\",ModelNo=\"8406\",ModelNo=\"8408\",ModelNo=\"8475\"),12,\"\")","v":""},"6402","Egress Opening Height",{"$f":"Frame_Height-(2.25*2)","v":-4.5}]
[{"$f":"IF(OR(ModelNo=\"6402\",ModelNo=\"6405\",ModelNo=\"6406\",ModelNo=\"6408\",ModelNo=\"6475\",ModelNo=\"8402\",ModelNo=\"8405\",ModelNo=\"8406\",ModelNo=\"8408\",ModelNo=\"8475\"),13,\"\")","v":""},"6402","Egress Opening Area (sq.ft.)",{"$f":"(D1091*D1092)/144","v":0.265625}]
[{"$f":"IF(OR(ModelNo=\"6403\",ModelNo=\"6409\",ModelNo=\"6422\",ModelNo=\"8403\",ModelNo=\"8409\",ModelNo=\"8422\"),1,\"\")","v":""},"6403","Sash Width",{"$f":"IF(TYPE=2,TRUNC(((Frame_Width/3)+0.958)*16+0.5)/16,TRUNC(((Frame_Width/3)+0.333)*16+0.5)/16)","v":0.3125}]
[{"$f":"IF(OR(ModelNo=\"6403\",ModelNo=\"6409\",ModelNo=\"6422\",ModelNo=\"8403\",ModelNo=\"8409\",ModelNo=\"8422\"),2,\"\")","v":""},"6403","Sash Height",{"$f":"Frame_Height-3.375","v":-3.375}]
[{"$f":"IF(OR(ModelNo=\"6403\",ModelNo=\"6409\",ModelNo=\"6422\",ModelNo=\"8403\",ModelNo=\"8409\",ModelNo=\"8422\"),3,\"\")","v":""},"6403","Operating Sash Roller Track Length",{"$f":"IF(TYPE=3,Frame_Width-12.375,Frame_Width-4.0625)","v":-4.0625}]
[{"$f":"IF(OR(ModelNo=\"6403\",ModelNo=\"6409\",ModelNo=\"6422\",ModelNo=\"8403\",ModelNo=\"8409\",ModelNo=\"8422\"),4,\"\")","v":""},"6403","Screen Roller Track Length (Sill)",{"$f":"IF(TYPE=3,Frame_Width-2.25,\"N/A\")","v":"N/A"}]
[{"$f":"IF(OR(ModelNo=\"6403\",ModelNo=\"6409\",ModelNo=\"6422\",ModelNo=\"8403\",ModelNo=\"8409\",ModelNo=\"8422\"),5,\"\")","v":""},"6403","Screen Roller Track Length (Head)",{"$f":"Frame_Width-3.0625","v":-3.0625}]
[{"$f":"IF(OR(ModelNo=\"6403\",ModelNo=\"6409\",ModelNo=\"6422\",ModelNo=\"8403\",ModelNo=\"8409\",ModelNo=\"8422\"),6,\"\")","v":""},"6403","Fixed Panel Support",{"$f":"IF(TYPE=1,TRUNC(((Frame_Width/3)-0.541)*16+0.5)/16,IF(TYPE=2,TRUNC(((Frame_Width/3)+0.042)*32+0.5)/32,IF(TYPE=3,TRUNC(((Frame_Width/3)-9.854)*32+0.5)/32,\"\")))","v":-0.5}]
[{"$f":"IF(OR(ModelNo=\"6403\",ModelNo=\"6409\",ModelNo=\"6422\",ModelNo=\"8403\",ModelNo=\"8409\",ModelNo=\"8422\"),7,\"\")","v":""},"6403","Glass Width",{"$f":"IF(TYPE=2,TRUNC(((Frame_Width/3)-7.917)*16+0.5)/16,TRUNC(((Frame_Width/3)-5.042)*16+0.5)/16)","v":-5}]
[{"$f":"IF(OR(ModelNo=\"6403\",ModelNo=\"6409\",ModelNo=\"6422\",ModelNo=\"8403\",ModelNo=\"8409\",ModelNo=\"8422\"),8,\"\")","v":""},"6403","Glass Height",{"$f":"IF(TYPE=1,TRUNC((Frame_Height-8.6875)*16+0.5)/16,IF(TYPE=2,TRUNC((Frame_Height-12.1875)*32+0.5)/32,IF(TYPE=3,TRUNC((Frame_Height-14.1875)*32+0.5)/32,\"\")))","v":-8.625}]
[{"$f":"IF(OR(ModelNo=\"6403\",ModelNo=\"6409\",ModelNo=\"6422\",ModelNo=\"8403\",ModelNo=\"8409\",ModelNo=\"8422\"),9,\"\")","v":""},"6403","Screen Width",{"$f":"TRUNC(((Frame_Width/3)+0.021)*16+0.5)/16","v":0}]
[{"$f":"IF(OR(ModelNo=\"6403\",ModelNo=\"6409\",ModelNo=\"6422\",ModelNo=\"8403\",ModelNo=\"8409\",ModelNo=\"8422\"),10,\"\")","v":""},"6403","Screen Height",{"$f":"IF(TYPE=3,Frame_Height-2.9375,Frame_Height-2.5625)","v":-2.5625}]
[{"$f":"IF(OR(ModelNo=\"6403\",ModelNo=\"6409\",ModelNo=\"6422\",ModelNo=\"8403\",ModelNo=\"8409\",ModelNo=\"8422\"),11,\"\")","v":""},"6403","Egress Opening Width",{"$f":"(TRUNC((Frame_Width-(D1094*2)-(2.176*2)-4)*16+0.5)/16)+0.875","v":-8.0625}]
[{"$f":"IF(OR(ModelNo=\"6403\",ModelNo=\"6409\",ModelNo=\"6422\",ModelNo=\"8403\",ModelNo=\"8409\",ModelNo=\"8422\"),12,\"\")","v":""},"6403","Egress Opening Height",{"$f":"Frame_Height-(2.25*2)","v":-4.5}]
[{"$f":"IF(OR(ModelNo=\"6403\",ModelNo=\"6409\",ModelNo=\"6422\",ModelNo=\"8403\",ModelNo=\"8409\",ModelNo=\"8422\"),13,\"\")","v":""},"6403","Egress Opening Area (sq.ft.)",{"$f":"(D1104*D1105)/144","v":0.251953125}]
[{"$f":"IF(OR(ModelNo=\"6404\",ModelNo=\"6412\",ModelNo=\"8404\",ModelNo=\"8412\"),1,\"\")","v":""},"6404","Sash Width",{"$f":"IF(TYPE=2,TRUNC(((Frame_Width/4)+1.4375)*16+0.5)/16,TRUNC(((Frame_Width/4)+0.625)*16+0.5)/16)","v":0.625}]
[{"$f":"IF(OR(ModelNo=\"6404\",ModelNo=\"6412\",ModelNo=\"8404\",ModelNo=\"8412\"),2,\"\")","v":""},"6404","Sash Height",{"$f":"Frame_Height-3.375","v":-3.375}]
[{"$f":"IF(OR(ModelNo=\"6404\",ModelNo=\"6412\",ModelNo=\"8404\",ModelNo=\"8412\"),3,\"\")","v":""},"6404","Operating Sash Roller Track Length",{"$f":"IF(TYPE=3,Frame_Width-12.375,Frame_Width-4.0625)","v":-4.0625}]
[{"$f":"IF(OR(ModelNo=\"6404\",ModelNo=\"6412\",ModelNo=\"8404\",ModelNo=\"8412\"),4,\"\")","v":""},"6404","Screen Roller Track Length (Sill)",{"$f":"IF(TYPE=3,Frame_Width-2.25,\"N/A\")","v":"N/A"}]
[{"$f":"IF(OR(ModelNo=\"6404\",ModelNo=\"6412\",ModelNo=\"8404\",ModelNo=\"8412\"),5,\"\")","v":""},"6404","Screen Roller Track Length (Head)",{"$f":"Frame_Width-3.0625","v":-3.0625}]
[{"$f":"IF(OR(ModelNo=\"6404\",ModelNo=\"6412\",ModelNo=\"8404\",ModelNo=\"8412\"),6,\"\")","v":""},"6404","Fixed Panel Support",{"$f":"IF(TYPE=1,TRUNC(((Frame_Width/4)-0.375)*16+0.5)/16,IF(TYPE=2,TRUNC(((Frame_Width/4)+0.437)*32+0.5)/32,IF(TYPE=3,TRUNC(((Frame_Width/4)-9.5625)*32+0.5)/32,\"\")))","v":-0.3125}]
[{"$f":"IF(OR(ModelNo=\"6404\",ModelNo=\"6412\",ModelNo=\"8404\",ModelNo=\"8412\"),7,\"\")","v":""},"6404","Glass Width",{"$f":"IF(TYPE=2,TRUNC(((Frame_Width/4)-7.4375)*16+0.5)/16,TRUNC(((Frame_Width/4)-4.75)*16+0.5)/16)","v":-4.6875}]
[{"$f":"IF(OR(ModelNo=\"6404\",ModelNo=\"6412\",ModelNo=\"8404\",ModelNo=\"8412\"),8,\"\")","v":""},"6404","Glass Height",{"$f":"IF(TYPE=1,TRUNC((Frame_Height-8.6875)*16+0.5)/16,IF(TYPE=2,TRUNC((Frame_Height-12.1875)*32+0.5)/32,IF(TYPE=3,TRUNC((Frame_Height-14.1875)*32+0.5)/32,\"\")))","v":-8.625}]
[{"$f":"IF(OR(ModelNo=\"6404\",ModelNo=\"6412\",ModelNo=\"8404\",ModelNo=\"8412\"),9,\"\")","v":""},"6404","Screen Width",{"$f":"TRUNC(((Frame_Width/4)+0.3125)*16+0.5)/16","v":0.3125}]
[{"$f":"IF(OR(ModelNo=\"6404\",ModelNo=\"6412\",ModelNo=\"8404\",ModelNo=\"8412\"),10,\"\")","v":""},"6404","Screen Height",{"$f":"IF(TYPE=3,Frame_Height-2.9375,Frame_Height-2.5625)","v":-2.5625}]
[{"$f":"IF(OR(ModelNo=\"6404\",ModelNo=\"6412\",ModelNo=\"8404\",ModelNo=\"8412\"),11,\"\")","v":""},"6404","Egress Opening Width",{"$f":"TRUNC(((Frame_Width-(D1107+4.375)*2)-2.1875)*16+0.5)/16","v":-12.125}]
[{"$f":"IF(OR(ModelNo=\"6404\",ModelNo=\"6412\",ModelNo=\"8404\",ModelNo=\"8412\"),12,\"\")","v":""},"6404","Egress Opening Height",{"$f":"Frame_Height-(2.25*2)","v":-4.5}]
[{"$f":"IF(OR(ModelNo=\"6404\",ModelNo=\"6412\",ModelNo=\"8404\",ModelNo=\"8412\"),13,\"\")","v":""},"6404","Egress Opening Area (sq.ft.)",{"$f":"(D1117*D1118)/144","v":0.37890625}]
[{"$f":"IF(ModelNo=B1120,1,\"\")","v":""},"3001","Top Sash Width",{"$f":"Frame_Width-4.125","v":-4.125}]
[{"$f":"IF(ModelNo=B1121,2,\"\")","v":""},"3001","Top Sash Height",{"$f":"DDIM3001-1.4375","v":-1.4375}]
[{"$f":"IF(ModelNo=B1122,3,\"\")","v":""},"3001","Bottom Sash Width",{"$f":"Frame_Width-3.125","v":-3.125}]
[{"$f":"IF(ModelNo=B1123,4,\"\")","v":""},"3001","Bottom Sash Height",{"$f":"CDIM3001-0.4375","v":-0.4375}]
[{"$f":"IF(ModelNo=B1124,5,\"\")","v":""},"3001","Top Glass Width",{"$f":"CMR!$E$119","v":-5.75}]
[{"$f":"IF(ModelNo=B1125,6,\"\")","v":""},"3001","Top Glass Height",{"$f":"CMR!$E$121","v":-3.03125}]
[{"$f":"IF(ModelNo=B1126,7,\"\")","v":""},"3001","Bottom Glass Width",{"$f":"CMR!$E$120","v":-5.25}]
[{"$f":"IF(ModelNo=B1127,8,\"\")","v":""},"3001","Bottom Glass Height",{"$f":"CMR!$E$122","v":-2.53125}]
[{"$f":"IF(ModelNo=B1128,9,\"\")","v":""},"3001","Screen Width",{"$f":"IF(Screen=\"H\",Frame_Width-4.5,Frame_Width-4.5625)","v":-4.5}]
[{"$f":"IF(ModelNo=B1129,10,\"\")","v":""},"3001","Screen Height",{"$f":"IF(Screen=\"L\",TRUNC((CDIM3001-0.9375)*16+0.5)/16,IF(Screen=\"F\",TRUNC((Frame_Height-3.3125)*16+0.5)/16,TRUNC((CDIM3001-0.9375)*16+0.5)/16))","v":-0.875}]
[{"$f":"IF(ModelNo=B1130,11,\"\")","v":""},"3001","Top Sash Weight (Plus 5 lb)",{"$f":"IF(ISERROR(TOP_WGT&\" \"&\"lb\"),\"N/A\",TOP_WGT&\" \"&\"lb\")","v":"N/A"}]
[{"$f":"IF(ModelNo=B1131,12,\"\")","v":""},"3001","Top Balance Size (C.F)",{"$f":"IF(ISERROR((VLOOKUP(TOP_WGT,CFB,2,FALSE))&(VLOOKUP(TOP_WGT,CFB,3,FALSE))),\"N/A\",(VLOOKUP(TOP_WGT,CFB,2,FALSE))&(VLOOKUP(TOP_WGT,CFB,3,FALSE)))","v":"N/A"}]
[{"$f":"IF(ModelNo=B1132,13,\"\")","v":""},"3001","Bottom Sash Weight",{"$f":"IF(ISERROR(BTM_WGT&\" \"&\"lb\"),\"N/A\",BTM_WGT&\" \"&\"lb\")","v":"N/A"}]
[{"$f":"IF(ModelNo=B1133,14,\"\")","v":""},"3001","Bottom Balance Size (C.F)",{"$f":"IF(ISERROR((VLOOKUP(BTM_WGT,CFB,2,FALSE))&(VLOOKUP(BTM_WGT,CFB,3,FALSE))),\"N/A\",(VLOOKUP(BTM_WGT,CFB,2,FALSE))&(VLOOKUP(BTM_WGT,CFB,3,FALSE)))","v":"N/A"}]
[{"$f":"IF(ModelNo=B1134,15,\"\")","v":""},"3001","Egress Opening Width",{"$f":"IF(ISERROR(EW),\"N/A\",EW)","v":"N/A"}]
[{"$f":"IF(ModelNo=B1135,16,\"\")","v":""},"3001","Egress Opening Height",{"$f":"IF(ISERROR(EH),\"N/A\",EH)","v":"N/A"}]
[{"$f":"IF(ModelNo=B1136,17,\"\")","v":""},"3001","Egress Opening Area (sq.ft.)",{"$f":"IF(ISERROR(EO),\"N/A\",EO)","v":"N/A"}]
[{"$f":"IF(ModelNo=B1137,1,\"\")","v":""},"3002","Sash Width",{"$f":"(Frame_Width/2)-0.6875","v":-0.6875}]
[{"$f":"IF(ModelNo=B1138,2,\"\")","v":""},"3002","Sash Height",{"$f":"Frame_Height-3.8125","v":-3.8125}]
[{"$f":"IF(ModelNo=B1139,3,\"\")","v":""},"3002","Roller Track Length",{"$f":"Frame_Width-2.6875","v":-2.6875}]
[{"$f":"IF(ModelNo=B1140,4,\"\")","v":""},"3002","Glass Width",{"$f":"(Frame_Width/2)-2.875","v":-2.875}]
[{"$f":"IF(ModelNo=B1141,5,\"\")","v":""},"3002","Glass Height",{"$f":"Frame_Height-5.9375","v":-5.9375}]
[{"$f":"IF(ModelNo=B1142,6,\"\")","v":""},"3002","Screen Width",{"$f":"IF(Screen=\"F\",Frame_Width-5,IF(Screen=\"L\",\"N/A\",(Frame_Width/2)-2.4375))","v":-2.4375}]
[{"$f":"IF(ModelNo=B1143,7,\"\")","v":""},"3002","Screen Height",{"$f":"Frame_Height-4.5625","v":-4.5625}]
[{"$f":"IF(ModelNo=B1144,8,\"\")","v":""},"3002","Egress Opening Width",{"$f":"(Frame_Width/2)-4.75","v":-4.75}]
[{"$f":"IF(ModelNo=B1145,9,\"\")","v":""},"3002","Egress Opening Height",{"$f":"Frame_Height-5.25","v":-5.25}]
[{"$f":"IF(ModelNo=B1146,10,\"\")","v":""},"3002","Egress Opening Area (sq.ft.)",{"$f":"(D1144*D1145)/144","v":0.17317708333333334}]
[{"$f":"IF(ModelNo=B1147,1,\"\")","v":""},"3003","Operating Sash Width",{"$f":"TRUNC((Frame_Width/4+0.5)*16+0.5)/16","v":0.5}]
[{"$f":"IF(ModelNo=B1148,2,\"\")","v":""},"3003","Operating Sash Height",{"$f":"Frame_Height-3.8125","v":-3.8125}]
[{"$f":"IF(ModelNo=B1149,3,\"\")","v":""},"3003","Fixed Sash Width",{"$f":"Frame_Width-(2*(TRUNC((Frame_Width/4+1.1875)*16+0.5)/16))+1.25","v":-1.125}]
[{"$f":"IF(ModelNo=B1150,4,\"\")","v":""},"3003","Fixed Sash Height",{"$f":"Frame_Height-3.8125","v":-3.8125}]
[{"$f":"IF(ModelNo=B1151,5,\"\")","v":""},"3003","Roller Track Length",{"$f":"Frame_Width-2.6875","v":-2.6875}]
[{"$f":"IF(ModelNo=B1152,6,\"\")","v":""},"3003","Operating Sash Glass Width",{"$f":"D1147-2.1875","v":-1.6875}]
[{"$f":"IF(ModelNo=B1153,7,\"\")","v":""},"3003","Operating Sash Glass Height",{"$f":"D1148-2.125","v":-5.9375}]
[{"$f":"IF(ModelNo=B1154,8,\"\")","v":""},"3003","Fixed Sash Glass Width",{"$f":"D1149-2.1875","v":-3.3125}]
[{"$f":"IF(ModelNo=B1155,9,\"\")","v":""},"3003","Fixed Sash Glass Height",{"$f":"D1150-2.125","v":-5.9375}]
[{"$f":"IF(ModelNo=B1156,10,\"\")","v":""},"3003","Screen Width",{"$f":"IF(Screen=\"F\",Frame_Width-5,IF(Screen=\"L\",\"N/A\",TRUNC(((Frame_Width/4)-1.3125)*16+0.5)/16))","v":-1.25}]
[{"$f":"IF(ModelNo=B1157,11,\"\")","v":""},"3003","Screen Height",{"$f":"Frame_Height-4.5625","v":-4.5625}]
[{"$f":"IF(ModelNo=B1158,12,\"\")","v":""},"3003","Egress Opening Width",{"$f":"(Frame_Width/4)-2.25","v":-2.25}]
[{"$f":"IF(ModelNo=B1159,13,\"\")","v":""},"3003","Egress Opening Height",{"$f":"Frame_Height-5.25","v":-5.25}]
[{"$f":"IF(ModelNo=B1160,14,\"\")","v":""},"3003","Egress Opening Area (sq.ft.)",{"$f":"(D1158*D1159)/144","v":8.203125E-2}]
[{"$f":"IF(OR(ModelNo=\"3004\",ModelNo=\"03A4\"),1,\"\")","v":""},"3004","Glass Width",{"$f":"Frame_Width-4.1875","v":-4.1875}]
[{"$f":"IF(OR(ModelNo=\"3004\",ModelNo=\"03A4\"),2,\"\")","v":""},"3004","Glass Height",{"$f":"Frame_Height-4.1875","v":-4.1875}]
[{"$f":"IF(OR(ModelNo=\"3004\",ModelNo=\"03A4\"),3,\"\")","v":""},"3004","Glass Area (sq.ft.)",{"$f":"(D1161*D1162)/144","v":0.12177191840277778}]
[{"$f":"IF(ModelNo=B1164,1,\"\")","v":""},"3009","Operating Sash Width",{"$f":"(TRUNC((Frame_Width/3+0.5625)*16+0.5)/16)-0.625","v":-6.25E-2}]
[{"$f":"IF(ModelNo=B1165,2,\"\")","v":""},"3009","Operating Sash Height",{"$f":"Frame_Height-3.8125","v":-3.8125}]
[{"$f":"IF(ModelNo=B1166,3,\"\")","v":""},"3009","Fixed Sash Width",{"$f":"(TRUNC((Frame_Width/3+0.625)*16+0.5)/16)-0.625","v":0}]
[{"$f":"IF(ModelNo=B1167,4,\"\")","v":""},"3009","Fixed Sash Height",{"$f":"Frame_Height-3.8125","v":-3.8125}]
[{"$f":"IF(ModelNo=B1168,5,\"\")","v":""},"3009","Roller Track Length",{"$f":"Frame_Width-2.6875","v":-2.6875}]
[{"$f":"IF(ModelNo=B1169,6,\"\")","v":""},"3009","Operating Sash Glass Width",{"$f":"D1164-2.1875","v":-2.25}]
[{"$f":"IF(ModelNo=B1170,7,\"\")","v":""},"3009","Operating Sash Glass Height",{"$f":"D1165-2.125","v":-5.9375}]
[{"$f":"IF(ModelNo=B1171,8,\"\")","v":""},"3009","Fixed Sash Glass Width",{"$f":"D1166-2.1875","v":-2.1875}]
[{"$f":"IF(ModelNo=B1172,9,\"\")","v":""},"3009","Fixed Sash Glass Height",{"$f":"D1167-2.125","v":-5.9375}]
[{"$f":"IF(ModelNo=B1173,10,\"\")","v":""},"3009","Screen Width",{"$f":"IF(Screen=\"F\",Frame_Width-5,IF(Screen=\"L\",\"N/A\",(TRUNC((Frame_Width/3+0.625)*16+0.5)/16)-2.5))","v":-1.875}]
[{"$f":"IF(ModelNo=B1174,11,\"\")","v":""},"3009","Screen Height",{"$f":"Frame_Height-4.5625","v":-4.5625}]
[{"$f":"IF(ModelNo=B1175,12,\"\")","v":""},"3009","Egress Opening Width",{"$f":"(Frame_Width/3)-4.375","v":-4.375}]
[{"$f":"IF(ModelNo=B1176,13,\"\")","v":""},"3009","Egress Opening Height",{"$f":"Frame_Height-5.25","v":-5.25}]
[{"$f":"IF(ModelNo=B1177,14,\"\")","v":""},"3009","Egress Opening Area (sq.ft.)",{"$f":"(D1175*D1176)/144","v":0.15950520833333334}]
[{"$f":"IF(ModelNo=B1178,1,\"\")","v":""},"03A0","Bottom Sash Width",{"$f":"Frame_Width-3.125","v":-3.125}]
[{"$f":"IF(ModelNo=B1179,2,\"\")","v":""},"03A0","Bottom Sash Height",{"$f":"CDIM03A0-0.75","v":-0.75}]
[{"$f":"IF(ModelNo=B1180,3,\"\")","v":""},"03A0","Bottom Glass Width",{"$f":"CMR!$E$136","v":-5.25}]
[{"$f":"IF(ModelNo=B1181,4,\"\")","v":""},"03A0","Bottom Glass Height",{"$f":"CMR!$E$138","v":-2.84375}]
[{"$f":"IF(ModelNo=B1182,5,\"\")","v":""},"03A0","Top Glass Width",{"$f":"CMR!$E$135","v":-4.6875}]
[{"$f":"IF(ModelNo=B1183,6,\"\")","v":""},"03A0","Top Glass Height",{"$f":"CMR!$E$137","v":-2.59375}]
[{"$f":"IF(ModelNo=B1184,7,\"\")","v":""},"03A0","Astragal Length",{"$f":"TRUNC((Frame_Width-4.125)*32+0.5)/32","v":-4.09375}]
[{"$f":"IF(ModelNo=B1185,8,\"\")","v":""},"03A0","Screen Width",{"$f":"Frame_Width-4.5","v":-4.5}]
[{"$f":"IF(ModelNo=B1186,9,\"\")","v":""},"03A0","Screen Height",{"$f":"IF(Screen=\"F\",Frame_Height-3.3125,IF(Screen=\"L\",CDIM03A0-1.0625,CDIM03A0-1.3125))","v":-1.3125}]
[{"$f":"IF(ModelNo=B1187,10,\"\")","v":""},"03A0","Bottom Sash Weight",{"$f":"IF(ISERROR(BTM_WGT&\" \"&\"lb\"),\"N/A\",BTM_WGT&\" \"&\"lb\")","v":"N/A"}]
[{"$f":"IF(ModelNo=B1188,11,\"\")","v":""},"03A0","Balance Size",{"$f":"IF(ISERROR((VLOOKUP(BTM_WGT,CFB,2,FALSE))&(VLOOKUP(BTM_WGT,CFB,3,FALSE))),\"N/A\",(VLOOKUP(BTM_WGT,CFB,2,FALSE))&(VLOOKUP(BTM_WGT,CFB,3,FALSE)))","v":"N/A"}]
[{"$f":"IF(ModelNo=B1189,12,\"\")","v":""},"03A0","Egress Opening Width",{"$f":"IF(ISERROR(EW),\"N/A\",EW)","v":"N/A"}]
[{"$f":"IF(ModelNo=B1190,13,\"\")","v":""},"03A0","Egress Opening Height",{"$f":"IF(ISERROR(EH),\"N/A\",EH)","v":"N/A"}]
[{"$f":"IF(ModelNo=B1191,14,\"\")","v":""},"03A0","Egress Opening Area (sq.ft.)",{"$f":"IF(ISERROR(EO),\"N/A\",EO)","v":"N/A"}]
[{"$f":"IF(ModelNo=B1192,1,\"\")","v":""},"03A2","Sash Width",{"$f":"TRUNC(((Frame_Width/2)-0.6875)*16+0.5)/16","v":-0.625}]
[{"$f":"IF(ModelNo=B1193,2,\"\")","v":""},"03A2","Sash Height",{"$f":"Frame_Height-3.0625","v":-3.0625}]
[{"$f":"IF(ModelNo=B1194,3,\"\")","v":""},"03A2","Roller Track Length",{"$f":"Frame_Width-1.9375","v":-1.9375}]
[{"$f":"IF(ModelNo=B1195,4,\"\")","v":""},"03A2","Sash Glass Width",{"$f":"TRUNC(((Frame_Width/2)-2.875)*16+0.5)/16","v":-2.8125}]
[{"$f":"IF(ModelNo=B1196,5,\"\")","v":""},"03A2","Sash Glass Height",{"$f":"Frame_Height-5.1875","v":-5.1875}]
[{"$f":"IF(ModelNo=B1197,6,\"\")","v":""},"03A2","Fixed Glass Width",{"$f":"TRUNC(((Frame_Width/2)-2.625)*16+0.5)/16","v":-2.5625}]
[{"$f":"IF(ModelNo=B1198,7,\"\")","v":""},"03A2","Fixed Glass Height",{"$f":"TRUNC((Frame_Height-4.8125)*16+0.5)/16","v":-4.75}]
[{"$f":"IF(ModelNo=B1199,8,\"\")","v":""},"03A2","Screen Width",{"$f":"IF(Screen=\"F\",Frame_Width-5,IF(Screen=\"L\",\"N/A\",TRUNC(((Frame_Width/2)-3.0625)*16+0.5)/16))","v":-3}]
[{"$f":"IF(ModelNo=B1200,9,\"\")","v":""},"03A2","Screen Height",{"$f":"Frame_Height-4.5625","v":-4.5625}]
[{"$f":"IF(ModelNo=B1201,10,\"\")","v":""},"03A2","Egress Opening Width",{"$f":"(Frame_Width/2)-4.75","v":-4.75}]
[{"$f":"IF(ModelNo=B1202,11,\"\")","v":""},"03A2","Egress Opening Height",{"$f":"Frame_Height-5.875","v":-5.875}]
[{"$f":"IF(ModelNo=B1203,12,\"\")","v":""},"03A2","Egress Opening Area (sq.ft.)",{"$f":"(D1201*D1202)/144","v":0.19379340277777779}]
[{"$f":"IF(ModelNo=B1204,1,\"\")","v":""},"03A3","Operating Sash Width",{"$f":"TRUNC((Frame_Width/4+0.625)*16+0.5)/16","v":0.625}]
[{"$f":"IF(ModelNo=B1205,2,\"\")","v":""},"03A3","Operating Sash Height",{"$f":"Frame_Height-3.0625","v":-3.0625}]
[{"$f":"IF(ModelNo=B1206,3,\"\")","v":""},"03A3","Roller Track Length",{"$f":"Frame_Width-1.9375","v":-1.9375}]
[{"$f":"IF(ModelNo=B1207,4,\"\")","v":""},"03A3","Operating Sash Glass Width",{"$f":"D1204-2.1875","v":-1.5625}]
[{"$f":"IF(ModelNo=B1208,5,\"\")","v":""},"03A3","Operating Sash Glass Height",{"$f":"Frame_Height-5.1875","v":-5.1875}]
[{"$f":"IF(ModelNo=B1209,6,\"\")","v":""},"03A3","Fixed Sash Glass Width",{"$f":"(Frame_Width-2*(TRUNC((Frame_Width/4+0.75)*16+0.5)/16))-1.625","v":-3.125}]
[{"$f":"IF(ModelNo=B1210,7,\"\")","v":""},"03A3","Fixed Sash Glass Height",{"$f":"Frame_Height-4.8125","v":-4.8125}]
[{"$f":"IF(ModelNo=B1211,8,\"\")","v":""},"03A3","Screen Width",{"$f":"IF(Screen=\"F\",Frame_Width-5,IF(Screen=\"L\",\"N/A\",(TRUNC((Frame_Width/4+0.75)*16+0.5)/16)-2.5))","v":-1.75}]
[{"$f":"IF(ModelNo=B1212,9,\"\")","v":""},"03A3","Screen Height",{"$f":"Frame_Height-4.5625","v":-4.5625}]
[{"$f":"IF(ModelNo=B1213,10,\"\")","v":""},"03A3","Egress Opening Width",{"$f":"(Frame_Width/4)-2.875","v":-2.875}]
[{"$f":"IF(ModelNo=B1214,11,\"\")","v":""},"03A3","Egress Opening Height",{"$f":"Frame_Height-5.875","v":-5.875}]
[{"$f":"IF(ModelNo=B1215,12,\"\")","v":""},"03A3","Egress Opening Area (sq.ft.)",{"$f":"(D1213*D1214)/144","v":0.11729600694444445}]
[{"$f":"IF(ModelNo=B1216,1,\"\")","v":""},"03A9","Operating Sash Width",{"$f":"(TRUNC((Frame_Width/3+0.25)*16+0.5)/16)-0.125","v":0.125}]
[{"$f":"IF(ModelNo=B1217,2,\"\")","v":""},"03A9","Operating Sash Height",{"$f":"Frame_Height-3.0625","v":-3.0625}]
[{"$f":"IF(ModelNo=B1218,3,\"\")","v":""},"03A9","Roller Track Length",{"$f":"Frame_Width-1.9375","v":-1.9375}]
[{"$f":"IF(ModelNo=B1219,4,\"\")","v":""},"03A9","Operating Sash Glass Width",{"$f":"D1216-2.1875","v":-2.0625}]
[{"$f":"IF(ModelNo=B1220,5,\"\")","v":""},"03A9","Operating Sash Glass Height",{"$f":"Frame_Height-5.1875","v":-5.1875}]
[{"$f":"IF(ModelNo=B1221,6,\"\")","v":""},"03A9","Fixed Sash Glass Width",{"$f":"(Frame_Width-2*(TRUNC((Frame_Width/3+0.25)*16+0.5)/16))-1.625","v":-2.125}]
[{"$f":"IF(ModelNo=B1222,7,\"\")","v":""},"03A9","Fixed Sash Glass Height",{"$f":"Frame_Height-4.8125","v":-4.8125}]
[{"$f":"IF(ModelNo=B1223,8,\"\")","v":""},"03A9","Screen Width",{"$f":"IF(Screen=\"F\",Frame_Width-5,IF(Screen=\"L\",\"N/A\",(TRUNC((Frame_Width/3+0.25)*16+0.5)/16)-2.5))","v":-2.25}]
[{"$f":"IF(ModelNo=B1224,9,\"\")","v":""},"03A9","Screen Height",{"$f":"Frame_Height-4.5625","v":-4.5625}]
[{"$f":"IF(ModelNo=B1225,10,\"\")","v":""},"03A9","Egress Opening Width",{"$f":"(Frame_Width/3)-4.375","v":-4.375}]
[{"$f":"IF(ModelNo=B1226,11,\"\")","v":""},"03A9","Egress Opening Height",{"$f":"Frame_Height-5.875","v":-5.875}]
[{"$f":"IF(ModelNo=B1227,12,\"\")","v":""},"03A9","Egress Opening Area (sq.ft.)",{"$f":"(D1225*D1226)/144","v":0.1784939236111111}]
[{"$f":"IF(ModelNo=B1228,1,\"\")","v":""},"L201","Top Sash Width",{"$f":"Frame_Width-3.25","v":-3.25}]
[{"$f":"IF(ModelNo=B1229,2,\"\")","v":""},"L201","Top Sash Height",{"$f":"CMR!$E$26-1.5625","v":-1.5625}]
[{"$f":"IF(ModelNo=B1230,3,\"\")","v":""},"L201","Bottom Sash Width",{"$f":"Frame_Width-2.25","v":-2.25}]
[{"$f":"IF(ModelNo=B1231,4,\"\")","v":""},"L201","Bottom Sash Height",{"$f":"CMR!$E$27-0.5625","v":-0.5625}]
[{"$f":"IF(ModelNo=B1232,5,\"\")","v":""},"L201","Top Glass Width",{"$f":"CMR!$E$29","v":-4.875}]
[{"$f":"IF(ModelNo=B1233,6,\"\")","v":""},"L201","Top Glass Height",{"$f":"CMR!$E$31","v":-3.15625}]
[{"$f":"IF(ModelNo=B1234,7,\"\")","v":""},"L201","Bottom Glass Width",{"$f":"CMR!$E$30","v":-3.875}]
[{"$f":"IF(ModelNo=B1235,8,\"\")","v":""},"L201","Bottom Glass Height",{"$f":"CMR!$E$32","v":-2.15625}]
[{"$f":"IF(ModelNo=B1236,9,\"\")","v":""},"L201","Screen Width",{"$f":"IF(Screen=\"L\",Frame_Width-1.6875,Frame_Width-3.6875)","v":-3.6875}]
[{"$f":"IF(ModelNo=B1237,10,\"\")","v":""},"L201","Screen Height",{"$f":"IF(Screen=\"L\",TRUNC((CMR!$E$27-1.375)*16+0.5)/16,IF(Screen=\"F\",TRUNC((Frame_Height-2.875)*16+0.5)/16,TRUNC((CMR!$E$27-0.3125)*16+0.5)/16))","v":-0.25}]
[{"$f":"IF(ModelNo=B1238,11,\"\")","v":""},"L201","Top Sash Weight (Plus 5 lb)",{"$f":"IF(ISERROR(TOP_WGT&\" \"&\"lb\"),\"N/A\",TOP_WGT&\" \"&\"lb\")","v":"N/A"}]
[{"$f":"IF(ModelNo=B1239,12,\"\")","v":""},"L201","Top Balance Size (C.F)",{"$f":"IF(ISERROR((VLOOKUP(TOP_WGT,CFB,2,FALSE))&(VLOOKUP(TOP_WGT,CFB,3,FALSE))),\"N/A\",(VLOOKUP(TOP_WGT,CFB,2,FALSE))&(VLOOKUP(TOP_WGT,CFB,3,FALSE)))","v":"N/A"}]
[{"$f":"IF(ModelNo=B1240,13,\"\")","v":""},"L201","Bottom Sash Weight",{"$f":"IF(ISERROR(BTM_WGT&\" \"&\"lb\"),\"N/A\",BTM_WGT&\" \"&\"lb\")","v":"N/A"}]
[{"$f":"IF(ModelNo=B1241,14,\"\")","v":""},"L201","Bottom Balance Size (C.F)",{"$f":"IF(ISERROR((VLOOKUP(BTM_WGT,CFB,2,FALSE))&(VLOOKUP(BTM_WGT,CFB,3,FALSE))),\"N/A\",(VLOOKUP(BTM_WGT,CFB,2,FALSE))&(VLOOKUP(BTM_WGT,CFB,3,FALSE)))","v":"N/A"}]
[{"$f":"IF(ModelNo=B1242,15,\"\")","v":""},"L201","Egress Opening Width",{"$f":"IF(ISERROR(EW),\"N/A\",EW)","v":"N/A"}]
[{"$f":"IF(ModelNo=B1243,16,\"\")","v":""},"L201","Egress Opening Height",{"$f":"IF(ISERROR(EH),\"N/A\",EH)","v":"N/A"}]
[{"$f":"IF(ModelNo=B1244,17,\"\")","v":""},"L201","Egress Opening Area (sq.ft.)",{"$f":"IF(ISERROR(EO),\"N/A\",EO)","v":"N/A"}]
[{"$f":"IF(ModelNo=B1245,1,\"\")","v":""},"1700","Bottom Sash Width",{"$f":"TRUNC((Frame_Width-2.188)*32+0.5)/32","v":-2.15625}]
[{"$f":"IF(ModelNo=B1246,2,\"\")","v":""},"1700","Bottom Sash Height",{"$f":"TRUNC(((CDIM_1700-0.78125)*32+0.5))/32-0.0625","v":-0.8125}]
[{"$f":"IF(ModelNo=B1247,3,\"\")","v":""},"1700","Bottom Glass Width",{"$f":"D1245-1.3125","v":-3.46875}]
[{"$f":"IF(ModelNo=B1248,4,\"\")","v":""},"1700","Bottom Glass Height",{"$f":"D1246-1.3125","v":-2.125}]
[{"$f":"IF(ModelNo=B1249,5,\"\")","v":""},"1700","Top Glass Width",{"$f":"TRUNC((Frame_Width-3.5)*32+0.5)/32","v":-3.46875}]
[{"$f":"IF(ModelNo=B1250,6,\"\")","v":""},"1700","Top Glass Height",{"$f":"TRUNC((DDIM_1700-2.15625)*32+0.5)/32","v":-2.125}]
[{"$f":"IF(ModelNo=B1251,7,\"\")","v":""},"1700","Astragal Length",{"$f":"TRUNC((Frame_Width-2.95)*16+0.5)/16","v":-2.875}]
[{"$f":"IF(ModelNo=B1252,8,\"\")","v":""},"1700","Screen Width",{"$f":"Frame_Width-3.3125","v":-3.3125}]
[{"$f":"IF(ModelNo=B1253,9,\"\")","v":""},"1700","Screen Height",{"$f":"TRUNC((CDIM_1700-1.4375)*32+0.5)/32","v":-1.40625}]
[{"$f":"IF(ModelNo=B1254,10,\"\")","v":""},"1700","Bottom Sash Weight",{"$f":"IF(ISERROR(BTM_WGT&\" \"&\"lb\"),\"N/A\",BTM_WGT&\" \"&\"lb\")","v":"N/A"}]
[{"$f":"IF(ModelNo=B1255,11,\"\")","v":""},"1700","Balance Size",{"$f":"IF(V_BOTTBALANCE=0,\"N/A\",V_BOTTBALANCE)","v":{"$error":"#N/A"}}]
[{"$f":"IF(ModelNo=B1256,12,\"\")","v":""},"1700","Egress Opening Width",{"$f":"IF(ISERROR(EW),\"N/A\",EW)","v":"N/A"}]
[{"$f":"IF(ModelNo=B1257,13,\"\")","v":""},"1700","Egress Opening Height",{"$f":"IF(ISERROR(VEH),\"N/A\",VEH)","v":"N/A"}]
[{"$f":"IF(ModelNo=B1258,14,\"\")","v":""},"1700","Egress Opening Area (sq.ft.)",{"$f":"IF(ISERROR(VEO),\"N/A\",VEO)","v":"N/A"}]
[{"$f":"IF(ModelNo=B1259,1,\"\")","v":""},"1702","Sash Width",{"$f":"CDIM_1702-0.78125","v":-0.78125}]
[{"$f":"IF(ModelNo=B1260,2,\"\")","v":""},"1702","Sash Height",{"$f":"Frame_Height-2.1875","v":-2.1875}]
[{"$f":"IF(ModelNo=B1261,3,\"\")","v":""},"1702","Sash Glass Width",{"$f":"D1259-1.375","v":-2.15625}]
[{"$f":"IF(ModelNo=B1262,4,\"\")","v":""},"1702","Sash Glass Height",{"$f":"D1260-1.3125","v":-3.5}]
[{"$f":"IF(ModelNo=B1263,5,\"\")","v":""},"1702","Fixed Glass Width",{"$f":"TRUNC((DDIM_1702-2.09375)*32+0.5)/32","v":-2.0625}]
[{"$f":"IF(ModelNo=B1264,6,\"\")","v":""},"1702","Fixed Glass Height",{"$f":"Frame_Height-3.5","v":-3.5}]
[{"$f":"IF(ModelNo=B1265,7,\"\")","v":""},"1702","Astragal Length",{"$f":"TRUNC((Frame_Height-2.875)*16+0.5)/16","v":-2.8125}]
[{"$f":"IF(ModelNo=B1266,8,\"\")","v":""},"1702","Roller Track Length",{"$f":"TRUNC((Frame_Width-1)*16+0.5)/16","v":-0.9375}]
[{"$f":"IF(ModelNo=B1267,9,\"\")","v":""},"1702","Screen Width",{"$f":"TRUNC((CDIM_1702-2.4375)*32+0.5)/32","v":-2.40625}]
[{"$f":"IF(ModelNo=B1268,10,\"\")","v":""},"1702","Screen Height",{"$f":"TRUNC((Frame_Height-3.375)*16+0.5)/16","v":-3.3125}]
[{"$f":"IF(ModelNo=B1269,11,\"\")","v":""},"1702","Egress Opening Width",{"$f":"CDIM_1702-3.625","v":-3.625}]
[{"$f":"IF(ModelNo=B1270,12,\"\")","v":""},"1702","Egress Opening Height",{"$f":"Frame_Height-4.5","v":-4.5}]
[{"$f":"IF(ModelNo=B1271,13,\"\")","v":""},"1702","Egress Opening Area (sq.ft.)",{"$f":"(D1269*D1270)/144","v":0.11328125}]
[{"$f":"IF(ModelNo=B1272,1,\"\")","v":""},"1703","Sash Width",{"$f":"(Frame_Width/4)-0.0625","v":-6.25E-2}]
[{"$f":"IF(ModelNo=B1273,2,\"\")","v":""},"1703","Sash Height",{"$f":"Frame_Height-2.1875","v":-2.1875}]
[{"$f":"IF(ModelNo=B1274,3,\"\")","v":""},"1703","Sash Glass Width",{"$f":"D1272-1.375","v":-1.4375}]
[{"$f":"IF(ModelNo=B1275,4,\"\")","v":""},"1703","Sash Glass Height",{"$f":"D1273-1.3125","v":-3.5}]
[{"$f":"IF(ModelNo=B1276,5,\"\")","v":""},"1703","Fixed Glass Width",{"$f":"(Frame_Width/2)-2.09375","v":-2.09375}]
[{"$f":"IF(ModelNo=B1277,6,\"\")","v":""},"1703","Fixed Glass Height",{"$f":"Frame_Height-3.5","v":-3.5}]
[{"$f":"IF(ModelNo=B1278,7,\"\")","v":""},"1703","Astragal Length",{"$f":"TRUNC((Frame_Height-2.875)*16+0.5)/16","v":-2.8125}]
[{"$f":"IF(ModelNo=B1279,8,\"\")","v":""},"1703","Roller Track Length",{"$f":"TRUNC((Frame_Width-1)*16+0.5)/16","v":-0.9375}]
[{"$f":"IF(ModelNo=B1280,9,\"\")","v":""},"1703","Screen Width",{"$f":"TRUNC((Frame_Width/4-1.75)*16+0.5)/16","v":-1.6875}]
[{"$f":"IF(ModelNo=B1281,10,\"\")","v":""},"1703","Screen Height",{"$f":"TRUNC((Frame_Height-3.375)*16+0.5)/16","v":-3.3125}]
[{"$f":"IF(ModelNo=B1282,11,\"\")","v":""},"1703","Egress Opening Width",{"$f":"(Frame_Width/4)-3.25","v":-3.25}]
[{"$f":"IF(ModelNo=B1283,12,\"\")","v":""},"1703","Egress Opening Height",{"$f":"Frame_Height-4.5","v":-4.5}]
[{"$f":"IF(ModelNo=B1284,13,\"\")","v":""},"1703","Egress Opening Area (sq.ft.)",{"$f":"(D1282*D1283)/144","v":0.1015625}]
[{"$f":"IF(ModelNo=B1285,1,\"\")","v":""},"1709","Sash Width",{"$f":"TRUNC((Frame_Width/3-0.375)*16+0.5)/16","v":-0.3125}]
[{"$f":"IF(ModelNo=B1286,2,\"\")","v":""},"1709","Sash Height",{"$f":"Frame_Height-2.1875","v":-2.1875}]
[{"$f":"IF(ModelNo=B1287,3,\"\")","v":""},"1709","Sash Glass Width",{"$f":"D1285-1.375","v":-1.6875}]
[{"$f":"IF(ModelNo=B1288,4,\"\")","v":""},"1709","Sash Glass Height",{"$f":"D1286-1.3125","v":-3.5}]
[{"$f":"IF(ModelNo=B1289,5,\"\")","v":""},"1709","Fixed Glass Width",{"$f":"TRUNC((Frame_Width/3-1.6875)*16+0.5)/16","v":-1.625}]
[{"$f":"IF(ModelNo=B1290,6,\"\")","v":""},"1709","Fixed Glass Height",{"$f":"TRUNC((Frame_Height-3.5)*16+0.5)/16","v":-3.4375}]
[{"$f":"IF(ModelNo=B1291,7,\"\")","v":""},"1709","Astragal Length",{"$f":"Frame_Height-2.875","v":-2.875}]
[{"$f":"IF(ModelNo=B1292,8,\"\")","v":""},"1709","Roller Track Length",{"$f":"TRUNC((Frame_Width-1)*16+0.5)/16","v":-0.9375}]
[{"$f":"IF(ModelNo=B1293,9,\"\")","v":""},"1709","Screen Width",{"$f":"TRUNC((Frame_Width/3-1.9375)*16+0.5)/16","v":-1.875}]
[{"$f":"IF(ModelNo=B1294,10,\"\")","v":""},"1709","Screen Height",{"$f":"Frame_Height-3.375","v":-3.375}]
[{"$f":"IF(ModelNo=B1295,11,\"\")","v":""},"1709","Egress Opening Width",{"$f":"(Frame_Width/3)-2.875","v":-2.875}]
[{"$f":"IF(ModelNo=B1296,12,\"\")","v":""},"1709","Egress Opening Height",{"$f":"Frame_Height-4.5","v":-4.5}]
[{"$f":"IF(ModelNo=B1297,13,\"\")","v":""},"1709","Egress Opening Area (sq.ft.)",{"$f":"(D1295*D1296)/144","v":8.984375E-2}]
[{"$f":"IF(ModelNo=B1298,1,\"\")","v":""},"1704","Glass Width",{"$f":"Frame_Width-3.5","v":-3.5}]
[{"$f":"IF(ModelNo=B1299,2,\"\")","v":""},"1704","Glass Height",{"$f":"Frame_Height-3.5","v":-3.5}]
[{"$f":"IF(ModelNo=B1300,3,\"\")","v":""},"1704","Glass Area (sq.ft.)",{"$f":"(D1298*D1299)/144","v":8.5069444444444448E-2}]
[{"$f":"IF(ModelNo=B1301,1,\"\")","v":""},"1720","Bottom Sash Width",{"$f":"TRUNC((Frame_Width/2-2.4375)*32+0.5)/32","v":-2.40625}]
[{"$f":"IF(ModelNo=B1302,2,\"\")","v":""},"1720","Bottom Sash Height",{"$f":"TRUNC(((CDIM_1720-0.84375)*32+0.5))/32","v":-0.8125}]
[{"$f":"IF(ModelNo=B1303,3,\"\")","v":""},"1720","Bottom Glass Width",{"$f":"TRUNC((D1301-1.3125)*32+0.5)/32","v":-3.6875}]
[{"$f":"IF(ModelNo=B1304,4,\"\")","v":""},"1720","Bottom Glass Height",{"$f":"TRUNC((D1302-1.312)*32+0.5)/32","v":-2.09375}]
[{"$f":"IF(ModelNo=B1305,5,\"\")","v":""},"1720","Top Glass Width",{"$f":"TRUNC((Frame_Width/2-3.75)*32+0.5)/32","v":-3.71875}]
[{"$f":"IF(ModelNo=B1306,6,\"\")","v":""},"1720","Top Glass Height",{"$f":"TRUNC((DDIM_1720-2.15625)*32+0.5)/32","v":-2.125}]
[{"$f":"IF(ModelNo=B1307,7,\"\")","v":""},"1720","Astragal Length",{"$f":"TRUNC((Frame_Width/2-3.125)*16+0.5)/16","v":-3.0625}]
[{"$f":"IF(ModelNo=B1308,8,\"\")","v":""},"1720","Screen Width",{"$f":"Frame_Width/2-3.5625","v":-3.5625}]
[{"$f":"IF(ModelNo=B1309,9,\"\")","v":""},"1720","Screen Height",{"$f":"TRUNC((CDIM_1720-1.4375)*32+0.5)/32","v":-1.40625}]
[{"$f":"IF(ModelNo=B1310,10,\"\")","v":""},"1720","Bottom Sash Weight",{"$f":"IF(ISERROR(BTM_WGT&\" \"&\"lb\"),\"N/A\",BTM_WGT&\" \"&\"lb\")","v":"N/A"}]
[{"$f":"IF(ModelNo=B1311,11,\"\")","v":""},"1720","Balance Size",{"$f":"IF(V_BOTTBALANCE=0,\"N/A\",V_BOTTBALANCE)","v":{"$error":"#N/A"}}]
[{"$f":"IF(ModelNo=B1312,12,\"\")","v":""},"1720","Egress Opening Width",{"$f":"IF(ISERROR(EW),\"N/A\",EW)","v":"N/A"}]
[{"$f":"IF(ModelNo=B1313,13,\"\")","v":""},"1720","Egress Opening Height",{"$f":"IF(ISERROR(VEH),\"N/A\",VEH)","v":"N/A"}]
[{"$f":"IF(ModelNo=B1314,14,\"\")","v":""},"1720","Egress Opening Area (sq.ft.)",{"$f":"IF(ISERROR(VEO),\"N/A\",VEO)","v":"N/A"}]
[{"$f":"IF(ModelNo=B1315,1,\"\")","v":""},"1730","Bottom Sash Width",{"$f":"TRUNC((Frame_Width/3-2.53125)*32+0.5)/32","v":-2.5}]
[{"$f":"IF(ModelNo=B1316,2,\"\")","v":""},"1730","Bottom Sash Height",{"$f":"TRUNC(((CDIM_1730-0.84375)*32+0.5))/32","v":-0.8125}]
[{"$f":"IF(ModelNo=B1317,3,\"\")","v":""},"1730","Bottom Glass Width",{"$f":"TRUNC((D1315-1.34375)*32+0.5)/32","v":-3.8125}]
[{"$f":"IF(ModelNo=B1318,4,\"\")","v":""},"1730","Bottom Glass Height",{"$f":"TRUNC((D1316-1.3125)*32+0.5)/32","v":-2.09375}]
[{"$f":"IF(ModelNo=B1319,5,\"\")","v":""},"1730","Top Glass Width",{"$f":"TRUNC((Frame_Width/3-3.84375)*32+0.5)/32","v":-3.8125}]
[{"$f":"IF(ModelNo=B1320,6,\"\")","v":""},"1730","Top Glass Height",{"$f":"TRUNC((DDIM_1730-2.15625)*32+0.5)/32","v":-2.125}]
[{"$f":"IF(ModelNo=B1321,7,\"\")","v":""},"1730","Astragal Length",{"$f":"TRUNC((Frame_Width/3-3.25)*16+0.5)/16","v":-3.1875}]
[{"$f":"IF(ModelNo=B1322,8,\"\")","v":""},"1730","Screen Width",{"$f":"TRUNC((Frame_Width/3-3.6875)*32+0.5)/32","v":-3.65625}]
[{"$f":"IF(ModelNo=B1323,9,\"\")","v":""},"1730","Screen Height",{"$f":"TRUNC((CDIM_1730-1.4375)*32+0.5)/32","v":-1.40625}]
[{"$f":"IF(ModelNo=B1324,10,\"\")","v":""},"1730","Bottom Sash Weight",{"$f":"IF(ISERROR(BTM_WGT&\" \"&\"lb\"),\"N/A\",BTM_WGT&\" \"&\"lb\")","v":"N/A"}]
[{"$f":"IF(ModelNo=B1325,11,\"\")","v":""},"1730","Balance Size",{"$f":"IF(V_BOTTBALANCE=0,\"N/A\",V_BOTTBALANCE)","v":{"$error":"#N/A"}}]
[{"$f":"IF(ModelNo=B1326,12,\"\")","v":""},"1730","Egress Opening Width",{"$f":"IF(ISERROR(EW),\"N/A\",EW)","v":"N/A"}]
[{"$f":"IF(ModelNo=B1327,13,\"\")","v":""},"1730","Egress Opening Height",{"$f":"IF(ISERROR(VEH),\"N/A\",VEH)","v":"N/A"}]
[{"$f":"IF(ModelNo=B1328,14,\"\")","v":""},"1730","Egress Opening Area (sq.ft.)",{"$f":"IF(ISERROR(VEO),\"N/A\",VEO)","v":"N/A"}]
[{"$f":"IF(ModelNo=B1329,1,\"\")","v":""},"1900","Bottom Sash Width",{"$f":"TRUNC((Frame_Width-2.1875)*32+0.5)/32","v":-2.15625}]
[{"$f":"IF(ModelNo=B1330,2,\"\")","v":""},"1900","Bottom Sash Height",{"$f":"TRUNC(((CDIM_1900-0.844)*16+0.5))/16","v":-0.8125}]
[{"$f":"IF(ModelNo=B1331,3,\"\")","v":""},"1900","Bottom Glass Width",{"$f":"TRUNC((D1329-1.3125)*32+0.5)/32","v":-3.4375}]
[{"$f":"IF(ModelNo=B1332,4,\"\")","v":""},"1900","Bottom Glass Height",{"$f":"TRUNC((D1330-1.3125)*32+0.5)/32","v":-2.09375}]
[{"$f":"IF(ModelNo=B1333,5,\"\")","v":""},"1900","Top Glass Width",{"$f":"TRUNC((Frame_Width-3.5)*32+0.5)/32","v":-3.46875}]
[{"$f":"IF(ModelNo=B1334,6,\"\")","v":""},"1900","Top Glass Height",{"$f":"TRUNC((DDIM_1900-2.157)*32+0.5)/32","v":-2.125}]
[{"$f":"IF(ModelNo=B1335,7,\"\")","v":""},"1900","Astragal Length",{"$f":"Frame_Width-2.875","v":-2.875}]
[{"$f":"IF(ModelNo=B1336,8,\"\")","v":""},"1900","Screen Width",{"$f":"Frame_Width-3.3125","v":-3.3125}]
[{"$f":"IF(ModelNo=B1337,9,\"\")","v":""},"1900","Screen Height",{"$f":"TRUNC((CDIM_1900-1.625)*16+0.5)/16-0.0625","v":-1.625}]
[{"$f":"IF(ModelNo=B1338,10,\"\")","v":""},"1900","Bottom Sash Weight",{"$f":"IF(ISERROR(BTM_WGT&\" \"&\"lb\"),\"N/A\",BTM_WGT&\" \"&\"lb\")","v":"N/A"}]
[{"$f":"IF(ModelNo=B1339,11,\"\")","v":""},"1900","Balance Size",{"$f":"IF(V_BOTTBALANCE=0,\"N/A\",V_BOTTBALANCE)","v":{"$error":"#N/A"}}]
[{"$f":"IF(ModelNo=B1340,12,\"\")","v":""},"1900","Egress Opening Width",{"$f":"IF(ISERROR(EW),\"N/A\",EW)","v":"N/A"}]
[{"$f":"IF(ModelNo=B1341,13,\"\")","v":""},"1900","Egress Opening Height",{"$f":"IF(ISERROR(VEH),\"N/A\",VEH)","v":"N/A"}]
[{"$f":"IF(ModelNo=B1342,14,\"\")","v":""},"1900","Egress Opening Area (sq.ft.)",{"$f":"IF(ISERROR(VEO),\"N/A\",VEO)","v":"N/A"}]
[{"$f":"IF(ModelNo=B1343,1,\"\")","v":""},"1902","Sash Width",{"$f":"CDIM_1902-0.6875","v":-0.6875}]
[{"$f":"IF(ModelNo=B1344,2,\"\")","v":""},"1902","Sash Height",{"$f":"Frame_Height-2.1875","v":-2.1875}]
[{"$f":"IF(ModelNo=B1345,3,\"\")","v":""},"1902","Sash Glass Width",{"$f":"D1343-1.375","v":-2.0625}]
[{"$f":"IF(ModelNo=B1346,4,\"\")","v":""},"1902","Sash Glass Height",{"$f":"D1344-1.3125","v":-3.5}]
[{"$f":"IF(ModelNo=B1347,5,\"\")","v":""},"1902","Fixed Glass Width",{"$f":"DDIM_1902-2.0625","v":-2.0625}]
[{"$f":"IF(ModelNo=B1348,6,\"\")","v":""},"1902","Fixed Glass Height",{"$f":"Frame_Height-3.5","v":-3.5}]
[{"$f":"IF(ModelNo=B1349,7,\"\")","v":""},"1902","Astragal Length",{"$f":"Frame_Height-2.875","v":-2.875}]
[{"$f":"IF(ModelNo=B1350,8,\"\")","v":""},"1902","Roller Track Length",{"$f":"Frame_Width-0.75","v":-0.75}]
[{"$f":"IF(ModelNo=B1351,9,\"\")","v":""},"1902","Screen Width",{"$f":"TRUNC((CDIM_1902-2.5625)*16+0.5)/16","v":-2.5}]
[{"$f":"IF(ModelNo=B1352,10,\"\")","v":""},"1902","Screen Height",{"$f":"TRUNC((Frame_Height-3.375)*16+0.5)/16","v":-3.3125}]
[{"$f":"IF(ModelNo=B1353,11,\"\")","v":""},"1902","Egress Opening Width",{"$f":"CDIM_1902-3.75","v":-3.75}]
[{"$f":"IF(ModelNo=B1354,12,\"\")","v":""},"1902","Egress Opening Height",{"$f":"Frame_Height-4.5","v":-4.5}]
[{"$f":"IF(ModelNo=B1355,13,\"\")","v":""},"1902","Egress Opening Area (sq.ft.)",{"$f":"(D1353*D1354)/144","v":0.1171875}]
[{"$f":"IF(ModelNo=B1356,1,\"\")","v":""},"1903","Sash Width",{"$f":"TRUNC((Frame_Width/4+0.219)*16+0.5)/16","v":0.25}]
[{"$f":"IF(ModelNo=B1357,2,\"\")","v":""},"1903","Sash Height",{"$f":"TRUNC((Frame_Height-2.1875)*16+0.5)/16","v":-2.125}]
[{"$f":"IF(ModelNo=B1358,3,\"\")","v":""},"1903","Sash Glass Width",{"$f":"TRUNC((D1356-1.3125)*16+0.5)/16","v":-1}]
[{"$f":"IF(ModelNo=B1359,4,\"\")","v":""},"1903","Sash Glass Height",{"$f":"D1357-1.3125","v":-3.4375}]
[{"$f":"IF(ModelNo=B1360,5,\"\")","v":""},"1903","Fixed Glass Width",{"$f":"TRUNC((Frame_Width/2-2.219)*16+0.5)/16","v":-2.1875}]
[{"$f":"IF(ModelNo=B1361,6,\"\")","v":""},"1903","Fixed Glass Height",{"$f":"TRUNC((Frame_Height-3.5)*16+0.5)/16","v":-3.4375}]
[{"$f":"IF(ModelNo=B1362,7,\"\")","v":""},"1903","Astragal Length",{"$f":"Frame_Height-2.875","v":-2.875}]
[{"$f":"IF(ModelNo=B1363,8,\"\")","v":""},"1903","Roller Track Length",{"$f":"Frame_Width-0.75","v":-0.75}]
[{"$f":"IF(ModelNo=B1364,9,\"\")","v":""},"1903","Screen Width",{"$f":"TRUNC((Frame_Width/4-1.6875)*16+0.5)/16","v":-1.625}]
[{"$f":"IF(ModelNo=B1365,10,\"\")","v":""},"1903","Screen Height",{"$f":"Frame_Height-3.375","v":-3.375}]
[{"$f":"IF(ModelNo=B1366,11,\"\")","v":""},"1903","Egress Opening Width",{"$f":"(Frame_Width/4)-3.25","v":-3.25}]
[{"$f":"IF(ModelNo=B1367,12,\"\")","v":""},"1903","Egress Opening Height",{"$f":"Frame_Height-4.5","v":-4.5}]
[{"$f":"IF(ModelNo=B1368,13,\"\")","v":""},"1903","Egress Opening Area (sq.ft.)",{"$f":"(D1366*D1367)/144","v":0.1015625}]
[{"$f":"IF(ModelNo=B1369,1,\"\")","v":""},"1909","Sash Width",{"$f":"TRUNC((Frame_Width/3-0.188)*16+0.5)/16","v":-0.125}]
[{"$f":"IF(ModelNo=B1370,2,\"\")","v":""},"1909","Sash Height",{"$f":"TRUNC((Frame_Height-2.1875)*16+0.5)/16","v":-2.125}]
[{"$f":"IF(ModelNo=B1371,3,\"\")","v":""},"1909","Sash Glass Width",{"$f":"TRUNC((Frame_Width/3-1.5)*16+0.5)/16","v":-1.4375}]
[{"$f":"IF(ModelNo=B1372,4,\"\")","v":""},"1909","Sash Glass Height",{"$f":"D1370-1.3125","v":-3.4375}]
[{"$f":"IF(ModelNo=B1373,5,\"\")","v":""},"1909","Fixed Glass Width",{"$f":"TRUNC((Frame_Width/3-1.5)*16+0.5)/16","v":-1.4375}]
[{"$f":"IF(ModelNo=B1374,6,\"\")","v":""},"1909","Fixed Glass Height",{"$f":"TRUNC((Frame_Height-3.5)*16+0.5)/16","v":-3.4375}]
[{"$f":"IF(ModelNo=B1375,7,\"\")","v":""},"1909","Astragal Length",{"$f":"Frame_Height-2.875","v":-2.875}]
[{"$f":"IF(ModelNo=B1376,8,\"\")","v":""},"1909","Roller Track Length",{"$f":"Frame_Width-0.75","v":-0.75}]
[{"$f":"IF(ModelNo=B1377,9,\"\")","v":""},"1909","Screen Width",{"$f":"TRUNC((Frame_Width/3-2.0625)*16+0.5)/16","v":-2}]
[{"$f":"IF(ModelNo=B1378,10,\"\")","v":""},"1909","Screen Height",{"$f":"Frame_Height-3.375","v":-3.375}]
[{"$f":"IF(ModelNo=B1379,11,\"\")","v":""},"1909","Egress Opening Width",{"$f":"(Frame_Width/3)-2.875","v":-2.875}]
[{"$f":"IF(ModelNo=B1380,12,\"\")","v":""},"1909","Egress Opening Height",{"$f":"Frame_Height-4.5","v":-4.5}]
[{"$f":"IF(ModelNo=B1381,13,\"\")","v":""},"1909","Egress Opening Area (sq.ft.)",{"$f":"(D1379*D1380)/144","v":8.984375E-2}]
[{"$f":"IF(ModelNo=B1382,1,\"\")","v":""},"1904","Glass Width",{"$f":"Frame_Width-3.5","v":-3.5}]
[{"$f":"IF(ModelNo=B1383,2,\"\")","v":""},"1904","Glass Height",{"$f":"Frame_Height-3.5","v":-3.5}]
[{"$f":"IF(ModelNo=B1384,3,\"\")","v":""},"1904","Glass Area (sq.ft.)",{"$f":"(D1382*D1383)/144","v":8.5069444444444448E-2}]
[{"$f":"IF(ModelNo=B1385,1,\"\")","v":""},"1920","Bottom Sash Width",{"$f":"TRUNC((Frame_Width/2-2.4375)*32+0.5)/32","v":-2.40625}]
[{"$f":"IF(ModelNo=B1386,2,\"\")","v":""},"1920","Bottom Sash Height",{"$f":"TRUNC(((CDIM_1920-0.8441)*16+0.5))/16","v":-0.8125}]
[{"$f":"IF(ModelNo=B1387,3,\"\")","v":""},"1920","Bottom Glass Width",{"$f":"TRUNC((D1385-1.3125)*32+0.5)/32","v":-3.6875}]
[{"$f":"IF(ModelNo=B1388,4,\"\")","v":""},"1920","Bottom Glass Height",{"$f":"TRUNC((D1386-1.3125)*32+0.5)/32","v":-2.09375}]
[{"$f":"IF(ModelNo=B1389,5,\"\")","v":""},"1920","Top Glass Width",{"$f":"TRUNC((Frame_Width/2-3.75)*32+0.5)/32","v":-3.71875}]
[{"$f":"IF(ModelNo=B1390,6,\"\")","v":""},"1920","Top Glass Height",{"$f":"TRUNC((DDIM_1920-2.156)*32+0.5)/32","v":-2.125}]
[{"$f":"IF(ModelNo=B1391,7,\"\")","v":""},"1920","Astragal Length",{"$f":"Frame_Width/2-3.125","v":-3.125}]
[{"$f":"IF(ModelNo=B1392,8,\"\")","v":""},"1920","Screen Width",{"$f":"Frame_Width/2-3.5625","v":-3.5625}]
[{"$f":"IF(ModelNo=B1393,9,\"\")","v":""},"1920","Screen Height",{"$f":"TRUNC((CDIM_1920-1.625)*16+0.5)/16","v":-1.5625}]
[{"$f":"IF(ModelNo=B1394,10,\"\")","v":""},"1920","Bottom Sash Weight",{"$f":"IF(ISERROR(BTM_WGT&\" \"&\"lb\"),\"N/A\",BTM_WGT&\" \"&\"lb\")","v":"N/A"}]
[{"$f":"IF(ModelNo=B1395,11,\"\")","v":""},"1920","Balance Size",{"$f":"IF(V_BOTTBALANCE=0,\"N/A\",V_BOTTBALANCE)","v":{"$error":"#N/A"}}]
[{"$f":"IF(ModelNo=B1396,12,\"\")","v":""},"1920","Egress Opening Width",{"$f":"IF(ISERROR(EW),\"N/A\",EW)","v":"N/A"}]
[{"$f":"IF(ModelNo=B1397,13,\"\")","v":""},"1920","Egress Opening Height",{"$f":"IF(ISERROR(VEH),\"N/A\",VEH)","v":"N/A"}]
[{"$f":"IF(ModelNo=B1398,14,\"\")","v":""},"1920","Egress Opening Area (sq.ft.)",{"$f":"IF(ISERROR(VEO),\"N/A\",VEO)","v":"N/A"}]
[{"$f":"IF(ModelNo=B1399,1,\"\")","v":""},"1930","Bottom Sash Width",{"$f":"TRUNC((Frame_Width/3-2.53125)*32+0.5)/32","v":-2.5}]
[{"$f":"IF(ModelNo=B1400,2,\"\")","v":""},"1930","Bottom Sash Height",{"$f":"TRUNC(((CDIM_1930-0.8441)*16+0.5))/16","v":-0.8125}]
[{"$f":"IF(ModelNo=B1401,3,\"\")","v":""},"1930","Bottom Glass Width",{"$f":"TRUNC((D1399-1.3125)*32+0.5)/32","v":-3.78125}]
[{"$f":"IF(ModelNo=B1402,4,\"\")","v":""},"1930","Bottom Glass Height",{"$f":"TRUNC((D1400-1.3125)*32+0.5)/32","v":-2.09375}]
[{"$f":"IF(ModelNo=B1403,5,\"\")","v":""},"1930","Top Glass Width",{"$f":"TRUNC((Frame_Width/3-3.844)*32+0.5)/32","v":-3.8125}]
[{"$f":"IF(ModelNo=B1404,6,\"\")","v":""},"1930","Top Glass Height",{"$f":"TRUNC((DDIM_1930-2.156)*32+0.5)/32","v":-2.125}]
[{"$f":"IF(ModelNo=B1405,7,\"\")","v":""},"1930","Astragal Length",{"$f":"TRUNC((Frame_Width/3-3.219)*16+0.5)/16","v":-3.1875}]
[{"$f":"IF(ModelNo=B1406,8,\"\")","v":""},"1930","Screen Width",{"$f":"TRUNC((Frame_Width/3-3.6875)*16+0.5)/16","v":-3.625}]
[{"$f":"IF(ModelNo=B1407,9,\"\")","v":""},"1930","Screen Height",{"$f":"TRUNC((CDIM_1930-1.625)*16+0.5)/16","v":-1.5625}]
[{"$f":"IF(ModelNo=B1408,10,\"\")","v":""},"1930","Bottom Sash Weight",{"$f":"IF(ISERROR(BTM_WGT&\" \"&\"lb\"),\"N/A\",BTM_WGT&\" \"&\"lb\")","v":"N/A"}]
[{"$f":"IF(ModelNo=B1409,11,\"\")","v":""},"1930","Balance Size",{"$f":"IF(V_BOTTBALANCE=0,\"N/A\",V_BOTTBALANCE)","v":{"$error":"#N/A"}}]
[{"$f":"IF(ModelNo=B1410,12,\"\")","v":""},"1930","Egress Opening Width",{"$f":"IF(ISERROR(EW),\"N/A\",EW)","v":"N/A"}]
[{"$f":"IF(ModelNo=B1411,13,\"\")","v":""},"1930","Egress Opening Height",{"$f":"IF(ISERROR(VEH),\"N/A\",VEH)","v":"N/A"}]
[{"$f":"IF(ModelNo=B1412,14,\"\")","v":""},"1930","Egress Opening Area (sq.ft.)",{"$f":"IF(ISERROR(VEO),\"N/A\",VEO)","v":"N/A"}]
[{"$f":"IF(ModelNo=B1413,1,\"\")","v":""},"1901","Top Sash Width",{"$f":"Frame_Width-3.4375","v":-3.4375}]
[{"$f":"IF(ModelNo=B1414,2,\"\")","v":""},"1901","Top Sash Height",{"$f":"DDIM_1901-0.90625","v":-0.90625}]
[{"$f":"IF(ModelNo=B1415,3,\"\")","v":""},"1901","Bottom Sash Width",{"$f":"Frame_Width-2.1875","v":-2.1875}]
[{"$f":"IF(ModelNo=B1416,4,\"\")","v":""},"1901","Bottom Sash Height",{"$f":"CDIM_1901-0.90625","v":-0.90625}]
[{"$f":"IF(ModelNo=B1417,5,\"\")","v":""},"1901","Top Glass Width",{"$f":"D1413-1.3125","v":-4.75}]
[{"$f":"IF(ModelNo=B1418,6,\"\")","v":""},"1901","Top Glass Height",{"$f":"D1414-1.3125","v":-2.21875}]
[{"$f":"IF(ModelNo=B1419,7,\"\")","v":""},"1901","Bottom Glass Width",{"$f":"D1415-1.3125","v":-3.5}]
[{"$f":"IF(ModelNo=B1420,8,\"\")","v":""},"1901","Bottom Glass Height",{"$f":"D1416-1.3125","v":-2.21875}]
[{"$f":"IF(ModelNo=B1421,9,\"\")","v":""},"1901","Screen Width",{"$f":"Frame_Width-3.875","v":-3.875}]
[{"$f":"IF(ModelNo=B1422,10,\"\")","v":""},"1901","Screen Height",{"$f":"IF(Screen=\"F\",Frame_Height-3,CDIM_1901-1.0625)","v":-1.0625}]
[{"$f":"IF(ModelNo=B1423,11,\"\")","v":""},"1901","Top Sash Weight (Plus 3 lb)",{"$f":"IF(ISERROR(TOP_WGT&\" \"&\"lb\"),\"N/A\",TOP_WGT&\" \"&\"lb\")","v":"N/A"}]
[{"$f":"IF(ModelNo=B1424,12,\"\")","v":""},"1901","Top Balance Size",{"$f":"IF(V_TOPBALANCE=0,\"N/A\",V_TOPBALANCE)","v":{"$error":"#N/A"}}]
[{"$f":"IF(ModelNo=B1425,13,\"\")","v":""},"1901","Bottom Sash Weight",{"$f":"IF(ISERROR(BTM_WGT&\" \"&\"lb\"),\"N/A\",BTM_WGT&\" \"&\"lb\")","v":"N/A"}]
[{"$f":"IF(ModelNo=B1426,14,\"\")","v":""},"1901","Bottom Balance Size",{"$f":"IF(V_BOTTBALANCE=0,\"N/A\",V_BOTTBALANCE)","v":{"$error":"#N/A"}}]
[{"$f":"IF(ModelNo=B1427,15,\"\")","v":""},"1901","Egress Opening Width",{"$f":"IF(ISERROR(EW),\"N/A\",EW)","v":"N/A"}]
[{"$f":"IF(ModelNo=B1428,16,\"\")","v":""},"1901","Egress Opening Height",{"$f":"IF(ISERROR(VEH),\"N/A\",VEH)","v":"N/A"}]
[{"$f":"IF(ModelNo=B1429,17,\"\")","v":""},"1901","Egress Opening Area (sq.ft.)",{"$f":"IF(ISERROR(VEO),\"N/A\",VEO)","v":"N/A"}]
[{"$f":"IF(ModelNo=B1430,1,\"\")","v":""},"1921","Top Sash Width",{"$f":"Frame_Width/2-3.6875","v":-3.6875}]
[{"$f":"IF(ModelNo=B1431,2,\"\")","v":""},"1921","Top Sash Height",{"$f":"DDIM_1921-0.90625","v":-0.90625}]
[{"$f":"IF(ModelNo=B1432,3,\"\")","v":""},"1921","Bottom Sash Width",{"$f":"Frame_Width/2-2.4375","v":-2.4375}]
[{"$f":"IF(ModelNo=B1433,4,\"\")","v":""},"1921","Bottom Sash Height",{"$f":"CDIM_1921-0.90625","v":-0.90625}]
[{"$f":"IF(ModelNo=B1434,5,\"\")","v":""},"1921","Top Glass Width",{"$f":"D1430-1.3125","v":-5}]
[{"$f":"IF(ModelNo=B1435,6,\"\")","v":""},"1921","Top Glass Height",{"$f":"D1431-1.3125","v":-2.21875}]
[{"$f":"IF(ModelNo=B1436,7,\"\")","v":""},"1921","Bottom Glass Width",{"$f":"D1432-1.3125","v":-3.75}]
[{"$f":"IF(ModelNo=B1437,8,\"\")","v":""},"1921","Bottom Glass Height",{"$f":"D1433-1.3125","v":-2.21875}]
[{"$f":"IF(ModelNo=B1438,9,\"\")","v":""},"1921","Screen Width",{"$f":"Frame_Width/2-4.125","v":-4.125}]
[{"$f":"IF(ModelNo=B1439,10,\"\")","v":""},"1921","Screen Height",{"$f":"IF(Screen=\"F\",Frame_Height-3,CDIM_1901-1.0625)","v":-1.0625}]
[{"$f":"IF(ModelNo=B1440,11,\"\")","v":""},"1921","Top Sash Weight (Plus 3 lb)",{"$f":"IF(ISERROR(TOP_WGT&\" \"&\"lb\"),\"N/A\",TOP_WGT&\" \"&\"lb\")","v":"N/A"}]
[{"$f":"IF(ModelNo=B1441,12,\"\")","v":""},"1921","Top Balance Size",{"$f":"IF(V_TOPBALANCE=0,\"N/A\",V_TOPBALANCE)","v":{"$error":"#N/A"}}]
[{"$f":"IF(ModelNo=B1442,13,\"\")","v":""},"1921","Bottom Sash Weight",{"$f":"IF(ISERROR(BTM_WGT&\" \"&\"lb\"),\"N/A\",BTM_WGT&\" \"&\"lb\")","v":"N/A"}]
[{"$f":"IF(ModelNo=B1443,14,\"\")","v":""},"1921","Bottom Balance Size",{"$f":"IF(V_BOTTBALANCE=0,\"N/A\",V_BOTTBALANCE)","v":{"$error":"#N/A"}}]
[{"$f":"IF(ModelNo=B1444,15,\"\")","v":""},"1921","Egress Opening Width",{"$f":"IF(ISERROR(EW),\"N/A\",EW)","v":"N/A"}]
[{"$f":"IF(ModelNo=B1445,16,\"\")","v":""},"1921","Egress Opening Height",{"$f":"IF(ISERROR(VEH),\"N/A\",VEH)","v":"N/A"}]
[{"$f":"IF(ModelNo=B1446,17,\"\")","v":""},"1921","Egress Opening Area (sq.ft.)",{"$f":"IF(ISERROR(VEO),\"N/A\",VEO)","v":"N/A"}]
[{"$f":"IF(ModelNo=B1447,1,\"\")","v":""},"1931","Top Sash Width",{"$f":"Frame_Width/3-3.75","v":-3.75}]
[{"$f":"IF(ModelNo=B1448,2,\"\")","v":""},"1931","Top Sash Height",{"$f":"DDIM_1901-0.90625","v":-0.90625}]
[{"$f":"IF(ModelNo=B1449,3,\"\")","v":""},"1931","Bottom Sash Width",{"$f":"Frame_Width/3-2.5","v":-2.5}]
[{"$f":"IF(ModelNo=B1450,4,\"\")","v":""},"1931","Bottom Sash Height",{"$f":"CDIM_1901-0.90625","v":-0.90625}]
[{"$f":"IF(ModelNo=B1451,5,\"\")","v":""},"1931","Top Glass Width",{"$f":"D1447-1.3125","v":-5.0625}]
[{"$f":"IF(ModelNo=B1452,6,\"\")","v":""},"1931","Top Glass Height",{"$f":"D1448-1.3125","v":-2.21875}]
[{"$f":"IF(ModelNo=B1453,7,\"\")","v":""},"1931","Bottom Glass Width",{"$f":"D1449-1.3125","v":-3.8125}]
[{"$f":"IF(ModelNo=B1454,8,\"\")","v":""},"1931","Bottom Glass Height",{"$f":"D1450-1.3125","v":-2.21875}]
[{"$f":"IF(ModelNo=B1455,9,\"\")","v":""},"1931","Screen Width",{"$f":"Frame_Width/3-4.1875","v":-4.1875}]
[{"$f":"IF(ModelNo=B1456,10,\"\")","v":""},"1931","Screen Height",{"$f":"IF(Screen=\"F\",Frame_Height-3,CDIM_1901-1.0625)","v":-1.0625}]
[{"$f":"IF(ModelNo=B1457,11,\"\")","v":""},"1931","Top Sash Weight (Plus 3 lb)",{"$f":"IF(ISERROR(TOP_WGT&\" \"&\"lb\"),\"N/A\",TOP_WGT&\" \"&\"lb\")","v":"N/A"}]
[{"$f":"IF(ModelNo=B1458,12,\"\")","v":""},"1931","Top Balance Size",{"$f":"IF(V_TOPBALANCE=0,\"N/A\",V_TOPBALANCE)","v":{"$error":"#N/A"}}]
[{"$f":"IF(ModelNo=B1459,13,\"\")","v":""},"1931","Bottom Sash Weight",{"$f":"IF(ISERROR(BTM_WGT&\" \"&\"lb\"),\"N/A\",BTM_WGT&\" \"&\"lb\")","v":"N/A"}]
[{"$f":"IF(ModelNo=B1460,14,\"\")","v":""},"1931","Bottom Balance Size",{"$f":"IF(V_BOTTBALANCE=0,\"N/A\",V_BOTTBALANCE)","v":{"$error":"#N/A"}}]
[{"$f":"IF(ModelNo=B1461,15,\"\")","v":""},"1931","Egress Opening Width",{"$f":"IF(ISERROR(EW),\"N/A\",EW)","v":"N/A"}]
[{"$f":"IF(ModelNo=B1462,16,\"\")","v":""},"1931","Egress Opening Height",{"$f":"IF(ISERROR(VEH),\"N/A\",VEH)","v":"N/A"}]
[{"$f":"IF(ModelNo=B1463,17,\"\")","v":""},"1931","Egress Opening Area (sq.ft.)",{"$f":"IF(ISERROR(VEO),\"N/A\",VEO)","v":"N/A"}]
[{"$f":"IF(ModelNo=B1464,1,\"\")","v":""},"1914","Glass Width",{"$f":"Frame_Width-3.5","v":-3.5}]
[{"$f":"IF(ModelNo=B1465,2,\"\")","v":""},"1914","Glass Height",{"$f":"Frame_Height-3.5","v":-3.5}]
[{"$f":"IF(ModelNo=B1466,3,\"\")","v":""},"1914","Glass Area (sq.ft.)",{"$f":"(D1464*D1465)/144","v":8.5069444444444448E-2}]